Workbook

Sheet รายงาน
A1: องค์การบริหารส่วนตำบลคันธุลี
A2: รายละเอียดผู้ชำระภาษี (กค.1) ปี พ.ศ. 2559
A4: ที่ | B4: รหัสชื่อ | C4: หมายเลขบัตรประจำตัวประชาชนผู้เสียภาษี | D4: ชื่อ - สกุล | E4: ภาษีโรงเรือน และที่ดิน | G4: ภาษีบำรุงท้องที่ | I4: ภาษีป้าย | K4: หมายเหตุ
E5: จำนวน | F5: เพิ่ม ลด | G5: จำนวน | H5: เพิ่ม ลด | I5: จำนวน | J5: เพิ่ม ลด
A6: 1 | B6: PO00002307 | C6: 3840200007367 | D6: ดาบตำรวจ จเร โสมแก้ว | E6: 0 | G6: 30 | I6: 0
A7: 2 | B7: PO00003936 | D7: เด็กชาย นันทวัฒน์ สุวรรณ | E7: 0 | G7: 70 | I7: 0
A8: 3 | B8: PO00003935 | D8: เด็กหญิง ณัฐฑิกา สุวรรณ | E8: 0 | G8: 60 | I8: 0
A9: 4 | B9: PO00004346 | C9: 1909800868127 | D9: เด็กหญิง ธัญกานต์ เฉลิมพนาพันธ์ | E9: 0 | G9: 427 | I9: 0
A10: 5 | B10: PO00003956 | C10: 3840700138142 | D10: นาง กชกานต์ ราชฉวาง | E10: 0 | G10: 67 | I10: 0
A11: 6 | B11: PO00004747 | C11: 3800400871375 | D11: นาง กชพรรณ ตั้งธัญวุฒิ | E11: 0 | G11: 261 | I11: 0
A12: 7 | B12: PO00000368 | C12: 3840700139769 | D12: นาง กรกนก แก้วขวัญ | E12: 0 | G12: 102 | I12: 0
A13: 8 | B13: PO00004477 | C13: 3841700400841 | D13: นาง กรณิการ์ มหามาตย์ | E13: 189 | G13: 0 | I13: 0
A14: 9 | B14: PO00001482 | C14: 3840700123901 | D14: นาง กรรณิการ์ นาคขำ | E14: 0 | G14: 163 | I14: 0
A15: 10 | B15: PO00001545 | C15: 3849900013244 | D15: นาง กรองแก้ว ภิญโญ | E15: 0 | G15: 170 | I15: 0
A16: 11 | B16: PO00004232 | C16: 3860500019930 | D16: นาง กฤษณา หนูทอง | E16: 0 | G16: 75 | I16: 0
A17: 12 | B17: PO00001341 | C17: 3840700288187 | D17: นาง กลิ่น แรงเขตการ | E17: 0 | G17: 105 | I17: 0
A18: 13 | B18: PO00004185 | C18: 3840700108740 | D18: นาง กัญญา ดวงแป้น | E18: 0 | G18: 74 | I18: 0
A19: 14 | B19: PO00000730 | D19: นาง กัญญา สิรินิลกุล | E19: 0 | G19: 219 | I19: 0
A20: 15 | B20: PO00002641 | C20: 3840700104183 | D20: นาง กัญญา สุวรรณวงศ์ | E20: 0 | G20: 61 | I20: 0
A21: 16 | B21: PO00001946 | C21: 3840700114758 | D21: นาง กัญหา รอดเกิด | E21: 0 | G21: 56 | I21: 0
A22: 17 | B22: PO00002923 | C22: 3860500031344 | D22: นาง กันยา ราษฏร์เจริญ | E22: 0 | G22: 319 | I22: 0
A23: 18 | B23: PO00002755 | C23: 3860500047712 | D23: นาง กันยารัตน์ คชสีห์ | E23: 0 | G23: 212 | I23: 0
A24: 19 | B24: PO00004777 | D24: นาง กัลยา ตั้งพิทักษ์กุล | E24: 0 | G24: 96 | I24: 0
A25: 20 | B25: PO00003947 | C25: 3840700079359 | D25: นาง กัลยา สวัสดิ์วิจิตรกุล | E25: 0 | G25: 135 | I25: 0
A26: 21 | B26: PO00000365 | C26: 3849900101593 | D26: นาง กาญจนา นิยมวัฒนพันธ์ | E26: 0 | G26: 46 | I26: 0
A27: 22 | B27: PO00001569 | C27: 3840700158054 | D27: นาง กาญจนา สมสุวรรณ | E27: 0 | G27: 107 | I27: 0
A28: 23 | B28: PO00001290 | C28: 3840700148105 | D28: นาง กิ้ม พรหมทอง | E28: 0 | G28: 9 | I28: 0
A29: 24 | B29: PO00001412 | C29: 3840700115142 | D29: นาง กิ้มข้อง บุญชุม | E29: 0 | G29: 28 | I29: 0
A30: 25 | B30: PO00001389 | C30: 3840700115584 | D30: นาง กิ้มซ้าน ชูเลข | E30: 0 | G30: 44 | I30: 0
A31: 26 | B31: PO00000531 | C31: 3840700117846 | D31: นาง กิ้มห้อง แซ่อ่าง | E31: 0 | G31: 128 | I31: 0
A32: 27 | B32: PO00001160 | C32: 3840700117854 | D32: นาง กิ้มให้ แซ่อ่าง | E32: 0 | G32: 19 | I32: 0
A33: 28 | B33: PO00001036 | C33: 3840700099686 | D33: นาง กิมอยู่ แสงสุข | E33: 0 | G33: 317 | I33: 0
A34: 29 | B34: PO00002651 | C34: 3860400225171 | D34: นาง กี่เหื้อง เอื้อพัฒนพงศ์ | E34: 0 | G34: 96 | I34: 0
A35: 30 | B35: PO00001236 | D35: นาง เกต ขำสุวรรณ | E35: 0 | G35: 65 | I35: 0
A36: 31 | B36: PO00001384 | C36: 3840700116793 | D36: นาง เกลื่อน อินแป้น | E36: 0 | G36: 149 | I36: 0
A37: 32 | B37: PO00004303 | D37: นาง เกศกมล จุเส้ง | E37: 0 | G37: 75 | I37: 0
A38: 33 | B38: PO00000536 | C38: 3840700140821 | D38: นาง เกศรี จันทร์ดำ | E38: 0 | G38: 14 | I38: 0
A39: 34 | B39: PO00001895 | C39: 3840700133710 | D39: นาง เกศรี สงคงคา | E39: 0 | G39: 156 | I39: 0
A40: 35 | B40: PO00001137 | C40: 3840700114057 | D40: นาง เกศสุดา สิงห์คราช | E40: 0 | G40: 30 | I40: 0
A41: 36 | B41: PO00000565 | C41: 3840700131229 | D41: นาง เกษร เขียวสม | E41: 0 | G41: 96 | I41: 0
...

Sheet ปะหน้า
A1: องค์การบริหารส่วนตำบลคันธุลี
A2: สรุปผู้ชำระภาษี (กค.1) ปี พ.ศ. 2558
A5: ภาษี | B5: จำนวนราย | C5: จำนวนเงิน
A6: ภาษีบำรุงท้องที่ | B6: 2406 | C6: 334863
A7: ภาษีโรงเรือนและที่ดิน | B7: 158 | C7: 584410
A8: ภาษีป้าย | B8: 49 | C8: 54864

Sheet รายละเอียดบำรุง
A1: หมู่ ที่ดิน | B1: เลขสำรวจปี49 | C1: เลขสำรวจปี53 | D1: ลูกหนี้ | E1: รหัส | F1: บัตรประชาชน | G1: คำนำ | H1: ชื่อ | I1: สกุล | J1: ที่อยู่ | K1: เลขที่,ถนน | L1: หมู่ | M1: ตำบล | N1: อำเภอ | O1: จังหวัด | P1: รหัสไปรษณีย์ | Q1: ภาษี 49 | R1: ภาษี 50 | S1: ภาษี 51 | T1: ภาษี 52 | U1: ภาษี 53 | V1: ภาษี 54 | W1: ภาษี 55 | X1: ภาษี 56 | Y1: ภาษี 57 | Z1: ภาษี 58 | AA1: รวม | AB1: หมายเหตุ | AC1: บันทึกขอยกเลิก | AD1: รวมชื่อ
A2: 01 | C2: 001 | E2: PO00001995 | F2: 0 | G2: นาย | H2: สาธก | I2: วรศะริน | J2: =K2&" "&L2&" "&M2&" "&N2&" "&O2 -> 109/4 ซ.แข็งขัน 2 ถ.พหลโยธิน 64 ม. 11 ต. คูคต อ. ลำลูกกา จ. ปทุมธานี | K2: 109/4 ซ.แข็งขัน 2 ถ.พหลโยธิน 64 | L2: ม. 11 | M2: ต. คูคต | N2: อ. ลำลูกกา | O2: จ. ปทุมธานี | P2: 12130 | Z2: 107 | AA2: =SUM(Q2:Z2) -> 107 | AD2: =G2&" "&H2&" "&I2 -> นาย สาธก วรศะริน
A3: 01 | C3: 002 | E3: PO00004576 | F3: 3840700100412 | G3: นาง | H3: จันทรา | I3: นุ่นบุญคง | J3: =K3&" "&L3&" "&M3&" "&N3&" "&O3 -> 64 ม. 2 ต. ละแม อ. ละแม จ. ชุมพร | K3: 64 | L3: ม. 2 | M3: ต. ละแม | N3: อ. ละแม | O3: จ. ชุมพร | P3: 86170 | Z3: 26 | AA3: =SUM(Q3:Z3) -> 26 | AD3: =G3&" "&H3&" "&I3 -> นาง จันทรา นุ่นบุญคง
A4: 01 | B4: 34/49 | C4: 003 | E4: PO00000219 | F4: 3102000128061 | G4: นาย | H4: สมประสงค์ | I4: ภู่ศิลป์ | J4: =K4&" "&L4&" "&M4&" "&N4&" "&O4 -> 113/1 ถ.พระราม 6 ซ.15(วัดบรมนิวาส) ม. - แขวง รองเมือง เขต ปทุมวัน จ. กรุงเทพมหานคร | K4: 113/1 ถ.พระราม 6 ซ.15(วัดบรมนิวาส) | L4: ม. - | M4: แขวง รองเมือง | N4: เขต ปทุมวัน | O4: จ. กรุงเทพมหานคร | P4: 10110 | Z4: 476 | AA4: =SUM(Q4:Z4) -> 476 | AD4: =G4&" "&H4&" "&I4 -> นาย สมประสงค์ ภู่ศิลป์
A5: 01 | C5: 004 | E5: PO00004103 | F5: 1809900030541 | G5: นางสาว | H5: มนกันต์ | I5: ถิ่นนคร | J5: =K5&" "&L5&" "&M5&" "&N5&" "&O5 -> 8/3 ถ.ชลวิถี ม. - ต. ในเมือง อ. เมืองนครศรีธรรมราช จ. นครศรีธรรมราช | K5: 8/3 ถ.ชลวิถี | L5: ม. - | M5: ต. ในเมือง | N5: อ. เมืองนครศรีธรรมราช | O5: จ. นครศรีธรรมราช | P5: 80000 | Z5: 170 | AA5: =SUM(Q5:Z5) -> 170 | AD5: =G5&" "&H5&" "&I5 -> นางสาว มนกันต์ ถิ่นนคร
A6: 01 | B6: 108/49 | C6: 005 | E6: PO00002274 | F6: 3840700098353 | H6: นาง มาลี - นาย สุขชัย สมหา | I6: สมหา | J6: =K6&" "&L6&" "&M6&" "&N6&" "&O6 -> 35 ม. 11 ต. คันธุลี อ. ท่าชนะ จ. สุราษฎร์ธานี | K6: 35 | L6: ม. 11 | M6: ต. คันธุลี | N6: อ. ท่าชนะ | O6: จ. สุราษฎร์ธานี | P6: 84170 | Z6: 152 | AA6: =SUM(Q6:Z6) -> 152 | AD6: =G6&" "&H6&" "&I6 -> นาง มาลี - นาย สุขชัย สมหา สมหา
A7: 01 | B7: 7/49 | C7: 006 | E7: PO00004712 | F7: 5100200240731 | G7: ร.อ. | H7: วรรณโน | I7: กรีมละ | J7: =K7&" "&L7&" "&M7&" "&N7&" "&O7 -> 100/570 ม. 5 ต. บางรักพัฒนา อ. บางบัวทอง จ. นนทบุรี | K7: 100/570 | L7: ม. 5 | M7: ต. บางรักพัฒนา | N7: อ. บางบัวทอง | O7: จ. นนทบุรี | P7: 11110 | Z7: 292 | AA7: =SUM(Q7:Z7) -> 292 | AB7: เดิม นางราตรี กรีมละ โอนปี 57 | AD7: =G7&" "&H7&" "&I7 -> ร.อ. วรรณโน กรีมละ
A8: 01 | B8: 10/49 | C8: 007 | E8: PO00001050 | F8: 3840700101222 | G8: นาง | H8: เลข | I8: สองเมืองสุข | J8: =K8&" "&L8&" "&M8&" "&N8&" "&O8 -> 70 ม. 1 ต. คันธุลี อ. ท่าชนะ จ. สุราษฎร์ธานี | K8: 70 | L8: ม. 1 | M8: ต. คันธุลี | N8: อ. ท่าชนะ | O8: จ. สุราษฎร์ธานี | P8: 84170 | Z8: 42 | AA8: =SUM(Q8:Z8) -> 42 | AD8: =G8&" "&H8&" "&I8 -> นาง เลข สองเมืองสุข
A9: 01 | B9: 11/49 | C9: 008 | E9: PO00000760 | F9: 3840700096342 | G9: นาย | H9: ทุย | I9: อินรงค์ | J9: =K9&" "&L9&" "&M9&" "&N9&" "&O9 -> 18 ม. 1 ต. คันธุลี อ. ท่าชนะ จ. สุราษฎร์ธานี | K9: 18 | L9: ม. 1 | M9: ต. คันธุลี | N9: อ. ท่าชนะ | O9: จ. สุราษฎร์ธานี | P9: 84170 | Z9: 32 | AA9: =SUM(Q9:Z9) -> 32 | AD9: =G9&" "&H9&" "&I9 -> นาย ทุย อินรงค์
A10: 01 | C10: 009 | E10: PO00004104 | F10: 3100601504520 | G10: นางสาว | H10: ปิยาพร | I10: ถาวรเศรษฐ | J10: =K10&" "&L10&" "&M10&" "&N10&" "&O10 -> 7/44 ถ.สวนสยาม ม. - แขวง คันนายาว เขต คันนายาว จ. กรุงเทพมหานคร | K10: 7/44 ถ.สวนสยาม | L10: ม. - | M10: แขวง คันนายาว | N10: เขต คันนายาว | O10: จ. กรุงเทพมหานคร | P10: 10230 | Z10: 159 | AA10: =SUM(Q10:Z10) -> 159 | AD10: =G10&" "&H10&" "&I10 -> นางสาว ปิยาพร ถาวรเศรษฐ
A11: 01 | B11: 14/49 | C11: 010 | E11: PO00000791 | F11: 0 | G11: นางสาว | H11: สุดารัตน์ | I11: จันทรัตน์ | J11: =K11&" "&L11&" "&M11&" "&N11&" "&O11 -> 626 ถ.เพชรเกษม ม. - ต. พระปราโทน อ. เมืองนครปฐม จ. นครปฐม | K11: 626 ถ.เพชรเกษม | L11: ม. - | M11: ต. พระปราโทน | N11: อ. เมืองนครปฐม | O11: จ. นครปฐม | P11: 73000 | Z11: 588 | AA11: =SUM(Q11:Z11) -> 588 | AD11: =G11&" "&H11&" "&I11 -> นางสาว สุดารัตน์ จันทรัตน์
A12: 01 | B12: 15/49 | C12: 011 | E12: PO00000724 | F12: 3840700118460 | G12: นาย | H12: สนาน | I12: จันทรัตน์ | J12: =K12&" "&L12&" "&M12&" "&N12&" "&O12 -> 12 ม. 2 ต. คันธุลี อ. ท่าชนะ จ. สุราษฎร์ธานี | K12: 12 | L12: ม. 2 | M12: ต. คันธุลี | N12: อ. ท่าชนะ | O12: จ. สุราษฎร์ธานี | P12: 84170 | Z12: 219 | AA12: =SUM(Q12:Z12) -> 219 | AD12: =G12&" "&H12&" "&I12 -> นาย สนาน จันทรัตน์
A13: 01 | B13: 16/49 | C13: 012 | D13: R | E13: PO00002052 | F13: 0 | G13: นาง | H13: สรชา | I13: แสงวรรณ์ | J13: =K13&" "&L13&" "&M13&" "&N13&" "&O13 -> 72/173 ม. - แขวง บางบอน เขต บางขุนเทียน จ. กรุงเทพมหานคร | K13: 72/173 | L13: ม. - | M13: แขวง บางบอน | N13: เขต บางขุนเทียน | O13: จ. กรุงเทพมหานคร | P13: 10150 | R13: 49 | S13: 49 | T13: 49 | U13: 49 | V13: 49 | W13: 49 | X13: 49 | Y13: 49 | Z13: 49 | AA13: =SUM(Q13:Z13) -> 441 | AB13: แจ้งว่าขายแล้ว สอบถามจากคุณวันชัย | AD13: =G13&" "&H13&" "&I13 -> นาง สรชา แสงวรรณ์
A14: 01 | C14: 013 | D14: R | E14: PO00002287 | F14: 3860500137568 | G14: นาย | H14: พฤฒิสิทธิ์ | I14: ทิพย์ฤกษ์ | J14: =K14&" "&L14&" "&M14&" "&N14&" "&O14 -> 33 ม. 3 ต. สวนแตง อ. ละแม จ. ชุมพร | K14: 33 | L14: ม. 3 | M14: ต. สวนแตง | N14: อ. ละแม | O14: จ. ชุมพร | P14: 86170 | Z14: 56 | AA14: =SUM(Q14:Z14) -> 56 | AD14: =G14&" "&H14&" "&I14 -> นาย พฤฒิสิทธิ์ ทิพย์ฤกษ์
A15: 01 | B15: 18/49 | C15: 014 | E15: PO00000689 | F15: 3840700105104 | H15: นาง ศิริพร - นาย วีระศักดิ์ สองแก้ว | I15: สองแก้ว | J15: =K15&" "&L15&" "&M15&" "&N15&" "&O15 -> 30 ม. 3 ต. คันธุลี อ. ท่าชนะ จ. สุราษฎร์ธานี | K15: 30 | L15: ม. 3 | M15: ต. คันธุลี | N15: อ. ท่าชนะ | O15: จ. สุราษฎร์ธานี | P15: 84170 | Z15: 103 | AA15: =SUM(Q15:Z15) -> 103 | AD15: =G15&" "&H15&" "&I15 -> นาง ศิริพร - นาย วีระศักดิ์ สองแก้ว สองแก้ว
A16: 01 | B16: 19/49 | C16: 015 | E16: PO00001001 | F16: 3840700100170 | G16: นาย | H16: อ้น | I16: หีตเอี้ยว | J16: =K16&" "&L16&" "&M16&" "&N16&" "&O16 -> 61 ม. 1 ต. คันธุลี อ. ท่าชนะ จ. สุราษฎร์ธานี | K16: 61 | L16: ม. 1 | M16: ต. คันธุลี | N16: อ. ท่าชนะ | O16: จ. สุราษฎร์ธานี | P16: 84170 | Z16: 170 | AA16: =SUM(Q16:Z16) -> 170 | AD16: =G16&" "&H16&" "&I16 -> นาย อ้น หีตเอี้ยว
A17: 01 | C17: 016 | E17: PO00000299 | F17: 3840700096857 | G17: นาง | H17: วรวรรณ | I17: พลายจันทร์ | J17: =K17&" "&L17&" "&M17&" "&N17&" "&O17 -> 118 ม. 1 ต. คันธุลี อ. ท่าชนะ จ. สุราษฎร์ธานี | K17: 118 | L17: ม. 1 | M17: ต. คันธุลี | N17: อ. ท่าชนะ | O17: จ. สุราษฎร์ธานี | P17: 84170 | Z17: 5 | AA17: =SUM(Q17:Z17) -> 5 | AD17: =G17&" "&H17&" "&I17 -> นาง วรวรรณ พลายจันทร์
A18: 01 | B18: 21/49 | C18: 017 | E18: PO00000785 | F18: 3840700096962 | G18: นาย | H18: วารี | I18: ดุลหลัง | J18: =K18&" "&L18&" "&M18&" "&N18&" "&O18 -> 110 ม. 1 ต. คันธุลี อ. ท่าชนะ จ. สุราษฎร์ธานี | K18: 110 | L18: ม. 1 | M18: ต. คันธุลี | N18: อ. ท่าชนะ | O18: จ. สุราษฎร์ธานี | P18: 84170 | Z18: 193 | AA18: =SUM(Q18:Z18) -> 193 | AD18: =G18&" "&H18&" "&I18 -> นาย วารี ดุลหลัง
A19: 01 | B19: 22/49 | C19: 018 | E19: PO00000787 | F19: 3101000059654 | G19: นาย | H19: เจริญ | I19: หนูเสน | J19: =K19&" "&L19&" "&M19&" "&N19&" "&O19 -> 73 ม. 1 ต. คันธุลี อ. ท่าชนะ จ. สุราษฎร์ธานี | K19: 73 | L19: ม. 1 | M19: ต. คันธุลี | N19: อ. ท่าชนะ | O19: จ. สุราษฎร์ธานี | P19: 84170 | Z19: 145 | AA19: =SUM(Q19:Z19) -> 145 | AD19: =G19&" "&H19&" "&I19 -> นาย เจริญ หนูเสน
A20: 01 | B20: 23/49 | C20: 019 | E20: PO00001054 | F20: 3840700096156 | G20: นาง | H20: บัวคลี่ | I20: รสมณี | J20: =K20&" "&L20&" "&M20&" "&N20&" "&O20 -> 119 ม. 1 ต. คันธุลี อ. ท่าชนะ จ. สุราษฎร์ธานี | K20: 119 | L20: ม. 1 | M20: ต. คันธุลี | N20: อ. ท่าชนะ | O20: จ. สุราษฎร์ธานี | P20: 84170 | Z20: 72 | AA20: =SUM(Q20:Z20) -> 72 | AD20: =G20&" "&H20&" "&I20 -> นาง บัวคลี่ รสมณี
A21: 01 | B21: 24/49 | C21: 020 | E21: PO00000243 | F21: 3840700097535 | G21: นาย | H21: วีระ | I21: แท่นนาค | J21: =K21&" "&L21&" "&M21&" "&N21&" "&O21 -> 30/1 ม. 1 ต. คันธุลี อ. ท่าชนะ จ. สุราษฎร์ธานี | K21: 30/1 | L21: ม. 1 | M21: ต. คันธุลี | N21: อ. ท่าชนะ | O21: จ. สุราษฎร์ธานี | P21: 84170 | Z21: 280 | AA21: =SUM(Q21:Z21) -> 280 | AD21: =G21&" "&H21&" "&I21 -> นาย วีระ แท่นนาค
A22: 01 | B22: 25/49 | C22: 021 | E22: PO00001003 | F22: 3100501576944 | G22: นางสาว | H22: งามจิต | I22: ปทุมมาศ | J22: =K22&" "&L22&" "&M22&" "&N22&" "&O22 -> 44/13 ม. 4 แขวง อนุสาวรีย์ เขต บางเขน จ. กรุงเทพมหานคร | K22: 44/13 | L22: ม. 4 | M22: แขวง อนุสาวรีย์ | N22: เขต บางเขน | O22: จ. กรุงเทพมหานคร | P22: 10220 | Z22: 12 | AA22: =SUM(Q22:Z22) -> 12 | AD22: =G22&" "&H22&" "&I22 -> นางสาว งามจิต ปทุมมาศ
A23: 01 | B23: 26/49 | C23: 022 | E23: PO00000778 | F23: 3840700096733 | G23: นาง | H23: ถวิล | I23: ชูณรงค์ | J23: =K23&" "&L23&" "&M23&" "&N23&" "&O23 -> 21/1 ม. 1 ต. คันธุลี อ. ท่าชนะ จ. สุราษฎร์ธานี | K23: 21/1 | L23: ม. 1 | M23: ต. คันธุลี | N23: อ. ท่าชนะ | O23: จ. สุราษฎร์ธานี | P23: 84170 | Z23: 88 | AA23: =SUM(Q23:Z23) -> 88 | AD23: =G23&" "&H23&" "&I23 -> นาง ถวิล ชูณรงค์
A24: 01 | B24: 27/49 | C24: 023 | E24: PO00000386 | F24: 3840700096920 | G24: นาย | H24: อมรรัตน์ | I24: วิชัยดิษฐ์ | J24: =K24&" "&L24&" "&M24&" "&N24&" "&O24 -> 23/1 ม. 1 ต. คันธุลี อ. ท่าชนะ จ. สุราษฎร์ธานี | K24: 23/1 | L24: ม. 1 | M24: ต. คันธุลี | N24: อ. ท่าชนะ | O24: จ. สุราษฎร์ธานี | P24: 84170 | Z24: 261 | AA24: =SUM(Q24:Z24) -> 261 | AD24: =G24&" "&H24&" "&I24 -> นาย อมรรัตน์ วิชัยดิษฐ์
A25: 01 | B25: 29/49 | C25: 024 | E25: PO00004293 | F25: 3840700097080 | G25: นางสาว | H25: ดวงมณี | I25: วงค์เหมือน | J25: =K25&" "&L25&" "&M25&" "&N25&" "&O25 -> 24 ม. 1 ต. คันธุลี อ. ท่าชนะ จ. สุราษฎร์ธานี | K25: 24 | L25: ม. 1 | M25: ต. คันธุลี | N25: อ. ท่าชนะ | O25: จ. สุราษฎร์ธานี | P25: 84170 | Z25: 16 | AA25: =SUM(Q25:Z25) -> 16 | AB25: เดิม นาง ต่วน วงค์เหมือน | AD25: =G25&" "&H25&" "&I25 -> นางสาว ดวงมณี วงค์เหมือน
A26: 01 | B26: 30/49 | C26: 025 | E26: PO00000749 | F26: 3840700097012 | G26: นางสาว | H26: ตาบทิพย์ | I26: วงค์เหมือน | J26: =K26&" "&L26&" "&M26&" "&N26&" "&O26 -> 24 ม. 1 ต. คันธุลี อ. ท่าชนะ จ. สุราษฎร์ธานี | K26: 24 | L26: ม. 1 | M26: ต. คันธุลี | N26: อ. ท่าชนะ | O26: จ. สุราษฎร์ธานี | P26: 84170 | Z26: 58 | AA26: =SUM(Q26:Z26) -> 58 | AD26: =G26&" "&H26&" "&I26 -> นางสาว ตาบทิพย์ วงค์เหมือน
A27: 01 | B27: 31/49 | C27: 026 | E27: PO00004601 | F27: 5200700003401 | G27: นาง | H27: จันทรา | I27: บุญเมือง | J27: =K27&" "&L27&" "&M27&" "&N27&" "&O27 -> 134 ม. 1 ต. คันธุลี อ. ท่าชนะ จ. สุราษฎร์ธานี | K27: 134 | L27: ม. 1 | M27: ต. คันธุลี | N27: อ. ท่าชนะ | O27: จ. สุราษฎร์ธานี | P27: 84170 | Z27: 74 | AA27: =SUM(Q27:Z27) -> 74 | AB27: เดิม นายสุนทร อินแป้น | AD27: =G27&" "&H27&" "&I27 -> นาง จันทรา บุญเมือง
A28: 01 | B28: 32/49 | C28: 027 | E28: PO00000839 | F28: 3840700100072 | H28: นาย ชอบ - นาย สุชาติ - น.ส.กัญญา - น.ส. ภารดี - นาย เฉลิมพล หมุดดำ | I28: หมุดดำ | J28: =K28&" "&L28&" "&M28&" "&N28&" "&O28 -> 59 ม. 1 ต. คันธุลี อ. ท่าชนะ จ. สุราษฎร์ธานี | K28: 59 | L28: ม. 1 | M28: ต. คันธุลี | N28: อ. ท่าชนะ | O28: จ. สุราษฎร์ธานี | P28: 84170 | Z28: 96 | AA28: =SUM(Q28:Z28) -> 96 | AD28: =G28&" "&H28&" "&I28 -> นาย ชอบ - นาย สุชาติ - น.ส.กัญญา - น.ส. ภารดี - นาย เฉลิมพล หมุดดำ หมุดดำ
A29: 01 | B29: 150/49 | C29: 028 | E29: PO00003959 | F29: 3840700122696 | G29: นาง | H29: นิษา | I29: พันธุ์วานิช | J29: =K29&" "&L29&" "&M29&" "&N29&" "&O29 -> 134/2 ม. 3 ต. คันธุลี อ. ท่าชนะ จ. สุราษฎร์ธานี | K29: 134/2 | L29: ม. 3 | M29: ต. คันธุลี | N29: อ. ท่าชนะ | O29: จ. สุราษฎร์ธานี | P29: 84170 | Z29: 12 | AA29: =SUM(Q29:Z29) -> 12 | AD29: =G29&" "&H29&" "&I29 -> นาง นิษา พันธุ์วานิช
A30: 01 | C30: 029 | E30: PO00000767 | F30: 3840700105872 | G30: นาง | H30: บุญช่วย | I30: พรหมหิตาทร | J30: =K30&" "&L30&" "&M30&" "&N30&" "&O30 -> 1/11 ม. 1 ต. คันธุลี อ. ท่าชนะ จ. สุราษฎร์ธานี | K30: 1/11 | L30: ม. 1 | M30: ต. คันธุลี | N30: อ. ท่าชนะ | O30: จ. สุราษฎร์ธานี | P30: 84170 | Z30: 2 | AA30: =SUM(Q30:Z30) -> 2 | AD30: =G30&" "&H30&" "&I30 -> นาง บุญช่วย พรหมหิตาทร
A31: 01 | B31: 35/49 | C31: 030 | E31: PO00000149 | F31: 3840700289345 | G31: นาง | H31: อนุรัตน์ | I31: ทับเนียม | J31: =K31&" "&L31&" "&M31&" "&N31&" "&O31 -> 2 ม. 2 ต. คันธุลี อ. ท่าชนะ จ. สุราษฎร์ธานี | K31: 2 | L31: ม. 2 | M31: ต. คันธุลี | N31: อ. ท่าชนะ | O31: จ. สุราษฎร์ธานี | P31: 84170 | Z31: 75 | AA31: =SUM(Q31:Z31) -> 75 | AD31: =G31&" "&H31&" "&I31 -> นาง อนุรัตน์ ทับเนียม
A32: 01 | B32: 36/49 | C32: 031 | E32: PO00000786 | F32: 3840700097845 | G32: นาย | H32: สุวรรณ | I32: มั่นคง | J32: =K32&" "&L32&" "&M32&" "&N32&" "&O32 -> 31/1 ม. 1 ต. คันธุลี อ. ท่าชนะ จ. สุราษฎร์ธานี | K32: 31/1 | L32: ม. 1 | M32: ต. คันธุลี | N32: อ. ท่าชนะ | O32: จ. สุราษฎร์ธานี | P32: 84170 | Z32: 46 | AA32: =SUM(Q32:Z32) -> 46 | AD32: =G32&" "&H32&" "&I32 -> นาย สุวรรณ มั่นคง
A33: 01 | C33: 032 | E33: PO00000997 | F33: 3840700107417 | G33: นาย | H33: ประหยัด | I33: หมื่นหวัด | J33: =K33&" "&L33&" "&M33&" "&N33&" "&O33 -> 4/2 ซ.เจริญวิทย์ ถ.ประชาวัฒนา ม. - ต. ปากพนัง อ. ปากพนัง จ. นครศรีธรรมราช | K33: 4/2 ซ.เจริญวิทย์ ถ.ประชาวัฒนา | L33: ม. - | M33: ต. ปากพนัง | N33: อ. ปากพนัง | O33: จ. นครศรีธรรมราช | P33: 80140 | Z33: 2 | AA33: =SUM(Q33:Z33) -> 2 | AD33: =G33&" "&H33&" "&I33 -> นาย ประหยัด หมื่นหวัด
A34: 01 | B34: 39/49 | C34: 033 | E34: PO00003976 | F34: 3840700289248 | G34: นาง | H34: ชื่น | I34: หมื่นหวัด | J34: =K34&" "&L34&" "&M34&" "&N34&" "&O34 -> 21 ม. 1 ต. คันธุลี อ. ท่าชนะ จ. สุราษฎร์ธานี | K34: 21 | L34: ม. 1 | M34: ต. คันธุลี | N34: อ. ท่าชนะ | O34: จ. สุราษฎร์ธานี | P34: 84170 | Z34: 135 | AA34: =SUM(Q34:Z34) -> 135 | AD34: =G34&" "&H34&" "&I34 -> นาง ชื่น หมื่นหวัด
A35: 01 | C35: 034 | E35: PO00000146 | F35: 3840700139009 | G35: นาง | H35: จีราวรรณ | I35: ทับทิมหิน | J35: =K35&" "&L35&" "&M35&" "&N35&" "&O35 -> 99 ม. 12 ต. คันธุลี อ. ท่าชนะ จ. สุราษฎร์ธานี | K35: 99 | L35: ม. 12 | M35: ต. คันธุลี | N35: อ. ท่าชนะ | O35: จ. สุราษฎร์ธานี | P35: 84170 | Z35: 89 | AA35: =SUM(Q35:Z35) -> 89 | AD35: =G35&" "&H35&" "&I35 -> นาง จีราวรรณ ทับทิมหิน
A36: 01 | B36: 41/49 | C36: 035 | E36: PO00001059 | F36: 3840700097853 | G36: นาง | H36: อุดม | I36: มั่นคง | J36: =K36&" "&L36&" "&M36&" "&N36&" "&O36 -> 31/1 ม. 1 ต. คันธุลี อ. ท่าชนะ จ. สุราษฎร์ธานี | K36: 31/1 | L36: ม. 1 | M36: ต. คันธุลี | N36: อ. ท่าชนะ | O36: จ. สุราษฎร์ธานี | P36: 84170 | Z36: 5 | AA36: =SUM(Q36:Z36) -> 5 | AD36: =G36&" "&H36&" "&I36 -> นาง อุดม มั่นคง
A37: 01 | C37: 036 | E37: PO00004105 | F37: 3809900274111 | G37: นาย | H37: วิรุจ | I37: ถิ่นนคร | J37: =K37&" "&L37&" "&M37&" "&N37&" "&O37 -> 8/3 ถ.ชลวิถี ม. - ต. ในเมือง อ. เมืองนครศรีธรรมราช จ. นครศรีธรรมราช | K37: 8/3 ถ.ชลวิถี | L37: ม. - | M37: ต. ในเมือง | N37: อ. เมืองนครศรีธรรมราช | O37: จ. นครศรีธรรมราช | P37: 80000 | Z37: 214 | AA37: =SUM(Q37:Z37) -> 214 | AD37: =G37&" "&H37&" "&I37 -> นาย วิรุจ ถิ่นนคร
A38: 01 | B38: 109/49 | C38: 037 | E38: PO00002265 | F38: 3840700099465 | G38: นาง | H38: มาลี | I38: ศรีชาย | J38: =K38&" "&L38&" "&M38&" "&N38&" "&O38 -> 44/2 ม. 3 ต. ช้างแรก อ. บางสะพาน จ. ประจวบคีรีขันธ์ | K38: 44/2 | L38: ม. 3 | M38: ต. ช้างแรก | N38: อ. บางสะพาน | O38: จ. ประจวบคีรีขันธ์ | P38: 77140 | Z38: 33 | AA38: =SUM(Q38:Z38) -> 33 | AD38: =G38&" "&H38&" "&I38 -> นาง มาลี ศรีชาย
A39: 01 | B39: 46/49 | C39: 038 | E39: PO00001061 | F39: 3100601504511 | G39: นาย | H39: นพพร | I39: ถาวรเศรษฐ | J39: =K39&" "&L39&" "&M39&" "&N39&" "&O39 -> 158 ม. 1 ต. คันธุลี อ. ท่าชนะ จ. สุราษฎร์ธานี | K39: 158 | L39: ม. 1 | M39: ต. คันธุลี | N39: อ. ท่าชนะ | O39: จ. สุราษฎร์ธานี | P39: 84170 | Z39: 350 | AA39: =SUM(Q39:Z39) -> 350 | AD39: =G39&" "&H39&" "&I39 -> นาย นพพร ถาวรเศรษฐ
A40: 01 | C40: 039 | E40: PO00002269 | F40: 3840700102555 | G40: นาย | H40: เสรี | I40: ทิพย์เนตร | J40: =K40&" "&L40&" "&M40&" "&N40&" "&O40 -> 84 ม. 11 ต. คันธุลี อ. ท่าชนะ จ. สุราษฎร์ธานี | K40: 84 | L40: ม. 11 | M40: ต. คันธุลี | N40: อ. ท่าชนะ | O40: จ. สุราษฎร์ธานี | P40: 84170 | Z40: 30 | AA40: =SUM(Q40:Z40) -> 30 | AD40: =G40&" "&H40&" "&I40 -> นาย เสรี ทิพย์เนตร
...

Sheet สรุปบำรุง
A1: รหัส | B1: ผลรวม | C1: ชื่อ | D1: บัตร
A2: PO00002307 | B2: 30 | C2: ดาบตำรวจ จเร โสมแก้ว | D2: 3840200007367
A3: PO00003936 | B3: 70 | C3: เด็กชาย นันทวัฒน์ สุวรรณ | D3: 0
A4: PO00003935 | B4: 60 | C4: เด็กหญิง ณัฐฑิกา สุวรรณ | D4: 0
A5: PO00004346 | B5: 427 | C5: เด็กหญิง ธัญกานต์ เฉลิมพนาพันธ์ | D5: 1909800868127
A6: PO00003956 | B6: 67 | C6: นาง กชกานต์ ราชฉวาง | D6: 3840700138142
A7: PO00004747 | B7: 261 | C7: นาง กชพรรณ ตั้งธัญวุฒิ | D7: 3800400871375
A8: PO00000368 | B8: 102 | C8: นาง กรกนก แก้วขวัญ | D8: 3840700139769
A9: PO00001482 | B9: 163 | C9: นาง กรรณิการ์ นาคขำ | D9: 3840700123901
A10: PO00001545 | B10: 170 | C10: นาง กรองแก้ว ภิญโญ | D10: 3849900013244
A11: PO00004232 | B11: 75 | C11: นาง กฤษณา หนูทอง | D11: 3860500019930
A12: PO00001341 | B12: 105 | C12: นาง กลิ่น แรงเขตการ | D12: 3840700288187
A13: PO00004185 | B13: 74 | C13: นาง กัญญา ดวงแป้น | D13: 3840700108740
A14: PO00000730 | B14: 219 | C14: นาง กัญญา สิรินิลกุล | D14: 0
A15: PO00002641 | B15: 61 | C15: นาง กัญญา สุวรรณวงศ์ | D15: 3840700104183
A16: PO00001946 | B16: 56 | C16: นาง กัญหา รอดเกิด | D16: 3840700114758
A17: PO00002923 | B17: 319 | C17: นาง กันยา ราษฏร์เจริญ | D17: 3860500031344
A18: PO00002755 | B18: 212 | C18: นาง กันยารัตน์ คชสีห์ | D18: 3860500047712
A19: PO00004777 | B19: 96 | C19: นาง กัลยา ตั้งพิทักษ์กุล | D19: 0
A20: PO00003947 | B20: 135 | C20: นาง กัลยา สวัสดิ์วิจิตรกุล | D20: 3840700079359
A21: PO00000365 | B21: 46 | C21: นาง กาญจนา นิยมวัฒนพันธ์ | D21: 3849900101593
A22: PO00001569 | B22: 107 | C22: นาง กาญจนา สมสุวรรณ | D22: 3840700158054
A23: PO00001290 | B23: 9 | C23: นาง กิ้ม พรหมทอง | D23: 3840700148105
A24: PO00001412 | B24: 28 | C24: นาง กิ้มข้อง บุญชุม | D24: 3840700115142
A25: PO00001389 | B25: 44 | C25: นาง กิ้มซ้าน ชูเลข | D25: 3840700115584
A26: PO00000531 | B26: 128 | C26: นาง กิ้มห้อง แซ่อ่าง | D26: 3840700117846
A27: PO00001160 | B27: 19 | C27: นาง กิ้มให้ แซ่อ่าง | D27: 3840700117854
A28: PO00001036 | B28: 317 | C28: นาง กิมอยู่ แสงสุข | D28: 3840700099686
A29: PO00002651 | B29: 96 | C29: นาง กี่เหื้อง เอื้อพัฒนพงศ์ | D29: 3860400225171
A30: PO00001236 | B30: 65 | C30: นาง เกต ขำสุวรรณ | D30: 0
A31: PO00001384 | B31: 149 | C31: นาง เกลื่อน อินแป้น | D31: 3840700116793
A32: PO00004303 | B32: 75 | C32: นาง เกศกมล จุเส้ง | D32: 0
A33: PO00000536 | B33: 14 | C33: นาง เกศรี จันทร์ดำ | D33: 3840700140821
A34: PO00001895 | B34: 156 | C34: นาง เกศรี สงคงคา | D34: 3840700133710
A35: PO00001137 | B35: 30 | C35: นาง เกศสุดา สิงห์คราช | D35: 3840700114057
A36: PO00000565 | B36: 96 | C36: นาง เกษร เขียวสม | D36: 3840700131229
A37: PO00003988 | B37: 56 | C37: นาง เกษร จิตวิเศษ | D37: 3840700240907
A38: PO00003938 | B38: 35 | C38: นาง เกษร นนทสิงห์ | D38: 3840700130141
A39: PO00002264 | B39: 103 | C39: นาง เกษร มงคลเคหา | D39: 3840700085383
A40: PO00001300 | B40: 75 | C40: นาง เกษร โรยสกุล | D40: 3840700145751
...

Sheet รายละเอียดโรงเรือน
A1: ภ.ร.ด.2 | B1: หมู่ โรงเรือน | C1: รหัส โรงเรือน | D1: รหัส | E1: คำนำ | F1: ชื่อ | G1: สกุล | H1: ชื่อ - สกุล | I1: ใหม่ | J1: บ้าน เลขที่ | K1: หมู่ที่ | L1: ตำบล | M1: อำเภอ | N1: จังหวัด | O1: รหัสไปรษณีย์ | P1: ลักษณะ | Q1: การใช้ประโยชน์ | R1: ทำ เล | S1: ราคา | T1: กว้าง | U1: ยาว | V1: จำนวน เดือน | W1: ค่ารายปี | X1: ภาษี | Y1: หมายเหตุ | Z1: ภ.ร.ด.8 เลข / เบ่ม | AA1: ภ.ร.ด.12 เลข / เล่ม | AB1: วันที่ | AC1: ชำระเงิน
A2: 001 | B2: 1 | C2: 12E012 | D2: PO00000231 | E2: นาง | F2: วาจา | G2: จันทร์นวล | H2: =E2&" "&F2&" "&G2 -> นาง วาจา จันทร์นวล | I2: นาง วาจา จันทร์นวล | J2: 113 | K2: ม. 1 | L2: ต. คันธุลี | M2: อ. ท่าชนะ | N2: จ. สุราษฎร์ธานี | O2: 84170 | P2: บ้านพักอาศัยไม้ชั้นเดียว | Q2: -ร้านขายของชำ | R2: 3 | S2: 5 | T2: 5 | U2: 6 | V2: 12 | W2: =S2*T2*U2*V2 -> 1800 | X2: =W2*12.5% -> 225 | Z2: 012/1 | AA2: 010/1 | AB2: 42023 | AC2: ชำระแล้ว
A3: 002 | B3: 1 | C3: 12B041 | D3: PO00001061 | E3: นาย | F3: นพพร | G3: ถาวรเศรษฐ | H3: =E3&" "&F3&" "&G3 -> นาย นพพร ถาวรเศรษฐ | I3: นาย นพพร ถาวรเศรษฐ | J3: 158 | K3: ม. 1 | L3: ต. คันธุลี | M3: อ. ท่าชนะ | N3: จ. สุราษฎร์ธานี | O3: 84170 | P3: โรงเรือนประเภทพิเศษ | Q3: -คาร์แคร์บริการอัดฉีดรถยนต์,จักรยานยนต์ | R3: 2 | S3: 13 | T3: 6 | U3: 20 | V3: 12 | W3: =S3*T3*U3*V3 -> 18720 | X3: =W3*12.5% -> 2340 | Z3: 001/2 | AA3: 001/2 | AB3: 42026 | AC3: ชำระแล้ว
A4: 003 | B4: 1 | C4: 12B005 | D4: PO00001607 | E4: นาง | F4: อัจฉราภรณ์ | G4: วีระศิลป์ | H4: =E4&" "&F4&" "&G4 -> นาง อัจฉราภรณ์ วีระศิลป์ | I4: นาง อัจฉราภรณ์ วีระศิลป์ | J4: 136 | K4: ม. 1 | L4: ต. คันธุลี | M4: อ. ท่าชนะ | N4: จ. สุราษฎร์ธานี | O4: 84170 | P4: บ้านพักอาศัยตึกชั้นเดียว | Q4: -ร้านขายของชำ | R4: 2 | S4: 8 | T4: 8 | U4: 9 | V4: 12 | W4: =S4*T4*U4*V4 -> 6912 | X4: =W4*12.5% -> 864 | Z4: 009/1 | AA4: 007/1 | AB4: 42023 | AC4: ชำระแล้ว
A5: 004 | B5: 1 | C5: 12D002 | D5: PO00003088 | E5: นาง | F5: จินตนา | G5: แสงศรี | H5: =E5&" "&F5&" "&G5 -> นาง จินตนา แสงศรี | I5: นาง จินตนา แสงศรี | J5: 123 | K5: ม. 1 | L5: ต. คันธุลี | M5: อ. ท่าชนะ | N5: จ. สุราษฎร์ธานี | O5: 84170 | P5: บ้านพักอาศัยตึกชั้นเดียว | Q5: -ร้านอินเตอร์เน็ต | R5: 2 | S5: 8 | T5: 4 | U5: 6.7 | V5: 12 | W5: =S5*T5*U5*V5 -> 2572.8 | X5: =W5*12.5% -> 321.6 | Z5: 060/1 | AA5: 053/1 | AB5: 42032 | AC5: ชำระแล้ว
A6: 005 | B6: 1 | C6: 12F004 | D6: PO00003069 | E6: นาย | F6: สุทัย | G6: ภู่ศิลป์ | H6: =E6&" "&F6&" "&G6 -> นาย สุทัย ภู่ศิลป์ | I6: นาย สุทัย ภู่ศิลป์ | J6: 164 | K6: ม. 1 | L6: ต. คันธุลี | M6: อ. ท่าชนะ | N6: จ. สุราษฎร์ธานี | O6: 84170 | P6: โรงเรือนประเภทพิเศษ | Q6: -ร้านอาหาร | R6: 3 | S6: 8 | T6: 7.5 | U6: 11 | V6: 12 | W6: =S6*T6*U6*V6 -> 7920 | X6: =W6*12.5% -> 990 | Z6: 061/2 | AA6: 060/2 | AB6: 42146 | AC6: ชำระแล้ว
A7: 006 | B7: 1 | C7: 12B028 | D7: PO00003065 | E7: นาย | F7: เกรียงศักดิ์ | G7: ศิริรัตน์ | H7: =E7&" "&F7&" "&G7 -> นาย เกรียงศักดิ์ ศิริรัตน์ | I7: นาย เกรียงศักดิ์ ศิริรัตน์ | J7: 149 | K7: ม. 1 | L7: ต. คันธุลี | M7: อ. ท่าชนะ | N7: จ. สุราษฎร์ธานี | O7: 84170 | P7: บ้านพักอาศัยตึกชั้นเดียว | Q7: -ร้านขายของชำ | R7: 2 | S7: 8 | T7: 4 | U7: 8 | V7: 12 | W7: =S7*T7*U7*V7 -> 3072 | X7: =W7*12.5% -> 384 | Z7: 048/1 | AA7: 045/1 | AB7: 42030 | AC7: ชำระแล้ว
A8: 008 | B8: 1 | C8: 12B003 | D8: PO00001102 | E8: นางสาว | F8: ลัคนา | G8: แก้วลาย | H8: =E8&" "&F8&" "&G8 -> นางสาว ลัคนา แก้วลาย | I8: นางสาว ลัคนา แก้วลาย | J8: 119 | K8: ม. 2 | L8: ต. คันธุลี | M8: อ. ท่าชนะ | N8: จ. สุราษฎร์ธานี | O8: 84170 | P8: บ้านพักอาศัยตึกสองชั้น | Q8: -ร้านขายของชำ | R8: 2 | S8: 8 | T8: 4 | U8: 5 | V8: 12 | W8: =S8*T8*U8*V8 -> 1920 | X8: =W8*12.5% -> 240 | Z8: 008/1 | AA8: 006/1 | AB8: 42023 | AC8: ชำระแล้ว
A9: 009 | B9: 1 | C9: 12A003 | D9: PO00003042 | E9: นาย | F9: สายัณห์ | G9: ศรีรื่น | H9: =E9&" "&F9&" "&G9 -> นาย สายัณห์ ศรีรื่น | I9: นาย สายัณห์ ศรีรื่น | J9: 106/1 | K9: ม. 11 | L9: ต. คันธุลี | M9: อ. ท่าชนะ | N9: จ. สุราษฎร์ธานี | O9: 84170 | P9: โรงเรือนประเภทพิเศษ | Q9: -ซ่อมรถจักรยานยนต์ | R9: 2 | S9: 13 | T9: 2.3 | U9: 2.8 | V9: 12 | W9: =S9*T9*U9*V9 -> 1004.64 | X9: =W9*12.5% -> 125.58 | Z9: 055/1 | AA9: 050/1 | AB9: 42030 | AC9: ชำระแล้ว
A10: 010 | B10: 2 | C10: 13A010 | D10: PO00001599 | E10: นางสาว | F10: พรรณทิพา | G10: เพชรแท้ | H10: =E10&" "&F10&" "&G10 -> นางสาว พรรณทิพา เพชรแท้ | I10: นางสาว พรรณทิพา เพชรแท้ | J10: 113 | K10: ม. 2 | L10: ต. คันธุลี | M10: อ. ท่าชนะ | N10: จ. สุราษฎร์ธานี | O10: 84170 | P10: บ้านพักอาศัยตึกชั้นเดียว | Q10: -ร้านขายของชำ | R10: 2 | S10: 8 | T10: 8 | U10: 3 | V10: 12 | W10: =S10*T10*U10*V10 -> 2304 | X10: =W10*12.5% -> 288 | Z10: 007/1 | AA10: 005/1 | AB10: 42023 | AC10: ชำระแล้ว
A11: 011 | B11: 2 | C11: 13H010 | D11: PO00003535 | E11: นาง | F11: สำเนียง | G11: มั่นคง | H11: =E11&" "&F11&" "&G11 -> นาง สำเนียง มั่นคง | I11: นาง สำเนียง มั่นคง | J11: 131 | K11: ม. 2 | L11: ต. คันธุลี | M11: อ. ท่าชนะ | N11: จ. สุราษฎร์ธานี | O11: 84170 | P11: บ้านพักอาศัยตึกชั้นเดียว | Q11: -ร้านขายของชำ | R11: 3 | S11: 6 | T11: 3 | U11: 5 | V11: 12 | W11: =S11*T11*U11*V11 -> 1080 | X11: =W11*12.5% -> 135 | Z11: 053/1 | AA11: 048/1 | AB11: 42030 | AC11: ชำระแล้ว
A12: 012 | B12: 2 | C12: 13H020 | D12: PO00001831 | E12: นาง | F12: อุไรวรรณ | G12: จันทร์ต้อย | H12: =E12&" "&F12&" "&G12 -> นาง อุไรวรรณ จันทร์ต้อย | I12: นาง อุไรวรรณ จันทร์ต้อย | J12: 94 | K12: ม. 2 | L12: ต. คันธุลี | M12: อ. ท่าชนะ | N12: จ. สุราษฎร์ธานี | O12: 84170 | P12: บ้านพักอาศัยตึกชั้นเดียว | Q12: -ร้านขายของชำ | R12: 3 | S12: 6 | T12: 3.5 | U12: 4.5 | V12: 12 | W12: =S12*T12*U12*V12 -> 1134 | X12: =W12*12.5% -> 141.75 | Z12: 054/1 | AA12: 049/1 | AB12: 42030 | AC12: ชำระแล้ว
A13: 013 | B13: 2 | C13: 13E037 | D13: PO00001970 | E13: นาย | F13: นิพนธ์ | G13: อำภัย | H13: =E13&" "&F13&" "&G13 -> นาย นิพนธ์ อำภัย | I13: นาย นิพนธ์ อำภัย | J13: 65 | K13: ม. 2 | L13: ต. คันธุลี | M13: อ. ท่าชนะ | N13: จ. สุราษฎร์ธานี | O13: 84170 | P13: บ้านพักอาศัยตึกชั้นเดียว | Q13: -ร้านขายของชำ | R13: 3 | S13: 6 | T13: 3 | U13: 8 | V13: 12 | W13: =S13*T13*U13*V13 -> 1728 | X13: =W13*12.5% -> 216 | Z13: 047/1 | AA13: 044/1 | AB13: 42030 | AC13: ชำระแล้ว
A14: 014 | B14: 2 | C14: 13B002 | D14: PO00001081 | E14: นาง | F14: ราตรี | G14: ทิพย์สิน | H14: =E14&" "&F14&" "&G14 -> นาง ราตรี ทิพย์สิน | I14: นาง ราตรี ทิพย์สิน | J14: 123 | K14: ม. 2 | L14: ต. คันธุลี | M14: อ. ท่าชนะ | N14: จ. สุราษฎร์ธานี | O14: 84170 | P14: บ้านพักอาศัยตึกชั้นเดียว | Q14: -ขายอาหาร | R14: 2 | S14: 8 | T14: 3 | U14: 3 | V14: 12 | W14: =S14*T14*U14*V14 -> 864 | X14: =W14*12.5% -> 108 | Z14: 049/1 | AA14: 046/1 | AB14: 42030 | AC14: ชำระแล้ว
A15: 015 | B15: 2 | C15: 13E036 | D15: PO00002149 | E15: นางสาว | F15: สุภาวดี | G15: หมื่นสวัสดิ์ | H15: =E15&" "&F15&" "&G15 -> นางสาว สุภาวดี หมื่นสวัสดิ์ | I15: นางสาว สุภาวดี หมื่นสวัสดิ์ | J15: 129 | K15: ม. 2 | L15: ต. คันธุลี | M15: อ. ท่าชนะ | N15: จ. สุราษฎร์ธานี | O15: 84170 | P15: โรงเรือนประเภทพิเศษ | Q15: -ฟาร์มปศุสัตว์ | R15: 3 | S15: 7 | T15: 10 | U15: 20 | V15: 12 | W15: =S15*T15*U15*V15 -> 16800 | X15: =W15*12.5% -> 2100 | Z15: 046/1 | AA15: 059/2 | AB15: 42146 | AC15: ชำระแล้ว
A16: 017 | B16: 2 | C16: 13B004 | D16: PO00001271 | E16: นาง | F16: อุระ | G16: เกิดรอด | H16: =E16&" "&F16&" "&G16 -> นาง อุระ เกิดรอด | I16: นาง อุระ เกิดรอด | J16: 84/2 | K16: ม. 2 | L16: ต. คันธุลี | M16: อ. ท่าชนะ | N16: จ. สุราษฎร์ธานี | O16: 84170 | P16: โรงเรือนประเภทพิเศษ | Q16: -คันธุลีลานปาล์ม (สำนักงาน) | R16: 2 | S16: 8 | T16: 4 | U16: 4 | V16: 12 | W16: =S16*T16*U16*V16 -> 1536 | X16: =W16*12.5% -> 192 | Z16: 050/2 | AA16: 046/2 | AB16: 42079 | AC16: ชำระแล้ว
A17: 017 | B17: 2 | C17: 13B005 | D17: PO00001271 | E17: นาง | F17: อุระ | G17: เกิดรอด | H17: =E17&" "&F17&" "&G17 -> นาง อุระ เกิดรอด | I17: นาง อุระ เกิดรอด | J17: 84/2 | K17: ม. 2 | L17: ต. คันธุลี | M17: อ. ท่าชนะ | N17: จ. สุราษฎร์ธานี | O17: 84170 | P17: โรงเรือนประเภทพิเศษ | Q17: -ลานคอนกรีต | R17: 2 | S17: 3 | T17: 20 | U17: 26 | V17: 12 | W17: =S17*T17*U17*V17 -> 18720 | X17: =W17*12.5% -> 2340 | Z17: 050/2 | AA17: 046/2 | AB17: 42079 | AC17: ชำระแล้ว
A18: 017 | B18: 2 | C18: 13B006 | D18: PO00001271 | E18: นาง | F18: อุระ | G18: เกิดรอด | H18: =E18&" "&F18&" "&G18 -> นาง อุระ เกิดรอด | I18: นาง อุระ เกิดรอด | J18: 84/2 | K18: ม. 2 | L18: ต. คันธุลี | M18: อ. ท่าชนะ | N18: จ. สุราษฎร์ธานี | O18: 84170 | P18: โรงเรือนประเภทพิเศษ | Q18: -ลานดิน | R18: 2 | S18: 2 | T18: 20 | U18: 26 | V18: 12 | W18: =S18*T18*U18*V18 -> 12480 | X18: =W18*12.5% -> 1560 | Z18: 050/2 | AA18: 046/2 | AB18: 42079 | AC18: ชำระแล้ว
A19: 018 | B19: 3 | C19: 09H012 | D19: CO00000017 | E19: บจก. | F19: สมอทองน้ำมันปาล์ม | G19: - | H19: =E19&" "&F19&" "&G19 -> บจก. สมอทองน้ำมันปาล์ม - | I19: บจก. สมอทองน้ำมันปาล์ม - | J19: 119 | K19: ม. 10 | L19: ต. ประสงค์ | M19: อ. ท่าชนะ | N19: จ. สุราษฎร์ธานี | O19: 84170 | P19: โรงเรือนประเภทพิเศษ | Q19: สำนักงานรับ ซื้อปาล์ม | R19: 2 | S19: 8 | T19: 5 | U19: 6 | V19: 12 | W19: =S19*T19*U19*V19 -> 2880 | X19: =W19*12.5% -> 360 | Z19: 052/1 | AA19: 074/1 | AB19: 42034 | AC19: ชำระแล้ว
A20: 018 | B20: 3 | C20: 09H011 | D20: CO00000017 | E20: บจก. | F20: สมอทองน้ำมันปาล์ม | H20: =E20&" "&F20&" "&G20 -> บจก. สมอทองน้ำมันปาล์ม | I20: บจก. สมอทองน้ำมันปาล์ม - | J20: 119 | K20: ม. 10 | L20: ต. ประสงค์ | M20: อ. ท่าชนะ | N20: จ. สุราษฎร์ธานี | O20: 84170 | P20: โรงเรือนประเภทพิเศษ | Q20: -ลานคอนกรีต | R20: 2 | S20: 3 | T20: 15 | U20: 20 | V20: 12 | W20: =S20*T20*U20*V20 -> 10800 | X20: =W20*12.5% -> 1350 | Z20: 052/1 | AA20: 074/1 | AB20: 42034 | AC20: ชำระแล้ว
A21: 018 | B21: 3 | C21: 09H013 | D21: CO00000017 | E21: บจก. | F21: สมอทองน้ำมันปาล์ม | H21: =E21&" "&F21&" "&G21 -> บจก. สมอทองน้ำมันปาล์ม | I21: บจก. สมอทองน้ำมันปาล์ม - | J21: 119 | K21: ม. 10 | L21: ต. ประสงค์ | M21: อ. ท่าชนะ | N21: จ. สุราษฎร์ธานี | O21: 84170 | P21: โรงเรือนประเภทพิเศษ | Q21: -ลานดิน | R21: 2 | S21: 2 | T21: 15 | U21: 22 | V21: 12 | W21: =S21*T21*U21*V21 -> 7920 | X21: =W21*12.5% -> 990 | Z21: 052/1 | AA21: 074/1 | AB21: 42034 | AC21: ชำระแล้ว
A22: 019 | B22: 3 | C22: 09C022 | D22: PO00000759 | E22: นาย | F22: วีระศักดิ์ | G22: สองแก้ว | H22: =E22&" "&F22&" "&G22 -> นาย วีระศักดิ์ สองแก้ว | I22: นาย วีระศักดิ์ สองแก้ว | J22: 30 | K22: ม. 3 | L22: ต. คันธุลี | M22: อ. ท่าชนะ | N22: จ. สุราษฎร์ธานี | O22: 84170 | P22: โรงเรือนประเภทพิเศษ | Q22: -อู่ซ่อมรถยนต์ | R22: 2 | S22: 18 | T22: 9 | U22: 9 | V22: 12 | W22: =S22*T22*U22*V22 -> 17496 | X22: =W22*12.5% -> 2187 | Z22: 051/1 | AA22: 047/1 | AB22: 42030 | AC22: ชำระแล้ว
A23: 020 | B23: 3 | C23: 09A001 | D23: PO00000090 | E23: นางสาว | F23: พิไลพร | G23: พุ่มน้อย | H23: =E23&" "&F23&" "&G23 -> นางสาว พิไลพร พุ่มน้อย | I23: นางสาว พิไลพร พุ่มน้อย | J23: 122/1 | K23: ม. 8 | L23: ต. คันธุลี | M23: อ. ท่าชนะ | N23: จ. สุราษฎร์ธานี | O23: 84170 | P23: บ้านพักอาศัยตึกชั้นเดียว | Q23: -ขายอาหาร | R23: 1 | S23: 10 | T23: 4 | U23: 4 | V23: 12 | W23: =S23*T23*U23*V23 -> 1920 | X23: =W23*12.5% -> 240 | Z23: 071/1 | AA23: 064/1 | AB23: 42033 | AC23: ชำระแล้ว
A24: 021 | B24: 3 | C24: 09B012 | D24: PO00001217 | E24: นาง | F24: เชื้อ | G24: ทิมดี | H24: =E24&" "&F24&" "&G24 -> นาง เชื้อ ทิมดี | I24: นาง เชื้อ ทิมดี | J24: 191/1 | K24: ม. 3 | L24: ต. คันธุลี | M24: อ. ท่าชนะ | N24: จ. สุราษฎร์ธานี | O24: 84170 | P24: บ้านพักอาศัยตึกชั้นเดียว | Q24: -ร้านขายของชำ | R24: 3 | S24: 6 | T24: 3 | U24: 3 | V24: 12 | W24: =S24*T24*U24*V24 -> 648 | X24: =W24*12.5% -> 81 | Z24: 072/1 | AA24: 065/1 | AB24: 42033 | AC24: ชำระแล้ว
A25: 022 | B25: 3 | C25: 09G006 | D25: PO00004149 | E25: นาย | F25: ผัส | G25: บุญประสงค์ | H25: =E25&" "&F25&" "&G25 -> นาย ผัส บุญประสงค์ | I25: นาย ผัส บุญประสงค์ | J25: 139 | K25: ม. 3 | L25: ต. คันธุลี | M25: อ. ท่าชนะ | N25: จ. สุราษฎร์ธานี | O25: 84170 | P25: บ้านพักอาศัยตึกชั้นเดียว | Q25: -ร้านขายของชำ | R25: 3 | S25: 6 | T25: 3 | U25: 3.5 | V25: 12 | W25: =S25*T25*U25*V25 -> 756 | X25: =W25*12.5% -> 94.5 | Z25: 073/1 | AA25: 066/1 | AB25: 42033 | AC25: ชำระแล้ว
A26: 161 | B26: 3 | C26: 09L019 | D26: PO00004763 | E26: นาง | F26: สุนี | G26: ทองอยู่ | H26: =E26&" "&F26&" "&G26 -> นาง สุนี ทองอยู่ | I26: นาง สุนี ทองอยู่ | J26: 83/2 | K26: ม. 3 | L26: ต. คันธุลี | M26: อ. ท่าชนะ | N26: จ. สุราษฎร์ธานี | O26: 84170 | P26: บ้านพักอาศัยตึกชั้นเดียว | Q26: -ร้านขายของชำ | R26: 3 | S26: 6 | T26: 4 | U26: 5 | V26: 12 | W26: =S26*T26*U26*V26 -> 1440 | X26: =W26*12.5% -> 180 | Z26: 076/1 | AA26: 069/1 | AB26: 42033 | AC26: ชำระแล้ว
A27: 023 | B27: 3 | C27: 09L004 | D27: PO00000646 | E27: นางสาว | F27: โสภะณา | G27: กองคลัง | H27: =E27&" "&F27&" "&G27 -> นางสาว โสภะณา กองคลัง | I27: นางสาว โสภะณา กองคลัง | J27: 172 | K27: ม. 4 | L27: ต. คันธุลี | M27: อ. ท่าชนะ | N27: จ. สุราษฎร์ธานี | O27: 84170 | P27: บ้านพักอาศัยตึกชั้นเดียว | Q27: -ร้านขายของชำ | R27: 3 | S27: 6 | T27: 4 | U27: 4 | V27: 12 | W27: =S27*T27*U27*V27 -> 1152 | X27: =W27*12.5% -> 144 | Z27: 075/1 | AA27: 068/1 | AB27: 42033 | AC27: ชำระแล้ว
A28: 024 | B28: 3 | C28: 09J025 | D28: PO00000893 | E28: นาง | F28: อุ่นใจ | G28: ฮงหลี | H28: =E28&" "&F28&" "&G28 -> นาง อุ่นใจ ฮงหลี | I28: นาง อุ่นใจ ฮงหลี | J28: 99-100 | K28: ม. 3 | L28: ต. คันธุลี | M28: อ. ท่าชนะ | N28: จ. สุราษฎร์ธานี | O28: 84170 | P28: บ้านพักอาศัยตึกชั้นเดียว | Q28: -ร้านขายของชำ | R28: 3 | S28: 6 | T28: 3 | U28: 8 | V28: 12 | W28: =S28*T28*U28*V28 -> 1728 | X28: =W28*12.5% -> 216 | Z28: 074/1 | AA28: 067/1 | AB28: 42033 | AC28: ชำระแล้ว
A29: 024 | B29: 3 | C29: 09J026 | D29: PO00000893 | E29: นาง | F29: อุ่นใจ | G29: ฮงหลี | H29: =E29&" "&F29&" "&G29 -> นาง อุ่นใจ ฮงหลี | I29: นาง อุ่นใจ ฮงหลี | J29: 99-100 | K29: ม. 3 | L29: ต. คันธุลี | M29: อ. ท่าชนะ | N29: จ. สุราษฎร์ธานี | O29: 84170 | P29: โรงเรือนประเภทพิเศษ | Q29: -ปั๊มหลอด | R29: 3 | S29: 5 | T29: 2 | U29: 2 | V29: 12 | W29: =S29*T29*U29*V29 -> 240 | X29: =W29*12.5% -> 30 | Z29: 074/1 | AA29: 067/1 | AB29: 42033 | AC29: ชำระแล้ว
A30: 025 | B30: 3 | C30: 09F004 | D30: PO00004689 | E30: นาย | F30: สฤษฏ์ | G30: ชัยดิษฐอดุลย์ | H30: =E30&" "&F30&" "&G30 -> นาย สฤษฏ์ ชัยดิษฐอดุลย์ | I30: นาย สฤษฏ์ ชัยดิษฐอดุลย์ | J30: 39 | K30: ม. 3 | L30: ต. คันธุลี | M30: อ. ท่าชนะ | N30: จ. สุราษฎร์ธานี | O30: 84170 | P30: บ้านพักอาศัยตึกชั้นเดียว | Q30: -ซ่อมรถจักรยานยนต์ | R30: 3 | S30: 10 | T30: 2.4 | U30: 6 | V30: 12 | W30: =S30*T30*U30*V30 -> 1728 | X30: =W30*12.5% -> 216 | Z30: 079/1 | AA30: 076/1 | AB30: 42037 | AC30: ชำระแล้ว
A31: 025 | B31: 3 | C31: 09F010 | D31: PO00004689 | E31: นาย | F31: สฤษฏ์ | G31: ชัยดิษฐอดุลย์ | H31: =E31&" "&F31&" "&G31 -> นาย สฤษฏ์ ชัยดิษฐอดุลย์ | I31: นาย สฤษฏ์ ชัยดิษฐอดุลย์ | J31: 39 | K31: ม. 3 | L31: ต. คันธุลี | M31: อ. ท่าชนะ | N31: จ. สุราษฎร์ธานี | O31: 84170 | P31: โรงเรือนประเภทพิเศษ | Q31: -ปั๊มหยอดเหรียญ | R31: 3 | S31: 5 | T31: 2 | U31: 2 | V31: 12 | W31: =S31*T31*U31*V31 -> 240 | X31: =W31*12.5% -> 30 | Z31: 079/1 | AA31: 076/1 | AB31: 42037 | AC31: ชำระแล้ว
A32: 026 | B32: 3 | C32: 09H037 | D32: PO00004148 | E32: นาง | F32: สุกัลยา | G32: ปานกลาง | H32: =E32&" "&F32&" "&G32 -> นาง สุกัลยา ปานกลาง | I32: นาง สุกัลยา ปานกลาง | J32: 273 | K32: ม. 3 | L32: ต. คันธุลี | M32: อ. ท่าชนะ | N32: จ. สุราษฎร์ธานี | O32: 84170 | P32: บ้านพักอาศัยตึกชั้นเดียว | Q32: -ร้านขายของชำ | R32: 2 | S32: 10 | T32: 4 | U32: 4 | V32: 12 | W32: =S32*T32*U32*V32 -> 1920 | X32: =W32*12.5% -> 240 | Z32: 062/1 | AA32: 055/1 | AB32: 42032 | AC32: ชำระแล้ว
A33: 027 | B33: 4 | C33: 10A005 | D33: PO00001584 | E33: นาย | F33: วัฒนา | G33: สำลี | H33: =E33&" "&F33&" "&G33 -> นาย วัฒนา สำลี | I33: นาย วัฒนา สำลี | J33: 34 | K33: ม. 4 | L33: ต. คันธุลี | M33: อ. ท่าชนะ | N33: จ. สุราษฎร์ธานี | O33: 84170 | P33: โรงเรือนประเภทพิเศษ | Q33: -ก่อสร้าง-รับเหมาทั่วไป (เครื่องจักรผสม คอนกรีต) | R33: 1 | S33: 20 | T33: 20 | U33: 20 | V33: 12 | W33: =S33*T33*U33*V33 -> 96000 | X33: =W33*12.5% -> 12000 | Z33: 065/2 | AA33: 062/2 | AB33: 42198 | AC33: ชำระแล้ว
A34: 027 | B34: 4 | C34: 10A003 | D34: PO00001584 | E34: นาย | F34: วัฒนา | G34: สำลี | H34: =E34&" "&F34&" "&G34 -> นาย วัฒนา สำลี | I34: นาย วัฒนา สำลี | J34: 34 | K34: ม. 4 | L34: ต. คันธุลี | M34: อ. ท่าชนะ | N34: จ. สุราษฎร์ธานี | O34: 84170 | P34: โรงเรือนประเภทพิเศษ | Q34: -อาคารโรงจอดรถ เก็บอุปกรณ์ | R34: 1 | S34: 15 | T34: 30 | U34: 30 | V34: 12 | W34: =S34*T34*U34*V34/3 -> 54000 | X34: =W34*12.5% -> 6750 | Z34: 065/2 | AA34: 062/2 | AB34: 42198 | AC34: ชำระแล้ว
A35: 027 | B35: 4 | C35: 10A004 | D35: PO00001584 | E35: นาย | F35: วัฒนา | G35: สำลี | H35: =E35&" "&F35&" "&G35 -> นาย วัฒนา สำลี | I35: นาย วัฒนา สำลี | J35: 34 | K35: ม. 4 | L35: ต. คันธุลี | M35: อ. ท่าชนะ | N35: จ. สุราษฎร์ธานี | O35: 84170 | P35: โรงเรือนประเภทพิเศษ | Q35: -เครื่องจักรทำยางแอสฟันส์ | R35: 1 | S35: 20 | T35: 20 | U35: 30 | V35: 12 | W35: =S35*T35*U35*V35/3 -> 48000 | X35: =W35*12.5% -> 6000 | Z35: 065/2 | AA35: 062/2 | AB35: 42198 | AC35: ชำระแล้ว
A36: 027 | B36: 4 | C36: 10A008 | D36: PO00001584 | E36: นาย | F36: วัฒนา | G36: สำลี | H36: =E36&" "&F36&" "&G36 -> นาย วัฒนา สำลี | I36: นาย วัฒนา สำลี | J36: 34 | K36: ม. 4 | L36: ต. คันธุลี | M36: อ. ท่าชนะ | N36: จ. สุราษฎร์ธานี | O36: 84170 | P36: โรงเรือนประเภทพิเศษ | Q36: -ลานดิน | R36: 1 | S36: 3 | T36: 30 | U36: 33 | V36: 12 | W36: =S36*T36*U36*V36 -> 35640 | X36: =W36*12.5% -> 4455 | Z36: 065/2 | AA36: 062/2 | AB36: 42198 | AC36: ชำระแล้ว
A37: 027 | B37: 4 | C37: 10A007 | D37: PO00001584 | E37: นาย | F37: วัฒนา | G37: สำลี | H37: =E37&" "&F37&" "&G37 -> นาย วัฒนา สำลี | I37: นาย วัฒนา สำลี | J37: 34 | K37: ม. 4 | L37: ต. คันธุลี | M37: อ. ท่าชนะ | N37: จ. สุราษฎร์ธานี | O37: 84170 | P37: โรงเรือนประเภทพิเศษ | Q37: -ลานชั่งน้ำหนัก | R37: 1 | S37: 10 | T37: 3 | U37: 18 | V37: 12 | W37: =S37*T37*U37*V37 -> 6480 | X37: =W37*12.5% -> 810 | Z37: 065/2 | AA37: 062/2 | AB37: 42198 | AC37: ชำระแล้ว
A38: 029 | B38: 4 | C38: 10B024 | D38: PO00003467 | E38: นาง | F38: จริยา | G38: สงคงคา | H38: =E38&" "&F38&" "&G38 -> นาง จริยา สงคงคา | I38: นาง จริยา สงคงคา | J38: 351 | K38: ม. 4 | L38: ต. คันธุลี | M38: อ. ท่าชนะ | N38: จ. สุราษฎร์ธานี | O38: 84170 | P38: โรงเรือนประเภทพิเศษ | Q38: -บ้านเช่า 1 | R38: 1 | S38: 1500 | T38: 1 | U38: 1 | V38: 12 | W38: =S38*T38*U38*V38 -> 18000 | X38: =W38*12.5% -> 2250 | Z38: 045/2 | AA38: 040/2 | AB38: 42074 | AC38: ชำระแล้ว
A39: 029 | B39: 4 | C39: 10B026 | D39: PO00003467 | E39: นาง | F39: จริยา | G39: สงคงคา | H39: =E39&" "&F39&" "&G39 -> นาง จริยา สงคงคา | I39: นาง จริยา สงคงคา | J39: 351 | K39: ม. 4 | L39: ต. คันธุลี | M39: อ. ท่าชนะ | N39: จ. สุราษฎร์ธานี | O39: 84170 | P39: โรงเรือนประเภทพิเศษ | Q39: -บ้านเช่า 2 | R39: 1 | S39: 1500 | T39: 1 | U39: 1 | V39: 12 | W39: =S39*T39*U39*V39 -> 18000 | X39: =W39*12.5% -> 2250 | Z39: 045/2 | AA39: 040/2 | AB39: 42074 | AC39: ชำระแล้ว
A40: 030 | B40: 4 | C40: 08H034 | D40: PO00004593 | E40: นางสาว | F40: อัจฉรา | G40: พรหมศร | H40: =E40&" "&F40&" "&G40 -> นางสาว อัจฉรา พรหมศร | I40: นางสาว อัจฉรา พรหมศร | J40: 255 | K40: ม. 4 | L40: ต. คันธุลี | M40: อ. ท่าชนะ | N40: จ. สุราษฎร์ธานี | O40: 84170 | P40: บ้านพักอาศัยตึกชั้นเดียว | Q40: -ร้านขายของชำ | R40: 3 | S40: 6 | T40: 6 | U40: 7 | V40: 12 | W40: =S40*T40*U40*V40 -> 3024 | X40: =W40*12.5% -> 378 | Z40: 083/1 | AA40: 080/1 | AB40: 42037 | AC40: ชำระแล้ว
...

Sheet สรุปโรงเรือน
A1: รหัส | B1: ผลรวม | C1: ชื่อ | D1: บัตร | E1: ไม่มีใน กค1
A2: CO00000001 | B2: 137725.99 | C2: บจก. ท่าชนะน้ำมันปาล์ม - | D2: 0 | E2: #N/A
A3: CO00000006 | B3: 8662.5 | C3: บจก. ทรูมูฟ - | D3: 0 | E3: #N/A
A4: CO00000007 | B4: 300 | C4: บมจ. ทีโอที สาขาไชยา - | D4: 0 | E4: #N/A
A5: CO00000008 | B5: 8812.4963 | C5: บมจ. แอดวานซ์ อินโฟร์ เซอร์วิส - | D5: 0 | E5: #N/A
A6: CO00000010 | B6: 7560 | C6: บมจ. ไทยฮั้วยางพารา - | D6: 0 | E6: #N/A
A7: CO00000011 | B7: 6806.25 | C7: บมจ. โทเทิ่ล แอ็คเซ็ส คอมมูนิเคชั่น - | D7: 0 | E7: #N/A
A8: CO00000012 | B8: 15104.17 | C8: บจก. แฟกซ์ไลท์ - | D8: 0 | E8: #N/A
A9: CO00000013 | B9: 14749.995 | C9: บจก. บีเอฟเคที(ประเทศไทย) - | D9: 0 | E9: #N/A
A10: CO00000015 | B10: 183632.5 | C10: บจก. จิยางกูรปิโตรเลียม - | D10: 0 | E10: #N/A
A11: CO00000017 | B11: 2700 | C11: บจก. สมอทองน้ำมันปาล์ม - | D11: 0 | E11: #N/A
A12: PO00000055 | B12: 472.5 | C12: นาง เพ็ญศรี เพชรวงศ์ | D12: 3840700135496 | E12: 472.5
A13: PO00000061 | B13: 675 | C13: นาย สมบูรณ์ จันทโสม | D13: 3341600875302 | E13: #N/A
A14: PO00000090 | B14: 240 | C14: นางสาว พิไลพร พุ่มน้อย | D14: 3840700141224 | E14: 240
A15: PO00000105 | B15: 2160 | C15: นาย สุรัฐ คุ้มบุญ | D15: 3840500034262 | E15: 2160
A16: PO00000124 | B16: 2610 | C16: นาย ปิยะ ก้อนคำ | D16: 3840700132586 | E16: #N/A
A17: PO00000156 | B17: 1440 | C17: นาย เกษม พลายจันทร์ | D17: 3840700094498 | E17: 1440
A18: PO00000187 | B18: 960 | C18: นางสาว จงกล ชุมพรัตน์ | D18: 3860500131659 | E18: 960
A19: PO00000231 | B19: 225 | C19: นาง วาจา จันทร์นวล | D19: 3840700097411 | E19: #N/A
A20: PO00000319 | B20: 108 | C20: นาง สมโพชย์ หนูเหมือน | D20: 3840700113492 | E20: 108
A21: PO00000362 | B21: 606 | C21: นาง วรรณภา คงนาหมู่ | D21: 3840700131440 | E21: 606
A22: PO00000385 | B22: 562.5 | C22: นาง บุญรับ แซ่คู่ | D22: 0 | E22: #N/A
A23: PO00000573 | B23: 5512.5 | C23: นาง รุ่งนภา ทองยวน | D23: 3840700133671 | E23: #N/A
A24: PO00000585 | B24: 885 | C24: นาย ประเสริฐ แสงสุวรรณ | D24: 3840700134040 | E24: #N/A
A25: PO00000630 | B25: 1050 | C25: นาย วิศิษฎ์ เมืองแมน | D25: 0 | E25: 1050
A26: PO00000646 | B26: 144 | C26: นางสาว โสภะณา กองคลัง | D26: 3840700139556 | E26: #N/A
A27: PO00000759 | B27: 2187 | C27: นาย วีระศักดิ์ สองแก้ว | D27: 0 | E27: #N/A
A28: PO00000893 | B28: 246 | C28: นาง อุ่นใจ ฮงหลี | D28: 3401900006468 | E28: #N/A
A29: PO00000903 | B29: 408 | C29: นาง รัชนี กัณหวงศ์ | D29: 3840700126764 | E29: 408
A30: PO00000927 | B30: 6300 | C30: นาย คำแหง แดงกนิษฐ์ | D30: 3840700147834 | E30: 6300
A31: PO00000930 | B31: 288 | C31: นาง ประนอม มณีบางกา | D31: 3840700182010 | E31: 288
A32: PO00001039 | B32: 2700 | C32: นาย จรวย ขุนณรงค์ | D32: 3840700150100 | E32: 2700
A33: PO00001061 | B33: 2340 | C33: นาย นพพร ถาวรเศรษฐ | D33: 3100601504511 | E33: 2340
A34: PO00001081 | B34: 108 | C34: นาง ราตรี ทิพย์สิน | D34: 3840700104787 | E34: 108
A35: PO00001102 | B35: 240 | C35: นางสาว ลัคนา แก้วลาย | D35: 3840700103250 | E35: 240
A36: PO00001124 | B36: 300 | C36: นาง จรูญ ขำสวัสดิ์ | D36: 5840790004058 | E36: #N/A
A37: PO00001163 | B37: 121.5 | C37: นาย พเยาว์ จันทร์ประดิษฐ | D37: 3840700127337 | E37: 121.5
A38: PO00001217 | B38: 81 | C38: นาง เชื้อ ทิมดี | D38: 3840700127272 | E38: 81
A39: PO00001271 | B39: 4092 | C39: นาง อุระ เกิดรอด | D39: 3800400111991 | E39: 4092
A40: PO00001272 | B40: 630 | C40: นาง ดวงเดือน ทองรักขาว | D40: 3860400026799 | E40: #N/A
...

Sheet รายละเอียดป้าย
A1: ภ.ป.1 เลข/เล่ม | B1: หมู่ ป้าย | C1: รหัส ป้าย | D1: รหัสชื่อ | E1: คำนำ | F1: ชื่อ | G1: สกุล | H1: ชื่อ - สกุล | I1: บ้าน เลขที่ | J1: หมู่ที่ | K1: ตำบล | L1: อำเภอ | M1: จังหวัด | N1: รหัสไปรษณีย์ | O1: ประ เภท | P1: รา คา | Q1: กว้าง | R1: ยาว | S1: เนื้อที่ | T1: คำนวน ภาษี | U1: จำนวน ป้าย | V1: ประ เมินภาษี | W1: ภ.ป.2 เลข/เล่ม | X1: ภ.ป.3 สฎ76502/ | Y1: ภ.ป.7 | Z1: วันที่ | AA1: หมายเหตุ | AB1: ชำระเงิน
A2: 001 | B2: 2 | C2: 06A003 | D2: PO00003069 | E2: นาย | F2: สุทัย | G2: ภู่ศิลป์ | H2: =E2&" "&F2&" "&G2 -> นาย สุทัย ภู่ศิลป์ | I2: 164 | J2: ม. 1 | K2: ต. คันธุลี | L2: อ. ท่าชนะ | M2: จ. สุราษฎร์ธานี | N2: 84170 | O2: 2 | P2: 20 | Q2: 150 | R2: 150 | S2: =Q2*R2 -> 22500 | T2: =S2/500*P2 -> 900 | U2: 1 | V2: 900 | X2: /ว 067 | Y2: 048/1 | Z2: 42146 | AB2: ชำระแล้ว
A3: 002 | B3: 2 | C3: 13B001 | D3: PO00001271 | E3: นาง | F3: อุระ | G3: เกิดรอด | H3: =E3&" "&F3&" "&G3 -> นาง อุระ เกิดรอด | I3: 84/2 | J3: ม. 2 | K3: ต. คันธุลี | L3: อ. ท่าชนะ | M3: จ. สุราษฎร์ธานี | N3: 84170 | O3: 1 | P3: 3 | Q3: 100 | R3: 200 | S3: =Q3*R3 -> 20000 | T3: =S3/500*P3 -> 120 | U3: 1 | V3: 200 | X3: /ว 067 | Y3: 034/1 | Z3: 42079 | AB3: ชำระแล้ว
A4: 003 | B4: 3 | C4: 09H001 | D4: CO00000017 | E4: บจก. | F4: สมอทองน้ำมันปาล์ม | G4: - | H4: บจก. สมอทองน้ำมันปาล์ม | I4: 119 | J4: ม. 10 | K4: ต. ประสงค์ | L4: อ. ท่าชนะ | M4: จ. สุราษฎร์ธานี | N4: 84170 | O4: 1 | P4: 3 | Q4: 120 | R4: 240 | S4: =Q4*R4 -> 28800 | T4: =S4/500*P4 -> 172.8 | U4: 1 | V4: 200 | X4: /ว 067 | Y4: 006/1 | Z4: 42046 | AB4: ชำระแล้ว
A5: 004 | B5: 4 | C5: 10A001 | D5: PO00001584 | E5: นาย | F5: วัฒนา | G5: สำลี | H5: =E5&" "&F5&" "&G5 -> นาย วัฒนา สำลี | I5: 34 | J5: ม. 4 | K5: ต. คันธุลี | L5: อ. ท่าชนะ | M5: จ. สุราษฎร์ธานี | N5: 84170 | O5: 3 | P5: 3 | Q5: 180 | R5: 357 | S5: =Q5*R5 -> 64260 | T5: =S5/500*P5 -> 385.56 | U5: 1 | V5: 386 | W5: 004/1 | X5: /ว 067 | Z5: 42198 | AB5: ชำระแล้ว
A6: 005 | B6: 5 | C6: 03G002 | D6: CO00000010 | E6: บมจ. | F6: ไทยฮั้วยางพารา | G6: - | H6: =E6&" "&F6&" "&G6 -> บมจ. ไทยฮั้วยางพารา - | I6: 130 ถ.เพชรเกษม | J6: ม. 1 | K6: ต. ฉลุง | L6: อ. หาดใหญ่ | M6: จ. สงขลา | N6: 90110 | O6: 3 | P6: 40 | Q6: 100 | R6: 240 | S6: =Q6*R6 -> 24000 | T6: =S6/500*P6 -> 1920 | U6: 1 | V6: 1920 | X6: /ว 067 | Y6: 001/1 | Z6: 42025 | AB6: ชำระแล้ว
A7: 006 | B7: 5 | C7: 03D002 | D7: PO00004690 | E7: นางสาว | F7: สุจินต์ | G7: จันกลาง | H7: =E7&" "&F7&" "&G7 -> นางสาว สุจินต์ จันกลาง | I7: 62 | J7: ม. 8 | K7: ต. หนองหว้า | L7: อ. เขาฉกรรจ์ | M7: จ. สระแก้ว | O7: 1 | P7: 3 | Q7: 120 | R7: 240 | S7: =Q7*R7 -> 28800 | T7: =S7/500*P7 -> 172.8 | U7: 1 | V7: 200 | X7: /ว 067 | Y7: 037/1 | Z7: 42082 | AB7: ชำระแล้ว
A8: 007 | B8: 5 | C8: 03I001 | D8: PO00004144 | E8: นาย | F8: อนุมาศ | G8: บัวเอี่ยม | H8: =E8&" "&F8&" "&G8 -> นาย อนุมาศ บัวเอี่ยม | I8: 266 | J8: ม. 5 | K8: ต. คันธุลี | L8: อ. ท่าชนะ | M8: จ. สุราษฎร์ธานี | N8: 84170 | O8: 1 | P8: 3 | Q8: 120 | R8: 240 | S8: =Q8*R8 -> 28800 | T8: =S8/500*P8 -> 172.8 | U8: 1 | V8: 200 | W8: 007/1 | X8: /ว 067 | Y8: 008/1 | Z8: 42052 | AB8: ชำระแล้ว
A9: 008 | B9: 5 | C9: 03I002 | D9: PO00004756 | E9: นางสาว | F9: ขนิษฐา | G9: ศิลป์สอน | H9: =E9&" "&F9&" "&G9 -> นางสาว ขนิษฐา ศิลป์สอน | I9: 27 | J9: ม. 8 | K9: ต. ละแม | L9: อ. ละแม | M9: จ. ชุมพร | N9: 86170 | O9: 1 | P9: 3 | Q9: 120 | R9: 280 | S9: =Q9*R9 -> 33600 | T9: 202 | U9: 3 | V9: =T9*3 -> 606 | W9: 008/1 | X9: /ว 067 | Y9: 005/1 | Z9: 42038 | AB9: ชำระแล้ว
A10: 009 | B10: 5 | C10: 03J001 | D10: CO00000015 | E10: บจก. | F10: จิยางกูรปิโตรเลียม | G10: - | H10: =E10&" "&F10&" "&G10 -> บจก. จิยางกูรปิโตรเลียม - | I10: 18 | J10: ม. 5 | K10: ต. คันธุลี | L10: อ. ท่าชนะ | M10: จ. สุราษฎร์ธานี | N10: 84170 | O10: 2 | P10: 20 | Q10: 60 | R10: 300 | S10: =Q10*R10 -> 18000 | T10: =S10/500*P10 -> 720 | U10: 1 | V10: 720 | W10: 009/1 | X10: /ว 067 | Y10: 032/1 | Z10: 42076 | AB10: ชำระแล้ว
A11: 009 | B11: 5 | C11: 03J003 | D11: CO00000015 | E11: บจก. | F11: จิยางกูรปิโตรเลียม | G11: - | H11: =E11&" "&F11&" "&G11 -> บจก. จิยางกูรปิโตรเลียม - | I11: 18 | J11: ม. 5 | K11: ต. คันธุลี | L11: อ. ท่าชนะ | M11: จ. สุราษฎร์ธานี | N11: 84170 | O11: 2 | P11: 20 | Q11: 150 | R11: 250 | S11: =Q11*R11 -> 37500 | T11: =S11/500*P11 -> 1500 | U11: 1 | V11: =T11*U11 -> 1500 | W11: 009/1 | X11: /ว 067 | Y11: 032/1 | Z11: 42076 | AB11: ชำระแล้ว
A12: 009 | B12: 5 | C12: 03J004 | D12: CO00000015 | E12: บจก. | F12: จิยางกูรปิโตรเลียม | G12: - | H12: =E12&" "&F12&" "&G12 -> บจก. จิยางกูรปิโตรเลียม - | I12: 18 | J12: ม. 5 | K12: ต. คันธุลี | L12: อ. ท่าชนะ | M12: จ. สุราษฎร์ธานี | N12: 84170 | O12: 3 | P12: 40 | Q12: 50 | R12: 100 | S12: =Q12*R12 -> 5000 | T12: =S12/500*P12 -> 400 | U12: 6 | V12: =T12*U12 -> 2400 | W12: 009/1 | X12: /ว 067 | Y12: 032/1 | Z12: 42076 | AB12: ชำระแล้ว
A13: 010 | B13: 5 | C13: 03J007 | D13: PO00004757 | E13: นาย | F13: กิจจา | G13: ธราพร | H13: =E13&" "&F13&" "&G13 -> นาย กิจจา ธราพร | I13: 18 | J13: ม.5 | K13: ต. คันธุลี | L13: อ. ท่าชนะ | M13: จ. สุราษฎร์ธานี | N13: 84170 | O13: 2 | P13: 20 | Q13: 153 | R13: 235 | S13: =Q13*R13 -> 35955 | T13: =S13/500*P13 -> 1438.2 | U13: 1 | V13: =T13*U13 -> 1438.2 | W13: 010/1 | X13: /ว 067 | Y13: 047/1 | Z13: 42143 | AB13: ชำระแล้ว
A14: 010 | B14: 5 | C14: 03J008 | D14: PO00004757 | E14: นาย | F14: กิจจา | G14: ธราพร | H14: =E14&" "&F14&" "&G14 -> นาย กิจจา ธราพร | I14: 18 | J14: ม.5 | K14: ต. คันธุลี | L14: อ. ท่าชนะ | M14: จ. สุราษฎร์ธานี | N14: 84170 | O14: 2 | P14: 20 | Q14: 65 | R14: 100 | S14: =Q14*R14 -> 6500 | T14: =S14/500*P14 -> 260 | U14: 2 | V14: =T14*U14 -> 520 | W14: 010/1 | X14: /ว 067 | Y14: 047/1 | Z14: 42143 | AB14: ชำระแล้ว
A15: 011 | B15: 5 | C15: 03J009 | D15: CO00000016 | E15: บจก. | F15: สยามแฮนด์ส | G15: - | H15: =E15&" "&F15&" "&G15 -> บจก. สยามแฮนด์ส - | I15: 3,34/4 | J15: ม. 2 | K15: ต. หอมเกร็ด | L15: อ. สามพราน | M15: จ. นครปฐม | N15: 73110 | O15: 2 | P15: 20 | Q15: 80 | R15: 80 | S15: =Q15*R15 -> 6400 | T15: =S15/500*P15 -> 256 | U15: 1 | V15: =T15*U15 -> 256 | X15: /ว 067 | Y15: 032/2 | Z15: 42079 | AB15: ชำระแล้ว
A16: 011 | B16: 5 | C16: 03J010 | D16: CO00000016 | E16: บจก. | F16: สยามแฮนด์ส | G16: - | H16: =E16&" "&F16&" "&G16 -> บจก. สยามแฮนด์ส - | I16: 3,34/4 | J16: ม. 2 | K16: ต. หอมเกร็ด | L16: อ. สามพราน | M16: จ. นครปฐม | N16: 73110 | O16: 3 | P16: 40 | Q16: 50 | R16: 80 | S16: =Q16*R16 -> 4000 | T16: =S16/500*P16 -> 320 | U16: 2 | V16: =T16*U16 -> 640 | X16: /ว 067 | Y16: 032/2 | Z16: 42079 | AB16: ชำระแล้ว
A17: 012 | B17: 5 | C17: 03J005 | D17: PO00004133 | E17: นาง | F17: นิภาวรรณ | G17: เครือหงษ์ | H17: =E17&" "&F17&" "&G17 -> นาง นิภาวรรณ เครือหงษ์ | I17: 78/1 | J17: ม. 3 | K17: ต. คันธุลี | L17: อ. ท่าชนะ | M17: จ. สุราษฎร์ธานี | N17: 84170 | O17: 2 | P17: 20 | Q17: 80 | R17: 140 | S17: =Q17*R17 -> 11200 | T17: =S17/500*P17 -> 448 | U17: 1 | V17: =T17*U17 -> 448 | X17: /ว 067 | Y17: 029/1 | Z17: 42075 | AB17: ชำระแล้ว
A18: 051 | B18: 5 | C18: 03D007 | D18: PO00004761 | E18: นาย | F18: สุวินัย | G18: บัวเอี่ยม | H18: นาย สุวินัย บัวเอี่ยม | I18: 117/2 | J18: ม. 5 | K18: ต. คันธุลี | L18: อ. ท่าชนะ | M18: จ. สุราษฎร์ธานี | N18: 84170 | O18: 1 | P18: 3 | Q18: 120 | R18: 110 | S18: =Q18*R18 -> 13200 | T18: =S18/500*P18 -> 79.2 | U18: 1 | V18: 200 | X18: /ว 067 | Y18: 038/1 | Z18: 42082 | AB18: ชำระแล้ว
A19: 013 | B19: 5 | C19: 03D007 | D19: PO00001673 | E19: นาย | F19: สมศักดิ์ | G19: บัวเอี่ยม | H19: =E19&" "&F19&" "&G19 -> นาย สมศักดิ์ บัวเอี่ยม | I19: 117 | J19: ม. 5 | K19: ต. คันธุลี | L19: อ. ท่าชนะ | M19: จ. สุราษฎร์ธานี | N19: 84170 | O19: 2 | P19: 20 | Q19: 70 | R19: 120 | S19: =Q19*R19 -> 8400 | T19: =S19/500*P19 -> 336 | U19: 1 | V19: 336 | W19: 013/1 | X19: /ว 067 | Y19: 007/1 | Z19: 42052 | AB19: ชำระแล้ว
A20: 015 | B20: 5 | C20: 03F002 | D20: PO00000246 | E20: นาย | F20: วินิจ | G20: กล่อมตุ้น | H20: =E20&" "&F20&" "&G20 -> นาย วินิจ กล่อมตุ้น | I20: 3/2 | J20: ม. 5 | K20: ต. คันธุลี | L20: อ. ท่าชนะ | M20: จ. สุราษฎร์ธานี | N20: 84170 | O20: 1 | P20: 3 | Q20: 150 | R20: 200 | S20: =Q20*R20 -> 30000 | T20: =S20/500*P20 -> 180 | U20: 1 | V20: 200 | X20: /ว 067 | Y20: 028/1 | Z20: 42075 | AB20: ชำระแล้ว
A21: 016 | B21: 5 | C21: 03F001 | D21: PO00001684 | E21: นาย | F21: สมเดช | G21: วรลักษณ์ภักดี | H21: =E21&" "&F21&" "&G21 -> นาย สมเดช วรลักษณ์ภักดี | I21: 7 | J21: ม. 5 | K21: ต. คันธุลี | L21: อ. ท่าชนะ | M21: จ. สุราษฎร์ธานี | N21: 84170 | O21: 1 | P21: 3 | Q21: 100 | R21: 100 | S21: =Q21*R21 -> 10000 | T21: =S21/500*P21 -> 60 | U21: 1 | V21: 200 | X21: /ว 067 | Y21: 041/1 | Z21: 42089 | AB21: ชำระแล้ว
A22: 018 | B22: 6 | C22: 14C001 | D22: PO00000156 | E22: นาย | F22: เกษม | G22: พลายจันทร์ | H22: =E22&" "&F22&" "&G22 -> นาย เกษม พลายจันทร์ | I22: 118 | J22: ม. 1 | K22: ต. คันธุลี | L22: อ. ท่าชนะ | M22: จ. สุราษฎร์ธานี | N22: 84170 | O22: 1 | P22: 3 | Q22: 40 | R22: 380 | S22: =Q22*R22 -> 15200 | T22: =S22/500*P22 -> 91.2 | U22: 1 | V22: 200 | W22: 018/1 | X22: /ว 067 | Y22: 003/1 | Z22: 42032 | AB22: ชำระแล้ว
A23: 019 | B23: 8 | C23: 08B005 | D23: PO00000585 | E23: นาย | F23: ประเสริฐ | G23: แสงสุวรรณ | H23: =E23&" "&F23&" "&G23 -> นาย ประเสริฐ แสงสุวรรณ | I23: 237 | J23: ม. 8 | K23: ต. คันธุลี | L23: อ. ท่าชนะ | M23: จ. สุราษฎร์ธานี | N23: 84170 | O23: 1 | P23: 3 | Q23: 80 | R23: 100 | S23: =Q23*R23 -> 8000 | T23: =S23/500*P23 -> 48 | U23: 1 | V23: 200 | X23: /ว 067 | AB23: ค้างชำระ
A24: 020 | B24: 8 | C24: 08G005 | D24: PO00003361 | E24: นาง | F24: สมร | G24: เหยียบสูญ | H24: =E24&" "&F24&" "&G24 -> นาง สมร เหยียบสูญ | I24: 138 | J24: ม. 3 | K24: ต. คันธุลี | L24: อ. ท่าชนะ | M24: จ. สุราษฎร์ธานี | N24: 84170 | O24: 2 | P24: 20 | Q24: 120 | R24: 250 | S24: =Q24*R24 -> 30000 | T24: =S24/500*P24 -> 1200 | U24: 1 | V24: =T24*U24 -> 1200 | W24: 020/1 | X24: /ว 067 | Y24: 022/1 | Z24: 42065 | AB24: ชำระแล้ว
A25: 020 | B25: 8 | C25: 08G006 | D25: PO00003361 | E25: นาง | F25: สมร | G25: เหยียบสูญ | H25: =E25&" "&F25&" "&G25 -> นาง สมร เหยียบสูญ | I25: 138 | J25: ม. 3 | K25: ต. คันธุลี | L25: อ. ท่าชนะ | M25: จ. สุราษฎร์ธานี | N25: 84170 | O25: 2 | P25: 20 | Q25: 70 | R25: 100 | S25: =Q25*R25 -> 7000 | T25: =S25/500*P25 -> 280 | U25: 1 | V25: 280 | W25: 020/1 | X25: /ว 067 | Y25: 022/1 | Z25: 42065 | AB25: ชำระแล้ว
A26: 021 | B26: 9 | C26: 05Q020 | D26: PO00001650 | E26: นาย | F26: สุเทพ | G26: ไกรราญ | H26: =E26&" "&F26&" "&G26 -> นาย สุเทพ ไกรราญ | I26: 226 | J26: ม. 9 | K26: ต. คันธุลี | L26: อ. ท่าชนะ | M26: จ. สุราษฎร์ธานี | N26: 84170 | O26: 1 | P26: 3 | Q26: 120 | R26: 120 | S26: =Q26*R26 -> 14400 | T26: =S26/500*P26 -> 86.4 | U26: 1 | V26: 200 | X26: /ว 067 | Y26: 012/1 | Z26: 42059 | AB26: ชำระแล้ว
A27: 022 | B27: 9 | C27: 05Q027 | D27: PO00004454 | E27: นาย | F27: อรุณรัตน์ | G27: รุ่งโรจน์ | H27: =E27&" "&F27&" "&G27 -> นาย อรุณรัตน์ รุ่งโรจน์ | I27: 7/1 | J27: ม. 9 | K27: ต. คันธุลี | L27: อ. ท่าชนะ | M27: จ. สุราษฎร์ธานี | N27: 84170 | O27: 2 | P27: 20 | Q27: 100 | R27: 50 | S27: =Q27*R27 -> 5000 | T27: =S27/500*P27 -> 200 | U27: 2 | V27: 400 | X27: /ว 067 | Y27: 014/1 | Z27: 42059 | AB27: ชำระแล้ว
A28: 023 | B28: 9 | C28: 05Q024 | D28: PO00001656 | E28: นาง | F28: สุภานัน | G28: พิเศษศุภอรรถ | H28: =E28&" "&F28&" "&G28 -> นาง สุภานัน พิเศษศุภอรรถ | I28: 249 | J28: ม. 9 | K28: ต. คันธุลี | L28: อ. ท่าชนะ | M28: จ. สุราษฎร์ธานี | N28: 84170 | O28: 1 | P28: 3 | Q28: 30 | R28: 100 | S28: =Q28*R28 -> 3000 | T28: =S28/500*P28 -> 18 | U28: 1 | V28: 200 | X28: /ว 067 | Y28: 013/1 | Z28: 42059 | AB28: ชำระแล้ว
A29: 024 | B29: 9 | C29: 05Q016 | D29: PO00001947 | E29: นาย | F29: สุกมล | G29: พิเศษศุภอรรถ | H29: =E29&" "&F29&" "&G29 -> นาย สุกมล พิเศษศุภอรรถ | I29: 73 | J29: ม. 9 | K29: ต. คันธุลี | L29: อ. ท่าชนะ | M29: จ. สุราษฎร์ธานี | N29: 84170 | O29: 1 | P29: 3 | Q29: 40 | R29: 170 | S29: =Q29*R29 -> 6800 | T29: =S29/500*P29 -> 40.8 | U29: 1 | V29: 200 | X29: /ว 067 | Y29: 044/1 | Z29: 42090 | AB29: ชำระแล้ว
A30: 025 | B30: 9 | C30: 05Q014 | D30: PO00001661 | E30: นาย | F30: ศักรินทร์ | G30: สุขเจริญ | H30: =E30&" "&F30&" "&G30 -> นาย ศักรินทร์ สุขเจริญ | I30: 195 | J30: ม. 9 | K30: ต. คันธุลี | L30: อ. ท่าชนะ | M30: จ. สุราษฎร์ธานี | N30: 84170 | O30: 1 | P30: 3 | Q30: 30 | R30: 120 | S30: =Q30*R30 -> 3600 | T30: =S30/500*P30 -> 21.6 | U30: 1 | V30: 200 | X30: /ว 067 | Y30: 052/1 | Z30: 42237 | AB30: ชำระแล้ว
A31: 026 | B31: 9 | C31: 05Q037 | D31: PO00001657 | E31: นาง | F31: อุทัยวรรณ | G31: ช่วยตน | H31: =E31&" "&F31&" "&G31 -> นาง อุทัยวรรณ ช่วยตน | I31: 8 | J31: ม. 9 | K31: ต. คันธุลี | L31: อ. ท่าชนะ | M31: จ. สุราษฎร์ธานี | N31: 84170 | O31: 1 | P31: 3 | Q31: 60 | R31: 100 | S31: =Q31*R31 -> 6000 | T31: =S31/500*P31 -> 36 | U31: 1 | V31: 200 | X31: /ว 067 | Y31: 016/1 | Z31: 42059 | AB31: ชำระแล้ว
A32: 027 | B32: 9 | C32: 05Q029 | D32: PO00001952 | E32: นาย | F32: ประเสริฐ | G32: หนูบุญ | H32: =E32&" "&F32&" "&G32 -> นาย ประเสริฐ หนูบุญ | I32: 249/1 | J32: ม. 9 | K32: ต. คันธุลี | L32: อ. ท่าชนะ | M32: จ. สุราษฎร์ธานี | N32: 84170 | O32: 1 | P32: 3 | Q32: 57 | R32: 80 | S32: =Q32*R32 -> 4560 | T32: =S32/500*P32 -> 27.36 | U32: 1 | V32: 200 | X32: /ว 067 | Y32: 015/1 | Z32: 42059 | AB32: ชำระแล้ว
A33: 053 | B33: 9 | C33: 05Q019 | D33: PO00004462 | E33: นาย | F33: ณฐวัฒน์ | G33: ณ ถลาง | H33: นาย ณฐวัฒน์ ณ ถลาง | I33: 225/1 | J33: ม. 9 | K33: ต. คันธุลี | L33: อ. ท่าชนะ | M33: จ. สุราษฎร์ธานี | N33: 84170 | O33: 1 | P33: 3 | Q33: 100 | R33: 400 | S33: =Q33*R33 -> 40000 | T33: =S33/500*P33 -> 240 | U33: 1 | V33: 240 | X33: /ว 067 | Y33: 042/1 | Z33: 42089 | AB33: ชำระแล้ว
A34: 028 | B34: 9 | C34: 05Q030 | D34: PO00001664 | E34: นาย | F34: มานพ | G34: ตั้งรุ่งเจริญ | H34: =E34&" "&F34&" "&G34 -> นาย มานพ ตั้งรุ่งเจริญ | I34: 16 | J34: ม. 9 | K34: ต. คันธุลี | L34: อ. ท่าชนะ | M34: จ. สุราษฎร์ธานี | N34: 84170 | O34: 2 | P34: 20 | Q34: 100 | R34: 120 | S34: =Q34*R34 -> 12000 | T34: =S34/500*P34 -> 480 | U34: 1 | V34: 480 | X34: /ว 067 | Y34: 018/1 | Z34: 42059 | AB34: ชำระแล้ว
A35: 028 | B35: 9 | C35: 05Q039 | D35: PO00001664 | E35: นาย | F35: มานพ | G35: ตั้งรุ่งเจริญ | H35: =E35&" "&F35&" "&G35 -> นาย มานพ ตั้งรุ่งเจริญ | I35: 16 | J35: ม. 9 | K35: ต. คันธุลี | L35: อ. ท่าชนะ | M35: จ. สุราษฎร์ธานี | N35: 84170 | O35: 2 | P35: 20 | Q35: 90 | R35: 120 | S35: =Q35*R35 -> 10800 | T35: =S35/500*P35 -> 432 | U35: 1 | V35: =T35*U35 -> 432 | X35: /ว 067 | Y35: 018/1 | Z35: 42059 | AB35: ชำระแล้ว
A36: 029 | B36: 9 | C36: 05Q031 | D36: PO00004452 | E36: นาย | F36: ประสาน | G36: ทิตย์ศักดิ์ | H36: =E36&" "&F36&" "&G36 -> นาย ประสาน ทิตย์ศักดิ์ | I36: 208 | J36: ม. 5 | K36: ต. สมอทอง | L36: อ. ท่าชนะ | M36: จ. สุราษฎร์ธานี | N36: 84170 | O36: 1 | P36: 3 | Q36: 120 | R36: 230 | S36: =Q36*R36 -> 27600 | T36: =S36/500*P36 -> 165.6 | U36: 2 | V36: 400 | X36: /ว 067 | Y36: 017/1 | Z36: 42059 | AB36: ชำระแล้ว
