Workbook

Sheet รายงาน
A1: องค์การบริหารส่วนตำบลคันธุลี
A2: รายละเอียดผู้ชำระภาษี (กค.1) ปี พ.ศ. 2559
A4: ที่ | B4: รหัสชื่อ | C4: หมายเลขบัตรประจำตัวประชาชนผู้เสียภาษี | D4: ชื่อ - สกุล | E4: ภาษีโรงเรือน และที่ดิน | G4: ภาษีบำรุงท้องที่ | I4: ภาษีป้าย | K4: หมายเหตุ
E5: จำนวน | F5: เพิ่ม ลด | G5: จำนวน | H5: เพิ่ม ลด | I5: จำนวน | J5: เพิ่ม ลด
A6: 1 | B6: PO00002307 | C6: 3840200007367 | D6: ดาบตำรวจ จเร โสมแก้ว | E6: 0 | G6: 30 | I6: 0
A7: 2 | B7: PO00003936 | D7: เด็กชาย นันทวัฒน์ สุวรรณ | E7: 0 | G7: 70 | I7: 0
A8: 3 | B8: PO00003935 | D8: เด็กหญิง ณัฐฑิกา สุวรรณ | E8: 0 | G8: 60 | I8: 0
A9: 4 | B9: PO00004346 | C9: 1909800868127 | D9: เด็กหญิง ธัญกานต์ เฉลิมพนาพันธ์ | E9: 0 | G9: 427 | I9: 0
A10: 5 | B10: PO00003956 | C10: 3840700138142 | D10: นาง กชกานต์ ราชฉวาง | E10: 0 | G10: 67 | I10: 0
A11: 6 | B11: PO00004747 | C11: 3800400871375 | D11: นาง กชพรรณ ตั้งธัญวุฒิ | E11: 0 | G11: 261 | I11: 0
A12: 7 | B12: PO00000368 | C12: 3840700139769 | D12: นาง กรกนก แก้วขวัญ | E12: 0 | G12: 102 | I12: 0
A13: 8 | B13: PO00004477 | C13: 3841700400841 | D13: นาง กรณิการ์ มหามาตย์ | E13: 189 | G13: 0 | I13: 0
A14: 9 | B14: PO00001482 | C14: 3840700123901 | D14: นาง กรรณิการ์ นาคขำ | E14: 0 | G14: 163 | I14: 0
A15: 10 | B15: PO00001545 | C15: 3849900013244 | D15: นาง กรองแก้ว ภิญโญ | E15: 0 | G15: 170 | I15: 0
A16: 11 | B16: PO00004232 | C16: 3860500019930 | D16: นาง กฤษณา หนูทอง | E16: 0 | G16: 75 | I16: 0
A17: 12 | B17: PO00001341 | C17: 3840700288187 | D17: นาง กลิ่น แรงเขตการ | E17: 0 | G17: 105 | I17: 0
A18: 13 | B18: PO00004185 | C18: 3840700108740 | D18: นาง กัญญา ดวงแป้น | E18: 0 | G18: 74 | I18: 0
A19: 14 | B19: PO00000730 | D19: นาง กัญญา สิรินิลกุล | E19: 0 | G19: 219 | I19: 0
A20: 15 | B20: PO00002641 | C20: 3840700104183 | D20: นาง กัญญา สุวรรณวงศ์ | E20: 0 | G20: 61 | I20: 0
A21: 16 | B21: PO00001946 | C21: 3840700114758 | D21: นาง กัญหา รอดเกิด | E21: 0 | G21: 56 | I21: 0
A22: 17 | B22: PO00002923 | C22: 3860500031344 | D22: นาง กันยา ราษฏร์เจริญ | E22: 0 | G22: 319 | I22: 0
A23: 18 | B23: PO00002755 | C23: 3860500047712 | D23: นาง กันยารัตน์ คชสีห์ | E23: 0 | G23: 212 | I23: 0
A24: 19 | B24: PO00004777 | D24: นาง กัลยา ตั้งพิทักษ์กุล | E24: 0 | G24: 96 | I24: 0
A25: 20 | B25: PO00003947 | C25: 3840700079359 | D25: นาง กัลยา สวัสดิ์วิจิตรกุล | E25: 0 | G25: 135 | I25: 0
A26: 21 | B26: PO00000365 | C26: 3849900101593 | D26: นาง กาญจนา นิยมวัฒนพันธ์ | E26: 0 | G26: 46 | I26: 0
A27: 22 | B27: PO00001569 | C27: 3840700158054 | D27: นาง กาญจนา สมสุวรรณ | E27: 0 | G27: 107 | I27: 0
A28: 23 | B28: PO00001290 | C28: 3840700148105 | D28: นาง กิ้ม พรหมทอง | E28: 0 | G28: 9 | I28: 0
A29: 24 | B29: PO00001412 | C29: 3840700115142 | D29: นาง กิ้มข้อง บุญชุม | E29: 0 | G29: 28 | I29: 0
A30: 25 | B30: PO00001389 | C30: 3840700115584 | D30: นาง กิ้มซ้าน ชูเลข | E30: 0 | G30: 44 | I30: 0
A31: 26 | B31: PO00000531 | C31: 3840700117846 | D31: นาง กิ้มห้อง แซ่อ่าง | E31: 0 | G31: 128 | I31: 0
A32: 27 | B32: PO00001160 | C32: 3840700117854 | D32: นาง กิ้มให้ แซ่อ่าง | E32: 0 | G32: 19 | I32: 0
A33: 28 | B33: PO00001036 | C33: 3840700099686 | D33: นาง กิมอยู่ แสงสุข | E33: 0 | G33: 317 | I33: 0
A34: 29 | B34: PO00002651 | C34: 3860400225171 | D34: นาง กี่เหื้อง เอื้อพัฒนพงศ์ | E34: 0 | G34: 96 | I34: 0
A35: 30 | B35: PO00001236 | D35: นาง เกต ขำสุวรรณ | E35: 0 | G35: 65 | I35: 0
A36: 31 | B36: PO00001384 | C36: 3840700116793 | D36: นาง เกลื่อน อินแป้น | E36: 0 | G36: 149 | I36: 0
A37: 32 | B37: PO00004303 | D37: นาง เกศกมล จุเส้ง | E37: 0 | G37: 75 | I37: 0
A38: 33 | B38: PO00000536 | C38: 3840700140821 | D38: นาง เกศรี จันทร์ดำ | E38: 0 | G38: 14 | I38: 0
A39: 34 | B39: PO00001895 | C39: 3840700133710 | D39: นาง เกศรี สงคงคา | E39: 0 | G39: 156 | I39: 0
A40: 35 | B40: PO00001137 | C40: 3840700114057 | D40: นาง เกศสุดา สิงห์คราช | E40: 0 | G40: 30 | I40: 0
A41: 36 | B41: PO00000565 | C41: 3840700131229 | D41: นาง เกษร เขียวสม | E41: 0 | G41: 96 | I41: 0
A42: 37 | B42: PO00003988 | C42: 3840700240907 | D42: นาง เกษร จิตวิเศษ | E42: 0 | G42: 56 | I42: 0
A43: 38 | B43: PO00003938 | C43: 3840700130141 | D43: นาง เกษร นนทสิงห์ | E43: 0 | G43: 35 | I43: 0
A44: 39 | B44: PO00002264 | C44: 3840700085383 | D44: นาง เกษร มงคลเคหา | E44: 0 | G44: 103 | I44: 0
A45: 40 | B45: PO00001300 | C45: 3840700145751 | D45: นาง เกษร โรยสกุล | E45: 1125 | G45: 75 | I45: 0
A46: 41 | B46: PO00002737 | C46: 3130200262428 | D46: นาง เกษี จิตวิเศษ | E46: 0 | G46: 63 | I46: 0
A47: 42 | B47: PO00000902 | D47: นาง ขจร ใหม่ซ้อน | E47: 0 | G47: 14 | I47: 0
A48: 43 | B48: PO00003196 | D48: นาง ขนิษฐา กาฬสมุทร | E48: 0 | G48: 191 | I48: 0
A49: 44 | B49: PO00002027 | C49: 3840700120553 | D49: นาง ขวัญจิตร สงค์สิริจินดา | E49: 0 | G49: 37 | I49: 0
A50: 45 | B50: PO00001002 | D50: นาง ขวัญใจ นาครัตน์ | E50: 0 | G50: 124 | I50: 0
A51: 46 | B51: PO00003240 | D51: นาง ขาว กลิ่นรส | E51: 0 | G51: 89 | I51: 0
A52: 47 | B52: PO00000496 | C52: 3840700057002 | D52: นาง เขือม หนูขาว | E52: 0 | G52: 25 | I52: 0
A53: 48 | B53: PO00001386 | D53: นาง คง จันดำ | E53: 0 | G53: 131 | I53: 0
A54: 49 | B54: PO00002361 | C54: 3840700139858 | D54: นาง คนึง วิเศษมาก(ชลา) | E54: 0 | G54: 100 | I54: 0
A55: 50 | B55: PO00003621 | C55: 3840700113093 | D55: นาง คำ ฤทธิกุล | E55: 0 | G55: 42 | I55: 0
A56: 51 | B56: PO00002700 | C56: 3860500148853 | D56: นาง คำนึง แป้นทอง | E56: 0 | G56: 168 | I56: 0
A57: 52 | B57: PO00002490 | C57: 3840700134970 | D57: นาง คุรุรัตน์ เดิมโรย | E57: 0 | G57: 152 | I57: 0
A58: 53 | B58: PO00001815 | C58: 3840700127833 | D58: นาง เครือวัลย์ โพธิ์ภักดี | E58: 0 | G58: 93 | I58: 0
A59: 54 | B59: PO00001490 | C59: 5840600016815 | D59: นาง เงื้อม เปียสวัสด์ | E59: 0 | G59: 191 | I59: 0
A60: 55 | B60: PO00002174 | C60: 3840700098574 | D60: นาง จงกลณี น่วมภักดี | E60: 0 | G60: 47 | I60: 0
A61: 56 | B61: PO00002920 | C61: 3860400004221 | D61: นาง จงจิตร เมืองนุ้ย | E61: 0 | G61: 79 | I61: 0
A62: 57 | B62: PO00004040 | C62: 3840700140805 | D62: นาง จงดี สังวิเศษ | E62: 0 | G62: 58 | I62: 0
A63: 58 | B63: PO00004447 | D63: นาง จรรยา เกตุมา | E63: 0 | G63: 46 | I63: 0
A64: 59 | B64: PO00002861 | C64: 3860400217985 | D64: นาง จรรยา คำชุมภู | E64: 0 | G64: 60 | I64: 0
A65: 60 | B65: PO00003926 | C65: 3860500018011 | D65: นาง จรรยา แพคีรี | E65: 0 | G65: 147 | I65: 0
A66: 61 | B66: PO00001491 | C66: 3840700120758 | D66: นาง จรรยา รัตนเกล้า | E66: 0 | G66: 184 | I66: 0
A67: 62 | B67: PO00000547 | C67: 3840700134911 | D67: นาง จรวย บัวชู | E67: 0 | G67: 238 | I67: 0
A68: 63 | B68: PO00001185 | C68: 3840700117722 | D68: นาง จรวย อาวุฒิ | E68: 0 | G68: 141 | I68: 0
A69: 64 | B69: PO00004202 | C69: 1840700001671 | D69: นาง จรัสพร ปลอดขันเงิน | E69: 0 | G69: 5 | I69: 0
A70: 65 | B70: PO00004119 | C70: 3840700146960 | D70: นาง จรัสศรี ดวงแป้น | E70: 0 | G70: 117 | I70: 0
A71: 66 | B71: PO00001414 | C71: 3800900261541 | D71: นาง จริยา ชูชมชื่น | E71: 0 | G71: 93 | I71: 0
A72: 67 | B72: PO00003467 | D72: นาง จริยา สงคงคา | E72: 4500 | G72: 0 | I72: 0
A73: 68 | B73: PO00001269 | C73: 3840700146951 | D73: นาง จรีย์ ดวงแป้น | E73: 0 | G73: 82 | I73: 0
A74: 69 | B74: PO00001124 | C74: 5840790004058 | D74: นาง จรูญ ขำสวัสดิ์ | E74: 300 | G74: 0 | I74: 0
A75: 70 | B75: PO00000004 | C75: 3840700134902 | D75: นาง จรูญ นุชนัย | E75: 0 | G75: 126 | I75: 0
A76: 71 | B76: PO00002357 | C76: 3840700133442 | D76: นาง จวน เพ็ชร์รมย์ | E76: 0 | G76: 67 | I76: 0
A77: 72 | B77: PO00000909 | C77: 3840700120839 | D77: นาง จวบ สุขโสดา | E77: 0 | G77: 124 | I77: 0
A78: 73 | B78: PO00002806 | C78: 3840700006114 | D78: นาง จันทนา หนูคงคา | E78: 0 | G78: 222 | I78: 0
A79: 74 | B79: PO00001326 | D79: นาง จันทมาศ ปานเนียร | E79: 0 | G79: 19 | I79: 0
A80: 75 | B80: PO00001798 | D80: นาง จันทร์ จีบจอม | E80: 0 | G80: 84 | I80: 0
A81: 76 | B81: PO00000750 | C81: 3840700122807 | D81: นาง จันทร์ อินแป้น | E81: 0 | G81: 23 | I81: 0
A82: 77 | B82: PO00000682 | C82: 3840700088854 | D82: นาง จันทร์จิรา มาตรา | E82: 0 | G82: 49 | I82: 0
A83: 78 | B83: PO00001288 | C83: 3840700149675 | D83: นาง จันทร์ธิมา จันทร์เพชร | E83: 0 | G83: 163 | I83: 0
A84: 79 | B84: PO00000173 | C84: 3860300153641 | D84: นาง จันทร์นา วรพัฒนกุล | E84: 0 | G84: 51 | I84: 0
A85: 80 | B85: PO00004315 | C85: 3100600431944 | D85: นาง จันทร์เพ็ญ กิจนิยม | E85: 0 | G85: 184 | I85: 0
A86: 81 | B86: PO00002219 | C86: 4840700001871 | D86: นาง จันทร์เพ็ญ เตื้องวิวัฒน์ | E86: 0 | G86: 250 | I86: 0
A87: 82 | B87: PO00000981 | C87: 3840700155608 | D87: นาง จันทร์อุทัย เวสารัตน์ | E87: 0 | G87: 280 | I87: 0
A88: 83 | B88: PO00000877 | C88: 3869800036498 | D88: นาง จันทรา กวางษี | E88: 0 | G88: 16 | I88: 0
A89: 84 | B89: PO00002549 | C89: 3840700088340 | D89: นาง จันทรา ชูจันทร์ | E89: 0 | G89: 814 | I89: 0
A90: 85 | B90: PO00004576 | C90: 3840700100412 | D90: นาง จันทรา นุ่นบุญคง | E90: 0 | G90: 26 | I90: 0
A91: 86 | B91: PO00004601 | C91: 5200700003401 | D91: นาง จันทรา บุญเมือง | E91: 0 | G91: 74 | I91: 0
A92: 87 | B92: PO00003650 | C92: 3840700135631 | D92: นาง จันทรา พิชัยยุทธิ์ | E92: 0 | G92: 91 | I92: 0
... A95: 90 | B95: PO00000865 | C95: 3840700281379 | D95: นาง จารี ลายพัฒน์ | E95: 0 | G95: 32 | I95: 0
A96: 91 | B96: PO00004581 | D96: นาง จารีย์ ชูสกุล | E96: 78.75 | G96: 0 | I96: 200
A97: 92 | B97: PO00000172 | C97: 3840700139394 | D97: นาง จารีย์ ทิมดี | E97: 0 | G97: 117 | I97: 0
A98: 93 | B98: PO00000959 | C98: 3840700150801 | D98: นาง จารึก วัตถุ | E98: 0 | G98: 175 | I98: 0
A99: 94 | B99: PO00000256 | C99: 5840700018313 | D99: นาง จารึก ไสวพันธ์ | E99: 0 | G99: 46 | I99: 0
A100: 95 | B100: PO00001892 | C100: 5840700020211 | D100: นาง จารุชา บุญประดิษฐ์ | E100: 0 | G100: 219 | I100: 0
A101: 96 | B101: PO00001071 | C101: 3849900247865 | D101: นาง จารุวรรณ เจาวยนต์ | E101: 0 | G101: 484 | I101: 0
A102: 97 | B102: PO00001591 | C102: 3840700103641 | D102: นาง จารุวรรณ ชะตารัตน์ | E102: 0 | G102: 58 | I102: 0
A103: 98 | B103: PO00002418 | C103: 3840700133795 | D103: นาง จารุวรรณ หน้าเสือ | E103: 0 | G103: 74 | I103: 0
...

Sheet ปะหน้า
A1: องค์การบริหารส่วนตำบลคันธุลี
A2: สรุปผู้ชำระภาษี (กค.1) ปี พ.ศ. 2558
A5: ภาษี | B5: จำนวนราย | C5: จำนวนเงิน
A6: ภาษีบำรุงท้องที่ | B6: 2406 | C6: 334863
A7: ภาษีโรงเรือนและที่ดิน | B7: 158 | C7: 584410
A8: ภาษีป้าย | B8: 49 | C8: 54864

Sheet รายละเอียดบำรุง
A1: หมู่ ที่ดิน | B1: เลขสำรวจปี49 | C1: เลขสำรวจปี53 | D1: ลูกหนี้ | E1: รหัส | F1: บัตรประชาชน | G1: คำนำ | H1: ชื่อ | I1: สกุล | J1: ที่อยู่ | K1: เลขที่,ถนน | L1: หมู่ | M1: ตำบล | N1: อำเภอ | O1: จังหวัด | P1: รหัสไปรษณีย์ | Q1: ภาษี 49 | R1: ภาษี 50 | S1: ภาษี 51 | T1: ภาษี 52 | U1: ภาษี 53 | V1: ภาษี 54 | W1: ภาษี 55 | X1: ภาษี 56 | Y1: ภาษี 57 | Z1: ภาษี 58 | AA1: รวม | AB1: หมายเหตุ | AC1: บันทึกขอยกเลิก | AD1: รวมชื่อ
A2: 01 | C2: 001 | E2: PO00001995 | F2: 0 | G2: นาย | H2: สาธก | I2: วรศะริน | J2: =K2&" "&L2&" "&M2&" "&N2&" "&O2 -> 109/4 ซ.แข็งขัน 2 ถ.พหลโยธิน 64 ม. 11 ต. คูคต อ. ลำลูกกา จ. ปทุมธานี | K2: 109/4 ซ.แข็งขัน 2 ถ.พหลโยธิน 64 | L2: ม. 11 | M2: ต. คูคต | N2: อ. ลำลูกกา | O2: จ. ปทุมธานี | P2: 12130 | Z2: 107 | AA2: =SUM(Q2:Z2) -> 107 | AD2: =G2&" "&H2&" "&I2 -> นาย สาธก วรศะริน
A3: 01 | C3: 002 | E3: PO00004576 | F3: 3840700100412 | G3: นาง | H3: จันทรา | I3: นุ่นบุญคง | J3: =K3&" "&L3&" "&M3&" "&N3&" "&O3 -> 64 ม. 2 ต. ละแม อ. ละแม จ. ชุมพร | K3: 64 | L3: ม. 2 | M3: ต. ละแม | N3: อ. ละแม | O3: จ. ชุมพร | P3: 86170 | Z3: 26 | AA3: =SUM(Q3:Z3) -> 26 | AD3: =G3&" "&H3&" "&I3 -> นาง จันทรา นุ่นบุญคง
A4: 01 | B4: 34/49 | C4: 003 | E4: PO00000219 | F4: 3102000128061 | G4: นาย | H4: สมประสงค์ | I4: ภู่ศิลป์ | J4: =K4&" "&L4&" "&M4&" "&N4&" "&O4 -> 113/1 ถ.พระราม 6 ซ.15(วัดบรมนิวาส) ม. - แขวง รองเมือง เขต ปทุมวัน จ. กรุงเทพมหานคร | K4: 113/1 ถ.พระราม 6 ซ.15(วัดบรมนิวาส) | L4: ม. - | M4: แขวง รองเมือง | N4: เขต ปทุมวัน | O4: จ. กรุงเทพมหานคร | P4: 10110 | Z4: 476 | AA4: =SUM(Q4:Z4) -> 476 | AD4: =G4&" "&H4&" "&I4 -> นาย สมประสงค์ ภู่ศิลป์
A5: 01 | C5: 004 | E5: PO00004103 | F5: 1809900030541 | G5: นางสาว | H5: มนกันต์ | I5: ถิ่นนคร | J5: =K5&" "&L5&" "&M5&" "&N5&" "&O5 -> 8/3 ถ.ชลวิถี ม. - ต. ในเมือง อ. เมืองนครศรีธรรมราช จ. นครศรีธรรมราช | K5: 8/3 ถ.ชลวิถี | L5: ม. - | M5: ต. ในเมือง | N5: อ. เมืองนครศรีธรรมราช | O5: จ. นครศรีธรรมราช | P5: 80000 | Z5: 170 | AA5: =SUM(Q5:Z5) -> 170 | AD5: =G5&" "&H5&" "&I5 -> นางสาว มนกันต์ ถิ่นนคร
A6: 01 | B6: 108/49 | C6: 005 | E6: PO00002274 | F6: 3840700098353 | H6: นาง มาลี - นาย สุขชัย สมหา | I6: สมหา | J6: =K6&" "&L6&" "&M6&" "&N6&" "&O6 -> 35 ม. 11 ต. คันธุลี อ. ท่าชนะ จ. สุราษฎร์ธานี | K6: 35 | L6: ม. 11 | M6: ต. คันธุลี | N6: อ. ท่าชนะ | O6: จ. สุราษฎร์ธานี | P6: 84170 | Z6: 152 | AA6: =SUM(Q6:Z6) -> 152 | AD6: =G6&" "&H6&" "&I6 -> นาง มาลี - นาย สุขชัย สมหา สมหา
A7: 01 | B7: 7/49 | C7: 006 | E7: PO00004712 | F7: 5100200240731 | G7: ร.อ. | H7: วรรณโน | I7: กรีมละ | J7: =K7&" "&L7&" "&M7&" "&N7&" "&O7 -> 100/570 ม. 5 ต. บางรักพัฒนา อ. บางบัวทอง จ. นนทบุรี | K7: 100/570 | L7: ม. 5 | M7: ต. บางรักพัฒนา | N7: อ. บางบัวทอง | O7: จ. นนทบุรี | P7: 11110 | Z7: 292 | AA7: =SUM(Q7:Z7) -> 292 | AB7: เดิม นางราตรี กรีมละ โอนปี 57 | AD7: =G7&" "&H7&" "&I7 -> ร.อ. วรรณโน กรีมละ
A8: 01 | B8: 10/49 | C8: 007 | E8: PO00001050 | F8: 3840700101222 | G8: นาง | H8: เลข | I8: สองเมืองสุข | J8: =K8&" "&L8&" "&M8&" "&N8&" "&O8 -> 70 ม. 1 ต. คันธุลี อ. ท่าชนะ จ. สุราษฎร์ธานี | K8: 70 | L8: ม. 1 | M8: ต. คันธุลี | N8: อ. ท่าชนะ | O8: จ. สุราษฎร์ธานี | P8: 84170 | Z8: 42 | AA8: =SUM(Q8:Z8) -> 42 | AD8: =G8&" "&H8&" "&I8 -> นาง เลข สองเมืองสุข
A9: 01 | B9: 11/49 | C9: 008 | E9: PO00000760 | F9: 3840700096342 | G9: นาย | H9: ทุย | I9: อินรงค์ | J9: =K9&" "&L9&" "&M9&" "&N9&" "&O9 -> 18 ม. 1 ต. คันธุลี อ. ท่าชนะ จ. สุราษฎร์ธานี | K9: 18 | L9: ม. 1 | M9: ต. คันธุลี | N9: อ. ท่าชนะ | O9: จ. สุราษฎร์ธานี | P9: 84170 | Z9: 32 | AA9: =SUM(Q9:Z9) -> 32 | AD9: =G9&" "&H9&" "&I9 -> นาย ทุย อินรงค์
A10: 01 | C10: 009 | E10: PO00004104 | F10: 3100601504520 | G10: นางสาว | H10: ปิยาพร | I10: ถาวรเศรษฐ | J10: =K10&" "&L10&" "&M10&" "&N10&" "&O10 -> 7/44 ถ.สวนสยาม ม. - แขวง คันนายาว เขต คันนายาว จ. กรุงเทพมหานคร | K10: 7/44 ถ.สวนสยาม | L10: ม. - | M10: แขวง คันนายาว | N10: เขต คันนายาว | O10: จ. กรุงเทพมหานคร | P10: 10230 | Z10: 159 | AA10: =SUM(Q10:Z10) -> 159 | AD10: =G10&" "&H10&" "&I10 -> นางสาว ปิยาพร ถาวรเศรษฐ
A11: 01 | B11: 14/49 | C11: 010 | E11: PO00000791 | F11: 0 | G11: นางสาว | H11: สุดารัตน์ | I11: จันทรัตน์ | J11: =K11&" "&L11&" "&M11&" "&N11&" "&O11 -> 626 ถ.เพชรเกษม ม. - ต. พระปราโทน อ. เมืองนครปฐม จ. นครปฐม | K11: 626 ถ.เพชรเกษม | L11: ม. - | M11: ต. พระปราโทน | N11: อ. เมืองนครปฐม | O11: จ. นครปฐม | P11: 73000 | Z11: 588 | AA11: =SUM(Q11:Z11) -> 588 | AD11: =G11&" "&H11&" "&I11 -> นางสาว สุดารัตน์ จันทรัตน์
A12: 01 | B12: 15/49 | C12: 011 | E12: PO00000724 | F12: 3840700118460 | G12: นาย | H12: สนาน | I12: จันทรัตน์ | J12: =K12&" "&L12&" "&M12&" "&N12&" "&O12 -> 12 ม. 2 ต. คันธุลี อ. ท่าชนะ จ. สุราษฎร์ธานี | K12: 12 | L12: ม. 2 | M12: ต. คันธุลี | N12: อ. ท่าชนะ | O12: จ. สุราษฎร์ธานี | P12: 84170 | Z12: 219 | AA12: =SUM(Q12:Z12) -> 219 | AD12: =G12&" "&H12&" "&I12 -> นาย สนาน จันทรัตน์
A13: 01 | B13: 16/49 | C13: 012 | D13: R | E13: PO00002052 | F13: 0 | G13: นาง | H13: สรชา | I13: แสงวรรณ์ | J13: =K13&" "&L13&" "&M13&" "&N13&" "&O13 -> 72/173 ม. - แขวง บางบอน เขต บางขุนเทียน จ. กรุงเทพมหานคร | K13: 72/173 | L13: ม. - | M13: แขวง บางบอน | N13: เขต บางขุนเทียน | O13: จ. กรุงเทพมหานคร | P13: 10150 | R13: 49 | S13: 49 | T13: 49 | U13: 49 | V13: 49 | W13: 49 | X13: 49 | Y13: 49 | Z13: 49 | AA13: =SUM(Q13:Z13) -> 441 | AB13: แจ้งว่าขายแล้ว สอบถามจากคุณวันชัย | AD13: =G13&" "&H13&" "&I13 -> นาง สรชา แสงวรรณ์
A14: 01 | C14: 013 | D14: R | E14: PO00002287 | F14: 3860500137568 | G14: นาย | H14: พฤฒิสิทธิ์ | I14: ทิพย์ฤกษ์ | J14: =K14&" "&L14&" "&M14&" "&N14&" "&O14 -> 33 ม. 3 ต. สวนแตง อ. ละแม จ. ชุมพร | K14: 33 | L14: ม. 3 | M14: ต. สวนแตง | N14: อ. ละแม | O14: จ. ชุมพร | P14: 86170 | Z14: 56 | AA14: =SUM(Q14:Z14) -> 56 | AD14: =G14&" "&H14&" "&I14 -> นาย พฤฒิสิทธิ์ ทิพย์ฤกษ์
A15: 01 | B15: 18/49 | C15: 014 | E15: PO00000689 | F15: 3840700105104 | H15: นาง ศิริพร - นาย วีระศักดิ์ สองแก้ว | I15: สองแก้ว | J15: =K15&" "&L15&" "&M15&" "&N15&" "&O15 -> 30 ม. 3 ต. คันธุลี อ. ท่าชนะ จ. สุราษฎร์ธานี | K15: 30 | L15: ม. 3 | M15: ต. คันธุลี | N15: อ. ท่าชนะ | O15: จ. สุราษฎร์ธานี | P15: 84170 | Z15: 103 | AA15: =SUM(Q15:Z15) -> 103 | AD15: =G15&" "&H15&" "&I15 -> นาง ศิริพร - นาย วีระศักดิ์ สองแก้ว สองแก้ว
A16: 01 | B16: 19/49 | C16: 015 | E16: PO00001001 | F16: 3840700100170 | G16: นาย | H16: อ้น | I16: หีตเอี้ยว | J16: =K16&" "&L16&" "&M16&" "&N16&" "&O16 -> 61 ม. 1 ต. คันธุลี อ. ท่าชนะ จ. สุราษฎร์ธานี | K16: 61 | L16: ม. 1 | M16: ต. คันธุลี | N16: อ. ท่าชนะ | O16: จ. สุราษฎร์ธานี | P16: 84170 | Z16: 170 | AA16: =SUM(Q16:Z16) -> 170 | AD16: =G16&" "&H16&" "&I16 -> นาย อ้น หีตเอี้ยว
A17: 01 | C17: 016 | E17: PO00000299 | F17: 3840700096857 | G17: นาง | H17: วรวรรณ | I17: พลายจันทร์ | J17: =K17&" "&L17&" "&M17&" "&N17&" "&O17 -> 118 ม. 1 ต. คันธุลี อ. ท่าชนะ จ. สุราษฎร์ธานี | K17: 118 | L17: ม. 1 | M17: ต. คันธุลี | N17: อ. ท่าชนะ | O17: จ. สุราษฎร์ธานี | P17: 84170 | Z17: 5 | AA17: =SUM(Q17:Z17) -> 5 | AD17: =G17&" "&H17&" "&I17 -> นาง วรวรรณ พลายจันทร์
A18: 01 | B18: 21/49 | C18: 017 | E18: PO00000785 | F18: 3840700096962 | G18: นาย | H18: วารี | I18: ดุลหลัง | J18: =K18&" "&L18&" "&M18&" "&N18&" "&O18 -> 110 ม. 1 ต. คันธุลี อ. ท่าชนะ จ. สุราษฎร์ธานี | K18: 110 | L18: ม. 1 | M18: ต. คันธุลี | N18: อ. ท่าชนะ | O18: จ. สุราษฎร์ธานี | P18: 84170 | Z18: 193 | AA18: =SUM(Q18:Z18) -> 193 | AD18: =G18&" "&H18&" "&I18 -> นาย วารี ดุลหลัง
A19: 01 | B19: 22/49 | C19: 018 | E19: PO00000787 | F19: 3101000059654 | G19: นาย | H19: เจริญ | I19: หนูเสน | J19: =K19&" "&L19&" "&M19&" "&N19&" "&O19 -> 73 ม. 1 ต. คันธุลี อ. ท่าชนะ จ. สุราษฎร์ธานี | K19: 73 | L19: ม. 1 | M19: ต. คันธุลี | N19: อ. ท่าชนะ | O19: จ. สุราษฎร์ธานี | P19: 84170 | Z19: 145 | AA19: =SUM(Q19:Z19) -> 145 | AD19: =G19&" "&H19&" "&I19 -> นาย เจริญ หนูเสน
A20: 01 | B20: 23/49 | C20: 019 | E20: PO00001054 | F20: 3840700096156 | G20: นาง | H20: บัวคลี่ | I20: รสมณี | J20: =K20&" "&L20&" "&M20&" "&N20&" "&O20 -> 119 ม. 1 ต. คันธุลี อ. ท่าชนะ จ. สุราษฎร์ธานี | K20: 119 | L20: ม. 1 | M20: ต. คันธุลี | N20: อ. ท่าชนะ | O20: จ. สุราษฎร์ธานี | P20: 84170 | Z20: 72 | AA20: =SUM(Q20:Z20) -> 72 | AD20: =G20&" "&H20&" "&I20 -> นาง บัวคลี่ รสมณี
A21: 01 | B21: 24/49 | C21: 020 | E21: PO00000243 | F21: 3840700097535 | G21: นาย | H21: วีระ | I21: แท่นนาค | J21: =K21&" "&L21&" "&M21&" "&N21&" "&O21 -> 30/1 ม. 1 ต. คันธุลี อ. ท่าชนะ จ. สุราษฎร์ธานี | K21: 30/1 | L21: ม. 1 | M21: ต. คันธุลี | N21: อ. ท่าชนะ | O21: จ. สุราษฎร์ธานี | P21: 84170 | Z21: 280 | AA21: =SUM(Q21:Z21) -> 280 | AD21: =G21&" "&H21&" "&I21 -> นาย วีระ แท่นนาค
A22: 01 | B22: 25/49 | C22: 021 | E22: PO00001003 | F22: 3100501576944 | G22: นางสาว | H22: งามจิต | I22: ปทุมมาศ | J22: =K22&" "&L22&" "&M22&" "&N22&" "&O22 -> 44/13 ม. 4 แขวง อนุสาวรีย์ เขต บางเขน จ. กรุงเทพมหานคร | K22: 44/13 | L22: ม. 4 | M22: แขวง อนุสาวรีย์ | N22: เขต บางเขน | O22: จ. กรุงเทพมหานคร | P22: 10220 | Z22: 12 | AA22: =SUM(Q22:Z22) -> 12 | AD22: =G22&" "&H22&" "&I22 -> นางสาว งามจิต ปทุมมาศ
A23: 01 | B23: 26/49 | C23: 022 | E23: PO00000778 | F23: 3840700096733 | G23: นาง | H23: ถวิล | I23: ชูณรงค์ | J23: =K23&" "&L23&" "&M23&" "&N23&" "&O23 -> 21/1 ม. 1 ต. คันธุลี อ. ท่าชนะ จ. สุราษฎร์ธานี | K23: 21/1 | L23: ม. 1 | M23: ต. คันธุลี | N23: อ. ท่าชนะ | O23: จ. สุราษฎร์ธานี | P23: 84170 | Z23: 88 | AA23: =SUM(Q23:Z23) -> 88 | AD23: =G23&" "&H23&" "&I23 -> นาง ถวิล ชูณรงค์
A24: 01 | B24: 27/49 | C24: 023 | E24: PO00000386 | F24: 3840700096920 | G24: นาย | H24: อมรรัตน์ | I24: วิชัยดิษฐ์ | J24: =K24&" "&L24&" "&M24&" "&N24&" "&O24 -> 23/1 ม. 1 ต. คันธุลี อ. ท่าชนะ จ. สุราษฎร์ธานี | K24: 23/1 | L24: ม. 1 | M24: ต. คันธุลี | N24: อ. ท่าชนะ | O24: จ. สุราษฎร์ธานี | P24: 84170 | Z24: 261 | AA24: =SUM(Q24:Z24) -> 261 | AD24: =G24&" "&H24&" "&I24 -> นาย อมรรัตน์ วิชัยดิษฐ์
A25: 01 | B25: 29/49 | C25: 024 | E25: PO00004293 | F25: 3840700097080 | G25: นางสาว | H25: ดวงมณี | I25: วงค์เหมือน | J25: =K25&" "&L25&" "&M25&" "&N25&" "&O25 -> 24 ม. 1 ต. คันธุลี อ. ท่าชนะ จ. สุราษฎร์ธานี | K25: 24 | L25: ม. 1 | M25: ต. คันธุลี | N25: อ. ท่าชนะ | O25: จ. สุราษฎร์ธานี | P25: 84170 | Z25: 16 | AA25: =SUM(Q25:Z25) -> 16 | AB25: เดิม นาง ต่วน วงค์เหมือน | AD25: =G25&" "&H25&" "&I25 -> นางสาว ดวงมณี วงค์เหมือน
A26: 01 | B26: 30/49 | C26: 025 | E26: PO00000749 | F26: 3840700097012 | G26: นางสาว | H26: ตาบทิพย์ | I26: วงค์เหมือน | J26: =K26&" "&L26&" "&M26&" "&N26&" "&O26 -> 24 ม. 1 ต. คันธุลี อ. ท่าชนะ จ. สุราษฎร์ธานี | K26: 24 | L26: ม. 1 | M26: ต. คันธุลี | N26: อ. ท่าชนะ | O26: จ. สุราษฎร์ธานี | P26: 84170 | Z26: 58 | AA26: =SUM(Q26:Z26) -> 58 | AD26: =G26&" "&H26&" "&I26 -> นางสาว ตาบทิพย์ วงค์เหมือน
A27: 01 | B27: 31/49 | C27: 026 | E27: PO00004601 | F27: 5200700003401 | G27: นาง | H27: จันทรา | I27: บุญเมือง | J27: =K27&" "&L27&" "&M27&" "&N27&" "&O27 -> 134 ม. 1 ต. คันธุลี อ. ท่าชนะ จ. สุราษฎร์ธานี | K27: 134 | L27: ม. 1 | M27: ต. คันธุลี | N27: อ. ท่าชนะ | O27: จ. สุราษฎร์ธานี | P27: 84170 | Z27: 74 | AA27: =SUM(Q27:Z27) -> 74 | AB27: เดิม นายสุนทร อินแป้น | AD27: =G27&" "&H27&" "&I27 -> นาง จันทรา บุญเมือง
A28: 01 | B28: 32/49 | C28: 027 | E28: PO00000839 | F28: 3840700100072 | H28: นาย ชอบ - นาย สุชาติ - น.ส.กัญญา - น.ส. ภารดี - นาย เฉลิมพล หมุดดำ | I28: หมุดดำ | J28: =K28&" "&L28&" "&M28&" "&N28&" "&O28 -> 59 ม. 1 ต. คันธุลี อ. ท่าชนะ จ. สุราษฎร์ธานี | K28: 59 | L28: ม. 1 | M28: ต. คันธุลี | N28: อ. ท่าชนะ | O28: จ. สุราษฎร์ธานี | P28: 84170 | Z28: 96 | AA28: =SUM(Q28:Z28) -> 96 | AD28: =G28&" "&H28&" "&I28 -> นาย ชอบ - นาย สุชาติ - น.ส.กัญญา - น.ส. ภารดี - นาย เฉลิมพล หมุดดำ หมุดดำ
A29: 01 | B29: 150/49 | C29: 028 | E29: PO00003959 | F29: 3840700122696 | G29: นาง | H29: นิษา | I29: พันธุ์วานิช | J29: =K29&" "&L29&" "&M29&" "&N29&" "&O29 -> 134/2 ม. 3 ต. คันธุลี อ. ท่าชนะ จ. สุราษฎร์ธานี | K29: 134/2 | L29: ม. 3 | M29: ต. คันธุลี | N29: อ. ท่าชนะ | O29: จ. สุราษฎร์ธานี | P29: 84170 | Z29: 12 | AA29: =SUM(Q29:Z29) -> 12 | AD29: =G29&" "&H29&" "&I29 -> นาง นิษา พันธุ์วานิช
A30: 01 | C30: 029 | E30: PO00000767 | F30: 3840700105872 | G30: นาง | H30: บุญช่วย | I30: พรหมหิตาทร | J30: =K30&" "&L30&" "&M30&" "&N30&" "&O30 -> 1/11 ม. 1 ต. คันธุลี อ. ท่าชนะ จ. สุราษฎร์ธานี | K30: 1/11 | L30: ม. 1 | M30: ต. คันธุลี | N30: อ. ท่าชนะ | O30: จ. สุราษฎร์ธานี | P30: 84170 | Z30: 2 | AA30: =SUM(Q30:Z30) -> 2 | AD30: =G30&" "&H30&" "&I30 -> นาง บุญช่วย พรหมหิตาทร
A31: 01 | B31: 35/49 | C31: 030 | E31: PO00000149 | F31: 3840700289345 | G31: นาง | H31: อนุรัตน์ | I31: ทับเนียม | J31: =K31&" "&L31&" "&M31&" "&N31&" "&O31 -> 2 ม. 2 ต. คันธุลี อ. ท่าชนะ จ. สุราษฎร์ธานี | K31: 2 | L31: ม. 2 | M31: ต. คันธุลี | N31: อ. ท่าชนะ | O31: จ. สุราษฎร์ธานี | P31: 84170 | Z31: 75 | AA31: =SUM(Q31:Z31) -> 75 | AD31: =G31&" "&H31&" "&I31 -> นาง อนุรัตน์ ทับเนียม
A32: 01 | B32: 36/49 | C32: 031 | E32: PO00000786 | F32: 3840700097845 | G32: นาย | H32: สุวรรณ | I32: มั่นคง | J32: =K32&" "&L32&" "&M32&" "&N32&" "&O32 -> 31/1 ม. 1 ต. คันธุลี อ. ท่าชนะ จ. สุราษฎร์ธานี | K32: 31/1 | L32: ม. 1 | M32: ต. คันธุลี | N32: อ. ท่าชนะ | O32: จ. สุราษฎร์ธานี | P32: 84170 | Z32: 46 | AA32: =SUM(Q32:Z32) -> 46 | AD32: =G32&" "&H32&" "&I32 -> นาย สุวรรณ มั่นคง
A33: 01 | C33: 032 | E33: PO00000997 | F33: 3840700107417 | G33: นาย | H33: ประหยัด | I33: หมื่นหวัด | J33: =K33&" "&L33&" "&M33&" "&N33&" "&O33 -> 4/2 ซ.เจริญวิทย์ ถ.ประชาวัฒนา ม. - ต. ปากพนัง อ. ปากพนัง จ. นครศรีธรรมราช | K33: 4/2 ซ.เจริญวิทย์ ถ.ประชาวัฒนา | L33: ม. - | M33: ต. ปากพนัง | N33: อ. ปากพนัง | O33: จ. นครศรีธรรมราช | P33: 80140 | Z33: 2 | AA33: =SUM(Q33:Z33) -> 2 | AD33: =G33&" "&H33&" "&I33 -> นาย ประหยัด หมื่นหวัด
A34: 01 | B34: 39/49 | C34: 033 | E34: PO00003976 | F34: 3840700289248 | G34: นาง | H34: ชื่น | I34: หมื่นหวัด | J34: =K34&" "&L34&" "&M34&" "&N34&" "&O34 -> 21 ม. 1 ต. คันธุลี อ. ท่าชนะ จ. สุราษฎร์ธานี | K34: 21 | L34: ม. 1 | M34: ต. คันธุลี | N34: อ. ท่าชนะ | O34: จ. สุราษฎร์ธานี | P34: 84170 | Z34: 135 | AA34: =SUM(Q34:Z34) -> 135 | AD34: =G34&" "&H34&" "&I34 -> นาง ชื่น หมื่นหวัด
A35: 01 | C35: 034 | E35: PO00000146 | F35: 3840700139009 | G35: นาง | H35: จีราวรรณ | I35: ทับทิมหิน | J35: =K35&" "&L35&" "&M35&" "&N35&" "&O35 -> 99 ม. 12 ต. คันธุลี อ. ท่าชนะ จ. สุราษฎร์ธานี | K35: 99 | L35: ม. 12 | M35: ต. คันธุลี | N35: อ. ท่าชนะ | O35: จ. สุราษฎร์ธานี | P35: 84170 | Z35: 89 | AA35: =SUM(Q35:Z35) -> 89 | AD35: =G35&" "&H35&" "&I35 -> นาง จีราวรรณ ทับทิมหิน
A36: 01 | B36: 41/49 | C36: 035 | E36: PO00001059 | F36: 3840700097853 | G36: นาง | H36: อุดม | I36: มั่นคง | J36: =K36&" "&L36&" "&M36&" "&N36&" "&O36 -> 31/1 ม. 1 ต. คันธุลี อ. ท่าชนะ จ. สุราษฎร์ธานี | K36: 31/1 | L36: ม. 1 | M36: ต. คันธุลี | N36: อ. ท่าชนะ | O36: จ. สุราษฎร์ธานี | P36: 84170 | Z36: 5 | AA36: =SUM(Q36:Z36) -> 5 | AD36: =G36&" "&H36&" "&I36 -> นาง อุดม มั่นคง
A37: 01 | C37: 036 | E37: PO00004105 | F37: 3809900274111 | G37: นาย | H37: วิรุจ | I37: ถิ่นนคร | J37: =K37&" "&L37&" "&M37&" "&N37&" "&O37 -> 8/3 ถ.ชลวิถี ม. - ต. ในเมือง อ. เมืองนครศรีธรรมราช จ. นครศรีธรรมราช | K37: 8/3 ถ.ชลวิถี | L37: ม. - | M37: ต. ในเมือง | N37: อ. เมืองนครศรีธรรมราช | O37: จ. นครศรีธรรมราช | P37: 80000 | Z37: 214 | AA37: =SUM(Q37:Z37) -> 214 | AD37: =G37&" "&H37&" "&I37 -> นาย วิรุจ ถิ่นนคร
A38: 01 | B38: 109/49 | C38: 037 | E38: PO00002265 | F38: 3840700099465 | G38: นาง | H38: มาลี | I38: ศรีชาย | J38: =K38&" "&L38&" "&M38&" "&N38&" "&O38 -> 44/2 ม. 3 ต. ช้างแรก อ. บางสะพาน จ. ประจวบคีรีขันธ์ | K38: 44/2 | L38: ม. 3 | M38: ต. ช้างแรก | N38: อ. บางสะพาน | O38: จ. ประจวบคีรีขันธ์ | P38: 77140 | Z38: 33 | AA38: =SUM(Q38:Z38) -> 33 | AD38: =G38&" "&H38&" "&I38 -> นาง มาลี ศรีชาย
A39: 01 | B39: 46/49 | C39: 038 | E39: PO00001061 | F39: 3100601504511 | G39: นาย | H39: นพพร | I39: ถาวรเศรษฐ | J39: =K39&" "&L39&" "&M39&" "&N39&" "&O39 -> 158 ม. 1 ต. คันธุลี อ. ท่าชนะ จ. สุราษฎร์ธานี | K39: 158 | L39: ม. 1 | M39: ต. คันธุลี | N39: อ. ท่าชนะ | O39: จ. สุราษฎร์ธานี | P39: 84170 | Z39: 350 | AA39: =SUM(Q39:Z39) -> 350 | AD39: =G39&" "&H39&" "&I39 -> นาย นพพร ถาวรเศรษฐ
A40: 01 | C40: 039 | E40: PO00002269 | F40: 3840700102555 | G40: นาย | H40: เสรี | I40: ทิพย์เนตร | J40: =K40&" "&L40&" "&M40&" "&N40&" "&O40 -> 84 ม. 11 ต. คันธุลี อ. ท่าชนะ จ. สุราษฎร์ธานี | K40: 84 | L40: ม. 11 | M40: ต. คันธุลี | N40: อ. ท่าชนะ | O40: จ. สุราษฎร์ธานี | P40: 84170 | Z40: 30 | AA40: =SUM(Q40:Z40) -> 30 | AD40: =G40&" "&H40&" "&I40 -> นาย เสรี ทิพย์เนตร
A41: 01 | B41: 115/49 | C41: 040 | E41: PO00002266 | F41: 3840700161420 | G41: นาย | H41: ประเสริฐ | I41: แสงขจร | J41: =K41&" "&L41&" "&M41&" "&N41&" "&O41 -> 100 ม. 5 ต. ท่าชนะ อ. ท่าชนะ จ. สุราษฎร์ธานี | K41: 100 | L41: ม. 5 | M41: ต. ท่าชนะ | N41: อ. ท่าชนะ | O41: จ. สุราษฎร์ธานี | P41: 84170 | Z41: 77 | AA41: =SUM(Q41:Z41) -> 77 | AD41: =G41&" "&H41&" "&I41 -> นาย ประเสริฐ แสงขจร
A42: 01 | B42: 51/49 | C42: 041 | D42: R | E42: PO00001066 | F42: 3840700101401 | G42: นาง | H42: อารมย์ | I42: จีบหีต | J42: =K42&" "&L42&" "&M42&" "&N42&" "&O42 -> 71/1 ม. 1 ต. คันธุลี อ. ท่าชนะ จ. สุราษฎร์ธานี | K42: 71/1 | L42: ม. 1 | M42: ต. คันธุลี | N42: อ. ท่าชนะ | O42: จ. สุราษฎร์ธานี | P42: 84170 | Z42: 102 | AA42: =SUM(Q42:Z42) -> 102 | AD42: =G42&" "&H42&" "&I42 -> นาง อารมย์ จีบหีต
A43: 01 | B43: 52/49 | C43: 042 | E43: PO00001067 | F43: 3840700228371 | G43: นาย | H43: ธรรมรัตน์ | I43: มณีฉาย | J43: =K43&" "&L43&" "&M43&" "&N43&" "&O43 -> 14 ม. 4 ต. วัง อ. ท่าชนะ จ. สุราษฎร์ธานี | K43: 14 | L43: ม. 4 | M43: ต. วัง | N43: อ. ท่าชนะ | O43: จ. สุราษฎร์ธานี | P43: 84170 | Z43: 46 | AA43: =SUM(Q43:Z43) -> 46 | AD43: =G43&" "&H43&" "&I43 -> นาย ธรรมรัตน์ มณีฉาย
A44: 01 | B44: 53/49 | C44: 043 | E44: PO00003124 | F44: 3840700102768 | G44: นาง | H44: อรุณ | I44: นุ่นบุญคง | J44: =K44&" "&L44&" "&M44&" "&N44&" "&O44 -> 89 ม. 1 ต. คันธุลี อ. ท่าชนะ จ. สุราษฎร์ธานี | K44: 89 | L44: ม. 1 | M44: ต. คันธุลี | N44: อ. ท่าชนะ | O44: จ. สุราษฎร์ธานี | P44: 84170 | Z44: 32 | AA44: =SUM(Q44:Z44) -> 32 | AD44: =G44&" "&H44&" "&I44 -> นาง อรุณ นุ่นบุญคง
A45: 01 | C45: 044 | E45: PO00000258 | F45: 0 | G45: นาย | H45: สำราญ | I45: ครึกเครือ | J45: =K45&" "&L45&" "&M45&" "&N45&" "&O45 -> 24/1 ถ.ศรีพุนพิน ม. - ต. ท่าข้าม อ. พุนพิน จ. สุราษฎร์ธานี | K45: 24/1 ถ.ศรีพุนพิน | L45: ม. - | M45: ต. ท่าข้าม | N45: อ. พุนพิน | O45: จ. สุราษฎร์ธานี | P45: 84130 | Z45: 2 | AA45: =SUM(Q45:Z45) -> 2 | AD45: =G45&" "&H45&" "&I45 -> นาย สำราญ ครึกเครือ
A46: 01 | B46: 84/49 | C46: 045 | E46: PO00002104 | F46: 3409900551533 | G46: นาง | H46: อุบล | I46: จันทร์ยัง | J46: =K46&" "&L46&" "&M46&" "&N46&" "&O46 -> 423 ม. 4 ต. ท่าชนะ อ. ท่าชนะ จ. สุราษฎร์ธานี | K46: 423 | L46: ม. 4 | M46: ต. ท่าชนะ | N46: อ. ท่าชนะ | O46: จ. สุราษฎร์ธานี | P46: 84170 | Z46: 19 | AA46: =SUM(Q46:Z46) -> 19 | AD46: =G46&" "&H46&" "&I46 -> นาง อุบล จันทร์ยัง
A47: 01 | B47: 85/49 | C47: 046 | E47: PO00000411 | F47: 3840700102075 | G47: นาง | H47: หนู | I47: คชสวัสดิ์ | J47: =K47&" "&L47&" "&M47&" "&N47&" "&O47 -> 78 ม. 11 ต. คันธุลี อ. ท่าชนะ จ. สุราษฎร์ธานี | K47: 78 | L47: ม. 11 | M47: ต. คันธุลี | N47: อ. ท่าชนะ | O47: จ. สุราษฎร์ธานี | P47: 84170 | Z47: 58 | AA47: =SUM(Q47:Z47) -> 58 | AD47: =G47&" "&H47&" "&I47 -> นาง หนู คชสวัสดิ์
A48: 01 | B48: 61/49 | C48: 047 | E48: PO00001070 | F48: 3840700096547 | G48: นาง | H48: สมคิด | I48: ทองดี | J48: =K48&" "&L48&" "&M48&" "&N48&" "&O48 -> 20 ม. 1 ต. คันธุลี อ. ท่าชนะ จ. สุราษฎร์ธานี | K48: 20 | L48: ม. 1 | M48: ต. คันธุลี | N48: อ. ท่าชนะ | O48: จ. สุราษฎร์ธานี | P48: 84170 | Z48: 25 | AA48: =SUM(Q48:Z48) -> 25 | AD48: =G48&" "&H48&" "&I48 -> นาง สมคิด ทองดี
A49: 01 | B49: 62/49 | C49: 048 | E49: PO00000781 | F49: 3840700095605 | G49: นาย | H49: อวยชัย | I49: ช่วยพนัง | J49: =K49&" "&L49&" "&M49&" "&N49&" "&O49 -> 103/104 ม. 3 ต. คันธุลี อ. ท่าชนะ จ. สุราษฎร์ธานี | K49: 103/104 | L49: ม. 3 | M49: ต. คันธุลี | N49: อ. ท่าชนะ | O49: จ. สุราษฎร์ธานี | P49: 84170 | Z49: 245 | AA49: =SUM(Q49:Z49) -> 245 | AD49: =G49&" "&H49&" "&I49 -> นาย อวยชัย ช่วยพนัง
A50: 01 | B50: 93/49 | C50: 049 | E50: PO00000763 | F50: 3840700094978 | G50: นาย | H50: วิศาล | I50: แก้วศรี | J50: =K50&" "&L50&" "&M50&" "&N50&" "&O50 -> 1/9 ม. 1 ต. คันธุลี อ. ท่าชนะ จ. สุราษฎร์ธานี | K50: 1/9 | L50: ม. 1 | M50: ต. คันธุลี | N50: อ. ท่าชนะ | O50: จ. สุราษฎร์ธานี | P50: 84170 | Z50: 103 | AA50: =SUM(Q50:Z50) -> 103 | AD50: =G50&" "&H50&" "&I50 -> นาย วิศาล แก้วศรี
A51: 01 | C51: 050 | E51: PO00004448 | F51: 3840700095761 | G51: นาย | H51: อรุณ | I51: อินทร์แป้น | J51: =K51&" "&L51&" "&M51&" "&N51&" "&O51 -> 95 ม. 5 ต. ทุ่งหลวง อ. ละแม จ. ชุมพร | K51: 95 | L51: ม. 5 | M51: ต. ทุ่งหลวง | N51: อ. ละแม | O51: จ. ชุมพร | P51: 86170 | Z51: 72 | AA51: =SUM(Q51:Z51) -> 72 | AD51: =G51&" "&H51&" "&I51 -> นาย อรุณ อินทร์แป้น
A52: 01 | C52: 051 | E52: PO00001102 | F52: 3840700103250 | G52: นางสาว | H52: ลัคนา | I52: แก้วลาย | J52: =K52&" "&L52&" "&M52&" "&N52&" "&O52 -> 119 ม. 2 ต. คันธุลี อ. ท่าชนะ จ. สุราษฎร์ธานี | K52: 119 | L52: ม. 2 | M52: ต. คันธุลี | N52: อ. ท่าชนะ | O52: จ. สุราษฎร์ธานี | P52: 84170 | Z52: 26 | AA52: =SUM(Q52:Z52) -> 26 | AD52: =G52&" "&H52&" "&I52 -> นางสาว ลัคนา แก้วลาย
A53: 01 | B53: 66/49 | C53: 052 | E53: PO00004106 | F53: 3840700095583 | G53: นาย | H53: ณฐกร | I53: ช่วยพนัง | J53: =K53&" "&L53&" "&M53&" "&N53&" "&O53 -> 7 ม. 1 ต. คันธุลี อ. ท่าชนะ จ. สุราษฎร์ธานี | K53: 7 | L53: ม. 1 | M53: ต. คันธุลี | N53: อ. ท่าชนะ | O53: จ. สุราษฎร์ธานี | P53: 84170 | Z53: 200 | AA53: =SUM(Q53:Z53) -> 200 | AD53: =G53&" "&H53&" "&I53 -> นาย ณฐกร ช่วยพนัง
A54: 01 | B54: 72/49 | C54: 054 | E54: PO00000748 | F54: 3840700170585 | G54: นาย | H54: ธิรักษ์ | I54: ลิ้มพินิจกุล | J54: =K54&" "&L54&" "&M54&" "&N54&" "&O54 -> 81 ม. 2 ต. คันธุลี อ. ท่าชนะ จ. สุราษฎร์ธานี | K54: 81 | L54: ม. 2 | M54: ต. คันธุลี | N54: อ. ท่าชนะ | O54: จ. สุราษฎร์ธานี | P54: 84170 | Z54: 33 | AA54: =SUM(Q54:Z54) -> 33 | AD54: =G54&" "&H54&" "&I54 -> นาย ธิรักษ์ ลิ้มพินิจกุล
A55: 01 | B55: 73/49 | C55: 055 | E55: PO00000128 | F55: 3800901142660 | G55: นาง | H55: รัตนา | I55: ภู่ศิลป์ | J55: =K55&" "&L55&" "&M55&" "&N55&" "&O55 -> 2/1 ม. 2 ต. คันธุลี อ. ท่าชนะ จ. สุราษฎร์ธานี | K55: 2/1 | L55: ม. 2 | M55: ต. คันธุลี | N55: อ. ท่าชนะ | O55: จ. สุราษฎร์ธานี | P55: 84170 | Z55: 320 | AA55: =SUM(Q55:Z55) -> 320 | AD55: =G55&" "&H55&" "&I55 -> นาง รัตนา ภู่ศิลป์
A56: 01 | C56: 056 | E56: PO00000222 | F56: 3471200519214 | G56: นาย | H56: ประทีป | I56: จิรกิติ | J56: =K56&" "&L56&" "&M56&" "&N56&" "&O56 -> 111 ซ.เลื่อนอรณพ ม. - แขวง คลองตันเหนือ เขต วัฒนา จ. กรุงเทพมหานคร | K56: 111 ซ.เลื่อนอรณพ | L56: ม. - | M56: แขวง คลองตันเหนือ | N56: เขต วัฒนา | O56: จ. กรุงเทพมหานคร | P56: 10110 | Z56: 1425 | AA56: =SUM(Q56:Z56) -> 1425 | AD56: =G56&" "&H56&" "&I56 -> นาย ประทีป จิรกิติ
A57: 01 | C57: 057 | E57: PO00003900 | F57: 3100400790088 | G57: นาย | H57: สิริพงษ์ | I57: รังสิพราหมณกุล | J57: =K57&" "&L57&" "&M57&" "&N57&" "&O57 -> 36/391 ถ.โชคชัย 4 ซ.84 แยก 1 ม. - แขวง ลาดพร้าว เขต ลาดพร้าว จ. กรุงเทพมหานคร | K57: 36/391 ถ.โชคชัย 4 ซ.84 แยก 1 | L57: ม. - | M57: แขวง ลาดพร้าว | N57: เขต ลาดพร้าว | O57: จ. กรุงเทพมหานคร | P57: 10230 | Z57: 39 | AA57: =SUM(Q57:Z57) -> 39 | AD57: =G57&" "&H57&" "&I57 -> นาย สิริพงษ์ รังสิพราหมณกุล
A58: 01 | C58: 058 | E58: PO00004107 | F58: 0 | G58: นาย | H58: สีหราช | I58: รังสิพราหมณกุล | J58: =K58&" "&L58&" "&M58&" "&N58&" "&O58 -> 381/1 ซ.อ่อนนุช 39 ม. - แขวง สวนหลวง เขต สวนหลวง จ. กรุงเทพมหานคร | K58: 381/1 ซ.อ่อนนุช 39 | L58: ม. - | M58: แขวง สวนหลวง | N58: เขต สวนหลวง | O58: จ. กรุงเทพมหานคร | P58: 10250 | Z58: 886 | AA58: =SUM(Q58:Z58) -> 886 | AD58: =G58&" "&H58&" "&I58 -> นาย สีหราช รังสิพราหมณกุล
A59: 01 | C59: 059 | E59: PO00002549 | F59: 3840700088340 | G59: นาง | H59: จันทรา | I59: ชูจันทร์ | J59: =K59&" "&L59&" "&M59&" "&N59&" "&O59 -> 130 ม. 2 ต. คลองพา อ. ท่าชนะ จ. สุราษฎร์ธานี | K59: 130 | L59: ม. 2 | M59: ต. คลองพา | N59: อ. ท่าชนะ | O59: จ. สุราษฎร์ธานี | P59: 84170 | Z59: 530 | AA59: =SUM(Q59:Z59) -> 530 | AB59: ซื้อปี 56 จากนายสมประสงค์ ภู่ศิลป์,นายขันธ์ไชย ภู่ศิลป์ | AD59: =G59&" "&H59&" "&I59 -> นาง จันทรา ชูจันทร์
A60: 01 | B60: 76/49 | C60: 065 | E60: PO00001002 | F60: 0 | H60: นาง ขวัญใจ - นาย เอกพล นาครัตน์ | I60: นาครัตน์ | J60: =K60&" "&L60&" "&M60&" "&N60&" "&O60 -> 22/77 ม. 6 แขวง บางแวก เขต ภาษีเจริญ จ. กรุงเทพมหานคร | K60: 22/77 | L60: ม. 6 | M60: แขวง บางแวก | N60: เขต ภาษีเจริญ | O60: จ. กรุงเทพมหานคร | P60: 10160 | Z60: 103 | AA60: =SUM(Q60:Z60) -> 103 | AD60: =G60&" "&H60&" "&I60 -> นาง ขวัญใจ - นาย เอกพล นาครัตน์ นาครัตน์
A61: 01 | C61: 066 | E61: PO00001019 | F61: 3840700098850 | G61: นาง | H61: นิภา | I61: อินแป้น | J61: =K61&" "&L61&" "&M61&" "&N61&" "&O61 -> 30/6 ม. 11 ต. คันธุลี อ. ท่าชนะ จ. สุราษฎร์ธานี | K61: 30/6 | L61: ม. 11 | M61: ต. คันธุลี | N61: อ. ท่าชนะ | O61: จ. สุราษฎร์ธานี | P61: 84170 | Z61: 2 | AA61: =SUM(Q61:Z61) -> 2 | AD61: =G61&" "&H61&" "&I61 -> นาง นิภา อินแป้น
A62: 01 | C62: 068 | E62: PO00002289 | F62: 3840700101257 | G62: นาง | H62: พยงค์ | I62: ศรีนวลแก้ว | J62: =K62&" "&L62&" "&M62&" "&N62&" "&O62 -> 9 ม. 1 ต. คันธุลี อ. ท่าชนะ จ. สุราษฎร์ธานี | K62: 9 | L62: ม. 1 | M62: ต. คันธุลี | N62: อ. ท่าชนะ | O62: จ. สุราษฎร์ธานี | P62: 84170 | Z62: 14 | AA62: =SUM(Q62:Z62) -> 14 | AD62: =G62&" "&H62&" "&I62 -> นาง พยงค์ ศรีนวลแก้ว
A63: 01 | B63: 27/49/ม.2 | C63: 070 | E63: PO00000780 | F63: 3840700095419 | G63: นาง | H63: ปราณี | I63: แก้วฟุ้ง | J63: =K63&" "&L63&" "&M63&" "&N63&" "&O63 -> 85 ม. 1 ต. คันธุลี อ. ท่าชนะ จ. สุราษฎร์ธานี | K63: 85 | L63: ม. 1 | M63: ต. คันธุลี | N63: อ. ท่าชนะ | O63: จ. สุราษฎร์ธานี | P63: 84170 | Z63: 39 | AA63: =SUM(Q63:Z63) -> 39 | AD63: =G63&" "&H63&" "&I63 -> นาง ปราณี แก้วฟุ้ง
A64: 01 | C64: 071 | E64: PO00004054 | F64: 1840700009109 | G64: นางสาว | H64: ศรัญญา | I64: แก้วศรี | J64: =K64&" "&L64&" "&M64&" "&N64&" "&O64 -> 272 ม. 9 ต. ขุนทะเล อ. เมืองสุราษฎร์ธานี จ. สุราษฎร์ธานี | K64: 272 | L64: ม. 9 | M64: ต. ขุนทะเล | N64: อ. เมืองสุราษฎร์ธานี | O64: จ. สุราษฎร์ธานี | P64: 84000 | Z64: 5 | AA64: =SUM(Q64:Z64) -> 5 | AD64: =G64&" "&H64&" "&I64 -> นางสาว ศรัญญา แก้วศรี
A65: 01 | B65: 12/49 | C65: 072 | E65: PO00001892 | F65: 5840700020211 | G65: นาง | H65: จารุชา | I65: บุญประดิษฐ์ | J65: =K65&" "&L65&" "&M65&" "&N65&" "&O65 -> 72 ม. 11 ต. คันธุลี อ. ท่าชนะ จ. สุราษฎร์ธานี | K65: 72 | L65: ม. 11 | M65: ต. คันธุลี | N65: อ. ท่าชนะ | O65: จ. สุราษฎร์ธานี | P65: 84170 | Z65: 219 | AA65: =SUM(Q65:Z65) -> 219 | AD65: =G65&" "&H65&" "&I65 -> นาง จารุชา บุญประดิษฐ์
A66: 01 | B66: 13/49 | C66: 073 | E66: PO00002111 | F66: 3840700101583 | G66: นาย | H66: จเร | I66: ชิตเพชร | J66: =K66&" "&L66&" "&M66&" "&N66&" "&O66 -> 72 ม. 11 ต. คันธุลี อ. ท่าชนะ จ. สุราษฎร์ธานี | K66: 72 | L66: ม. 11 | M66: ต. คันธุลี | N66: อ. ท่าชนะ | O66: จ. สุราษฎร์ธานี | P66: 84170 | Z66: 138 | AA66: =SUM(Q66:Z66) -> 138 | AD66: =G66&" "&H66&" "&I66 -> นาย จเร ชิตเพชร
A67: 01 | B67: 14/49 | C67: 074 | E67: PO00001891 | F67: 3840700101575 | G67: นาง | H67: บุญเรียม | I67: ลิ่วเพชร | J67: =K67&" "&L67&" "&M67&" "&N67&" "&O67 -> 20/2 ม. 1 ต. เพิ่มพูนทรัพย์ อ. บ้านนาสาร จ. สุราษฎร์ธานี | K67: 20/2 | L67: ม. 1 | M67: ต. เพิ่มพูนทรัพย์ | N67: อ. บ้านนาสาร | O67: จ. สุราษฎร์ธานี | P67: 84120 | Z67: 180 | AA67: =SUM(Q67:Z67) -> 180 | AD67: =G67&" "&H67&" "&I67 -> นาง บุญเรียม ลิ่วเพชร
A68: 01 | B68: 15/49 | C68: 075 | E68: PO00002128 | F68: 3840700101567 | G68: นาย | H68: สำราญ | I68: ชิตเพชร | J68: =K68&" "&L68&" "&M68&" "&N68&" "&O68 -> 99 ม. 11 ต. คันธุลี อ. ท่าชนะ จ. สุราษฎร์ธานี | K68: 99 | L68: ม. 11 | M68: ต. คันธุลี | N68: อ. ท่าชนะ | O68: จ. สุราษฎร์ธานี | P68: 84170 | Z68: 109 | AA68: =SUM(Q68:Z68) -> 109 | AD68: =G68&" "&H68&" "&I68 -> นาย สำราญ ชิตเพชร
A69: 01 | B69: 18/49 | C69: 076 | E69: PO00002108 | F69: 5840790004228 | G69: นาง | H69: บุญชู | I69: นเรนทร์ราช | J69: =K69&" "&L69&" "&M69&" "&N69&" "&O69 -> 38/1 ม. 11 ต. คันธุลี อ. ท่าชนะ จ. สุราษฎร์ธานี | K69: 38/1 | L69: ม. 11 | M69: ต. คันธุลี | N69: อ. ท่าชนะ | O69: จ. สุราษฎร์ธานี | P69: 84170 | Z69: 75 | AA69: =SUM(Q69:Z69) -> 75 | AD69: =G69&" "&H69&" "&I69 -> นาง บุญชู นเรนทร์ราช
A70: 01 | B70: 23/49 | C70: 077 | E70: PO00003971 | F70: 3840700102334 | G70: นาย | H70: สำนัก | I70: ผลพฤกษ์ | J70: =K70&" "&L70&" "&M70&" "&N70&" "&O70 -> 120 ม. 11 ต. คันธุลี อ. ท่าชนะ จ. สุราษฎร์ธานี | K70: 120 | L70: ม. 11 | M70: ต. คันธุลี | N70: อ. ท่าชนะ | O70: จ. สุราษฎร์ธานี | P70: 84170 | Z70: 28 | AA70: =SUM(Q70:Z70) -> 28 | AD70: =G70&" "&H70&" "&I70 -> นาย สำนัก ผลพฤกษ์
A71: 01 | B71: 28/49 | C71: 078 | E71: PO00003972 | F71: 3840700097683 | G71: นาย | H71: วิเชียร | I71: ศรีรื่น | J71: =K71&" "&L71&" "&M71&" "&N71&" "&O71 -> 106 ม. 11 ต. คันธุลี อ. ท่าชนะ จ. สุราษฎร์ธานี | K71: 106 | L71: ม. 11 | M71: ต. คันธุลี | N71: อ. ท่าชนะ | O71: จ. สุราษฎร์ธานี | P71: 84170 | Z71: 91 | AA71: =SUM(Q71:Z71) -> 91 | AD71: =G71&" "&H71&" "&I71 -> นาย วิเชียร ศรีรื่น
A72: 01 | B72: 55/49 | C72: 079 | E72: PO00003041 | F72: 3840700095729 | G72: นาย | H72: สมบูรณ์ | I72: พรหมศักดิ์ | J72: =K72&" "&L72&" "&M72&" "&N72&" "&O72 -> 6 ม. 11 ต. คันธุลี อ. ท่าชนะ จ. สุราษฎร์ธานี | K72: 6 | L72: ม. 11 | M72: ต. คันธุลี | N72: อ. ท่าชนะ | O72: จ. สุราษฎร์ธานี | P72: 84170 | Z72: 35 | AA72: =SUM(Q72:Z72) -> 35 | AD72: =G72&" "&H72&" "&I72 -> นาย สมบูรณ์ พรหมศักดิ์
A73: 01 | B73: 61/49 | C73: 080 | E73: PO00002282 | F73: 3840700098230 | G73: นาย | H73: ฮวด | I73: ตันจิตต์สุวรรณ์ | J73: =K73&" "&L73&" "&M73&" "&N73&" "&O73 -> 34/1 ม. 11 ต. คันธุลี อ. ท่าชนะ จ. สุราษฎร์ธานี | K73: 34/1 | L73: ม. 11 | M73: ต. คันธุลี | N73: อ. ท่าชนะ | O73: จ. สุราษฎร์ธานี | P73: 84170 | Z73: 56 | AA73: =SUM(Q73:Z73) -> 56 | AD73: =G73&" "&H73&" "&I73 -> นาย ฮวด ตันจิตต์สุวรรณ์
A74: 01 | B74: 62/49 | C74: 081 | E74: PO00002252 | F74: 0 | G74: นาย | H74: นรินทร์ | I74: จันทรัตน์ | J74: =K74&" "&L74&" "&M74&" "&N74&" "&O74 -> 74 ม. 11 ต. คันธุลี อ. ท่าชนะ จ. สุราษฎร์ธานี | K74: 74 | L74: ม. 11 | M74: ต. คันธุลี | N74: อ. ท่าชนะ | O74: จ. สุราษฎร์ธานี | P74: 84170 | Z74: 114 | AA74: =SUM(Q74:Z74) -> 114 | AD74: =G74&" "&H74&" "&I74 -> นาย นรินทร์ จันทรัตน์
A75: 01 | B75: 76/49 | C75: 082 | E75: PO00002255 | F75: 3759800046257 | G75: นางสาว | H75: วรรณา | I75: มณีกอบกุลวงศ์ | J75: =K75&" "&L75&" "&M75&" "&N75&" "&O75 -> 210 ม. - ต. ท่าฉลอม อ. เมืองสมุทรสาคร จ. สมุทรสาคร | K75: 210 | L75: ม. - | M75: ต. ท่าฉลอม | N75: อ. เมืองสมุทรสาคร | O75: จ. สมุทรสาคร | P75: 74000 | Z75: 23 | AA75: =SUM(Q75:Z75) -> 23 | AD75: =G75&" "&H75&" "&I75 -> นางสาว วรรณา มณีกอบกุลวงศ์
A76: 01 | B76: 87/49 | C76: 083 | E76: PO00002233 | F76: 5840790008177 | G76: นาง | H76: เจียมจิต | I76: แคล่วคล่อง | J76: =K76&" "&L76&" "&M76&" "&N76&" "&O76 -> 13 ม. 7 ต. คันธุลี อ. ท่าชนะ จ. สุราษฎร์ธานี | K76: 13 | L76: ม. 7 | M76: ต. คันธุลี | N76: อ. ท่าชนะ | O76: จ. สุราษฎร์ธานี | P76: 84170 | Z76: 23 | AA76: =SUM(Q76:Z76) -> 23 | AD76: =G76&" "&H76&" "&I76 -> นาง เจียมจิต แคล่วคล่อง
A77: 01 | B77: 6/49 | C77: 084 | E77: PO00003903 | F77: 0 | G77: นางสาว | H77: นิพพิทา | I77: ถาวรเศรษฐ | J77: =K77&" "&L77&" "&M77&" "&N77&" "&O77 -> 7/44 ถ.สวนสยาม ม. - แขวง คันนายาว เขต คันนายาว จ. กรุงเทพมหานคร | K77: 7/44 ถ.สวนสยาม | L77: ม. - | M77: แขวง คันนายาว | N77: เขต คันนายาว | O77: จ. กรุงเทพมหานคร | P77: 10230 | Z77: 196 | AA77: =SUM(Q77:Z77) -> 196 | AD77: =G77&" "&H77&" "&I77 -> นางสาว นิพพิทา ถาวรเศรษฐ
A78: 01 | B78: 49/49 | C78: 085 | E78: PO00000406 | F78: 3840700085774 | G78: นาง | H78: วรรณพร | I78: สุวรรณวงศ์ | J78: =K78&" "&L78&" "&M78&" "&N78&" "&O78 -> 58 ม. 11 ต. คันธุลี อ. ท่าชนะ จ. สุราษฎร์ธานี | K78: 58 | L78: ม. 11 | M78: ต. คันธุลี | N78: อ. ท่าชนะ | O78: จ. สุราษฎร์ธานี | P78: 84170 | Z78: 121 | AA78: =SUM(Q78:Z78) -> 121 | AD78: =G78&" "&H78&" "&I78 -> นาง วรรณพร สุวรรณวงศ์
A79: 01 | B79: 101/49 | C79: 086 | E79: PO00002267 | F79: 3840700095745 | G79: นางสาว | H79: บุญธรรม | I79: อินแป้น | J79: =K79&" "&L79&" "&M79&" "&N79&" "&O79 -> 10 ม. 11 ต. คันธุลี อ. ท่าชนะ จ. สุราษฎร์ธานี | K79: 10 | L79: ม. 11 | M79: ต. คันธุลี | N79: อ. ท่าชนะ | O79: จ. สุราษฎร์ธานี | P79: 84170 | Z79: 53 | AA79: =SUM(Q79:Z79) -> 53 | AD79: =G79&" "&H79&" "&I79 -> นางสาว บุญธรรม อินแป้น
A80: 01 | C80: 088 | E80: PO00001477 | F80: 3840700053953 | G80: นาง | H80: วรรณา | I80: รักษภักดี | J80: =K80&" "&L80&" "&M80&" "&N80&" "&O80 -> 69 ม. 2 ต. สมอทอง อ. ท่าชนะ จ. สุราษฎร์ธานี | K80: 69 | L80: ม. 2 | M80: ต. สมอทอง | N80: อ. ท่าชนะ | O80: จ. สุราษฎร์ธานี | P80: 84170 | Z80: 630 | AA80: =SUM(Q80:Z80) -> 630 | AD80: =G80&" "&H80&" "&I80 -> นาง วรรณา รักษภักดี
A81: 01 | C81: 089 | E81: PO00001789 | F81: 3860400005048 | G81: นาง | H81: มลทรี | I81: หมื่นรักษ์ | J81: =K81&" "&L81&" "&M81&" "&N81&" "&O81 -> 40 ม. 2 ต. คันธุลี อ. ท่าชนะ จ. สุราษฎร์ธานี | K81: 40 | L81: ม. 2 | M81: ต. คันธุลี | N81: อ. ท่าชนะ | O81: จ. สุราษฎร์ธานี | P81: 84170 | Z81: 2 | AA81: =SUM(Q81:Z81) -> 2 | AB81: ซื้อปี 56 | AD81: =G81&" "&H81&" "&I81 -> นาง มลทรี หมื่นรักษ์
A82: 01 | C82: 090 | D82: R | E82: PO00001005 | F82: 0 | G82: ทายาทนาย | H82: มานพ | I82: อินอักษร | J82: =K82&" "&L82&" "&M82&" "&N82&" "&O82 -> 24/1 ม. 2 ต. คันธุลี อ. ท่าชนะ จ. สุราษฎร์ธานี | K82: 24/1 | L82: ม. 2 | M82: ต. คันธุลี | N82: อ. ท่าชนะ | O82: จ. สุราษฎร์ธานี | P82: 84170 | Z82: 14 | AA82: =SUM(Q82:Z82) -> 14 | AD82: =G82&" "&H82&" "&I82 -> ทายาทนาย มานพ อินอักษร
A83: 01 | C83: 091 | E83: PO00001052 | F83: 0 | G83: นาง | H83: ภารณี | I83: ครึกเครือ | J83: =K83&" "&L83&" "&M83&" "&N83&" "&O83 -> 24/1 ถ.ศรีพุนพิน ม. - ต. ท่าข้าม อ. พุนพิน จ. สุราษฎร์ธานี | K83: 24/1 ถ.ศรีพุนพิน | L83: ม. - | M83: ต. ท่าข้าม | N83: อ. พุนพิน | O83: จ. สุราษฎร์ธานี | P83: 84130 | Z83: 2 | AA83: =SUM(Q83:Z83) -> 2 | AD83: =G83&" "&H83&" "&I83 -> นาง ภารณี ครึกเครือ
A84: 01 | B84: 49/49 | C84: 092 | D84: R | E84: PO00001064 | F84: 3840700107301 | G84: นาง | H84: เสาวลักษณ์ | I84: โทแก้ว | J84: =K84&" "&L84&" "&M84&" "&N84&" "&O84 -> 52 ม. 2 ต. คันธุลี อ. ท่าชนะ จ. สุราษฎร์ธานี | K84: 52 | L84: ม. 2 | M84: ต. คันธุลี | N84: อ. ท่าชนะ | O84: จ. สุราษฎร์ธานี | P84: 84170 | Z84: 53 | AA84: =SUM(Q84:Z84) -> 53 | AD84: =G84&" "&H84&" "&I84 -> นาง เสาวลักษณ์ โทแก้ว
A85: 01 | B85: 3/49 | C85: 093 | D85: R | E85: PO00001074 | F85: 3840700104663 | G85: นางสาว | H85: รัตนา | I85: มีไพศาล | J85: =K85&" "&L85&" "&M85&" "&N85&" "&O85 -> 24 ม. 2 ต. คันธุลี อ. ท่าชนะ จ. สุราษฎร์ธานี | K85: 24 | L85: ม. 2 | M85: ต. คันธุลี | N85: อ. ท่าชนะ | O85: จ. สุราษฎร์ธานี | P85: 84170 | Z85: 74 | AA85: =SUM(Q85:Z85) -> 74 | AD85: =G85&" "&H85&" "&I85 -> นางสาว รัตนา มีไพศาล
A86: 01 | B86: 33/49 | C86: 094 | E86: PO00000756 | F86: 0 | G86: นางสาว | H86: ภารดี | I86: หมุดดำ | J86: =K86&" "&L86&" "&M86&" "&N86&" "&O86 -> 59 ม. 1 ต. คันธุลี อ. ท่าชนะ จ. สุราษฎร์ธานี | K86: 59 | L86: ม. 1 | M86: ต. คันธุลี | N86: อ. ท่าชนะ | O86: จ. สุราษฎร์ธานี | P86: 84170 | Z86: 72 | AA86: =SUM(Q86:Z86) -> 72 | AD86: =G86&" "&H86&" "&I86 -> นางสาว ภารดี หมุดดำ
A87: 01 | C87: 095 | D87: R | E87: PO00004450 | F87: 3840700104680 | G87: นาง | H87: อำนวย | I87: เทพทอง | J87: =K87&" "&L87&" "&M87&" "&N87&" "&O87 -> 9 ม. 9 ต. คันธุลี อ. ท่าชนะ จ. สุราษฎร์ธานี | K87: 9 | L87: ม. 9 | M87: ต. คันธุลี | N87: อ. ท่าชนะ | O87: จ. สุราษฎร์ธานี | P87: 84170 | Z87: 42 | AA87: =SUM(Q87:Z87) -> 42 | AD87: =G87&" "&H87&" "&I87 -> นาง อำนวย เทพทอง
A88: 01 | B88: 64/49 | C88: 096 | E88: PO00000216 | F88: 3840700094889 | G88: นาย | H88: จำเนียร | I88: ศิริรัตน์ | J88: =K88&" "&L88&" "&M88&" "&N88&" "&O88 -> 1/6 ม. 1 ต. คันธุลี อ. ท่าชนะ จ. สุราษฎร์ธานี | K88: 1/6 | L88: ม. 1 | M88: ต. คันธุลี | N88: อ. ท่าชนะ | O88: จ. สุราษฎร์ธานี | P88: 84170 | Z88: 343 | AA88: =SUM(Q88:Z88) -> 343 | AD88: =G88&" "&H88&" "&I88 -> นาย จำเนียร ศิริรัตน์
A89: 01 | C89: 097 | E89: PO00001071 | F89: 3849900247865 | G89: นาง | H89: จารุวรรณ | I89: เจาวยนต์ | J89: =K89&" "&L89&" "&M89&" "&N89&" "&O89 -> 188/24 ซ.ศรีวิชัย 10 ถ.ศรีวิชัย ม. - ต. มะขามเตี้ย อ. เมืองสุราษฎร์ธานี จ. สุราษฎร์ธานี | K89: 188/24 ซ.ศรีวิชัย 10 ถ.ศรีวิชัย | L89: ม. - | M89: ต. มะขามเตี้ย | N89: อ. เมืองสุราษฎร์ธานี | O89: จ. สุราษฎร์ธานี | P89: 84000 | Z89: 280 | AA89: =SUM(Q89:Z89) -> 280 | AD89: =G89&" "&H89&" "&I89 -> นาง จารุวรรณ เจาวยนต์
A90: 01 | C90: 098 | E90: PO00004101 | F90: 3840700095486 | G90: นาย | H90: สุชาติ | I90: สถาพร | J90: =K90&" "&L90&" "&M90&" "&N90&" "&O90 -> 5/3 ม. 2 ต. คันธุลี อ. ท่าชนะ จ. สุราษฎร์ธานี | K90: 5/3 | L90: ม. 2 | M90: ต. คันธุลี | N90: อ. ท่าชนะ | O90: จ. สุราษฎร์ธานี | P90: 84170 | Z90: 89 | AA90: =SUM(Q90:Z90) -> 89 | AD90: =G90&" "&H90&" "&I90 -> นาย สุชาติ สถาพร
A91: 01 | C91: 099 | E91: PO00001108 | F91: 3840700095494 | G91: นางสาว | H91: สถิต | I91: สถาพร | J91: =K91&" "&L91&" "&M91&" "&N91&" "&O91 -> 5/3 ม. 2 ต. คันธุลี อ. ท่าชนะ จ. สุราษฎร์ธานี | K91: 5/3 | L91: ม. 2 | M91: ต. คันธุลี | N91: อ. ท่าชนะ | O91: จ. สุราษฎร์ธานี | P91: 84170 | Z91: 186 | AA91: =SUM(Q91:Z91) -> 186 | AD91: =G91&" "&H91&" "&I91 -> นางสาว สถิต สถาพร
A92: 01 | B92: 94/49 | C92: 100 | E92: PO00001959 | F92: 3840700122751 | G92: นาง | H92: สุดจิตร์ | I92: พันธวาณิช | J92: =K92&" "&L92&" "&M92&" "&N92&" "&O92 -> 134/3 ม. 3 ต. คันธุลี อ. ท่าชนะ จ. สุราษฎร์ธานี | K92: 134/3 | L92: ม. 3 | M92: ต. คันธุลี | N92: อ. ท่าชนะ | O92: จ. สุราษฎร์ธานี | P92: 84170 | Z92: 91 | AA92: =SUM(Q92:Z92) -> 91 | AD92: =G92&" "&H92&" "&I92 -> นาง สุดจิตร์ พันธวาณิช
A93: 01 | B93: 65/49 | C93: 101 | E93: PO00000274 | F93: 3840700095567 | G93: นาง | H93: วันดี | I93: ช่วยพนัง | J93: =K93&" "&L93&" "&M93&" "&N93&" "&O93 -> 7 ม. 1 ต. คันธุลี อ. ท่าชนะ จ. สุราษฎร์ธานี | K93: 7 | L93: ม. 1 | M93: ต. คันธุลี | N93: อ. ท่าชนะ | O93: จ. สุราษฎร์ธานี | P93: 84170 | Z93: 124 | AA93: =SUM(Q93:Z93) -> 124 | AD93: =G93&" "&H93&" "&I93 -> นาง วันดี ช่วยพนัง
A94: 01 | B94: 32/49 | C94: 102 | E94: PO00001085 | F94: 3419900017596 | G94: นาย | H94: สถิต | I94: แก้วเชื้อ | J94: =K94&" "&L94&" "&M94&" "&N94&" "&O94 -> 2/82 ม.แมกไม้วัชรพล ถ.สุขาภิบาล 5 ซ. 92 ม. - แขวง สายไหม เขต สายไหม จ. กรุงเทพมหานคร | K94: 2/82 ม.แมกไม้วัชรพล ถ.สุขาภิบาล 5 ซ. 92 | L94: ม. - | M94: แขวง สายไหม | N94: เขต สายไหม | O94: จ. กรุงเทพมหานคร | P94: 10220 | Z94: 19 | AA94: =SUM(Q94:Z94) -> 19 | AD94: =G94&" "&H94&" "&I94 -> นาย สถิต แก้วเชื้อ
A95: 01 | C95: 103 | E95: PO00002002 | F95: 3801200824277 | G95: นางสาว | H95: โสภา | I95: สุขทองแท้ | J95: =K95&" "&L95&" "&M95&" "&N95&" "&O95 -> 37/10 ม. 5 ต. รัษฎา อ. เมืองภูเก็ต จ. ภูเก็ต | K95: 37/10 | L95: ม. 5 | M95: ต. รัษฎา | N95: อ. เมืองภูเก็ต | O95: จ. ภูเก็ต | P95: 83000 | Z95: 21 | AA95: =SUM(Q95:Z95) -> 21 | AD95: =G95&" "&H95&" "&I95 -> นางสาว โสภา สุขทองแท้
A96: 01 | B96: 26/49 | C96: 104 | D96: R | E96: PO00000942 | F96: 3840700106984 | G96: นาง | H96: บุญเชื่อ | I96: เปาสกุล | J96: =K96&" "&L96&" "&M96&" "&N96&" "&O96 -> 48/1 ม. 2 ต. คันธุลี อ. ท่าชนะ จ. สุราษฎร์ธานี | K96: 48/1 | L96: ม. 2 | M96: ต. คันธุลี | N96: อ. ท่าชนะ | O96: จ. สุราษฎร์ธานี | P96: 84170 | Z96: 21 | AA96: =SUM(Q96:Z96) -> 21 | AD96: =G96&" "&H96&" "&I96 -> นาง บุญเชื่อ เปาสกุล
A97: 01 | C97: 106 | E97: PO00004577 | F97: 3840700100374 | G97: นาง | H97: ภาณี | I97: นุ่นบุญคง | J97: =K97&" "&L97&" "&M97&" "&N97&" "&O97 -> 40/2 ม. 11 ต. คันธุลี อ. ท่าชนะ จ. สุราษฎร์ธานี | K97: 40/2 | L97: ม. 11 | M97: ต. คันธุลี | N97: อ. ท่าชนะ | O97: จ. สุราษฎร์ธานี | P97: 84170 | Z97: 0 | AA97: =SUM(Q97:Z97) -> 0 | AB97: ปี 57 ลดหย่อน | AD97: =G97&" "&H97&" "&I97 -> นาง ภาณี นุ่นบุญคง
A98: 01 | C98: 107 | E98: PO00000264 | F98: 3840700107646 | G98: นาย | H98: สำเริง | I98: รอดมณี | J98: =K98&" "&L98&" "&M98&" "&N98&" "&O98 -> 111 ม. 1 ต. คันธุลี อ. ท่าชนะ จ. สุราษฎร์ธานี | K98: 111 | L98: ม. 1 | M98: ต. คันธุลี | N98: อ. ท่าชนะ | O98: จ. สุราษฎร์ธานี | P98: 84170 | Z98: 5 | AA98: =SUM(Q98:Z98) -> 5 | AB98: แบ่งแยกจากนางบุญเรือง รอดมณี | AD98: =G98&" "&H98&" "&I98 -> นาย สำเริง รอดมณี
A99: 01 | C99: 108 | E99: PO00002035 | F99: 3840700107549 | G99: นางสาว | H99: ยุพา | I99: รอดมณี | J99: =K99&" "&L99&" "&M99&" "&N99&" "&O99 -> 30/9 ถ.เลียบทางรถไฟ ม. 2 ต. ขันเงิน อ. หลังสวน จ. ชุมพร | K99: 30/9 ถ.เลียบทางรถไฟ | L99: ม. 2 | M99: ต. ขันเงิน | N99: อ. หลังสวน | O99: จ. ชุมพร | P99: 86110 | Z99: 5 | AA99: =SUM(Q99:Z99) -> 5 | AB99: แบ่งแยกจากนางบุญเรือง รอดมณี | AD99: =G99&" "&H99&" "&I99 -> นางสาว ยุพา รอดมณี
A100: 01 | C100: 109 | E100: PO00000769 | F100: 3840700107581 | G100: นาย | H100: สำรวย | I100: รอดมณี | J100: =K100&" "&L100&" "&M100&" "&N100&" "&O100 -> 53 ม. 2 ต. คันธุลี อ. ท่าชนะ จ. สุราษฎร์ธานี | K100: 53 | L100: ม. 2 | M100: ต. คันธุลี | N100: อ. ท่าชนะ | O100: จ. สุราษฎร์ธานี | P100: 84170 | Z100: 5 | AA100: =SUM(Q100:Z100) -> 5 | AB100: แบ่งแยกจากนางบุญเรือง รอดมณี | AD100: =G100&" "&H100&" "&I100 -> นาย สำรวย รอดมณี
...

Sheet สรุปบำรุง
A1: รหัส | B1: ผลรวม | C1: ชื่อ | D1: บัตร
A2: PO00002307 | B2: 30 | C2: ดาบตำรวจ จเร โสมแก้ว | D2: 3840200007367
A3: PO00003936 | B3: 70 | C3: เด็กชาย นันทวัฒน์ สุวรรณ | D3: 0
A4: PO00003935 | B4: 60 | C4: เด็กหญิง ณัฐฑิกา สุวรรณ | D4: 0
A5: PO00004346 | B5: 427 | C5: เด็กหญิง ธัญกานต์ เฉลิมพนาพันธ์ | D5: 1909800868127
A6: PO00003956 | B6: 67 | C6: นาง กชกานต์ ราชฉวาง | D6: 3840700138142
A7: PO00004747 | B7: 261 | C7: นาง กชพรรณ ตั้งธัญวุฒิ | D7: 3800400871375
A8: PO00000368 | B8: 102 | C8: นาง กรกนก แก้วขวัญ | D8: 3840700139769
A9: PO00001482 | B9: 163 | C9: นาง กรรณิการ์ นาคขำ | D9: 3840700123901
A10: PO00001545 | B10: 170 | C10: นาง กรองแก้ว ภิญโญ | D10: 3849900013244
A11: PO00004232 | B11: 75 | C11: นาง กฤษณา หนูทอง | D11: 3860500019930
A12: PO00001341 | B12: 105 | C12: นาง กลิ่น แรงเขตการ | D12: 3840700288187
A13: PO00004185 | B13: 74 | C13: นาง กัญญา ดวงแป้น | D13: 3840700108740
A14: PO00000730 | B14: 219 | C14: นาง กัญญา สิรินิลกุล | D14: 0
A15: PO00002641 | B15: 61 | C15: นาง กัญญา สุวรรณวงศ์ | D15: 3840700104183
A16: PO00001946 | B16: 56 | C16: นาง กัญหา รอดเกิด | D16: 3840700114758
A17: PO00002923 | B17: 319 | C17: นาง กันยา ราษฏร์เจริญ | D17: 3860500031344
A18: PO00002755 | B18: 212 | C18: นาง กันยารัตน์ คชสีห์ | D18: 3860500047712
A19: PO00004777 | B19: 96 | C19: นาง กัลยา ตั้งพิทักษ์กุล | D19: 0
A20: PO00003947 | B20: 135 | C20: นาง กัลยา สวัสดิ์วิจิตรกุล | D20: 3840700079359
A21: PO00000365 | B21: 46 | C21: นาง กาญจนา นิยมวัฒนพันธ์ | D21: 3849900101593
A22: PO00001569 | B22: 107 | C22: นาง กาญจนา สมสุวรรณ | D22: 3840700158054
A23: PO00001290 | B23: 9 | C23: นาง กิ้ม พรหมทอง | D23: 3840700148105
A24: PO00001412 | B24: 28 | C24: นาง กิ้มข้อง บุญชุม | D24: 3840700115142
A25: PO00001389 | B25: 44 | C25: นาง กิ้มซ้าน ชูเลข | D25: 3840700115584
A26: PO00000531 | B26: 128 | C26: นาง กิ้มห้อง แซ่อ่าง | D26: 3840700117846
A27: PO00001160 | B27: 19 | C27: นาง กิ้มให้ แซ่อ่าง | D27: 3840700117854
A28: PO00001036 | B28: 317 | C28: นาง กิมอยู่ แสงสุข | D28: 3840700099686
A29: PO00002651 | B29: 96 | C29: นาง กี่เหื้อง เอื้อพัฒนพงศ์ | D29: 3860400225171
A30: PO00001236 | B30: 65 | C30: นาง เกต ขำสุวรรณ | D30: 0
A31: PO00001384 | B31: 149 | C31: นาง เกลื่อน อินแป้น | D31: 3840700116793
A32: PO00004303 | B32: 75 | C32: นาง เกศกมล จุเส้ง | D32: 0
A33: PO00000536 | B33: 14 | C33: นาง เกศรี จันทร์ดำ | D33: 3840700140821
A34: PO00001895 | B34: 156 | C34: นาง เกศรี สงคงคา | D34: 3840700133710
A35: PO00001137 | B35: 30 | C35: นาง เกศสุดา สิงห์คราช | D35: 3840700114057
A36: PO00000565 | B36: 96 | C36: นาง เกษร เขียวสม | D36: 3840700131229
A37: PO00003988 | B37: 56 | C37: นาง เกษร จิตวิเศษ | D37: 3840700240907
A38: PO00003938 | B38: 35 | C38: นาง เกษร นนทสิงห์ | D38: 3840700130141
A39: PO00002264 | B39: 103 | C39: นาง เกษร มงคลเคหา | D39: 3840700085383
A40: PO00001300 | B40: 75 | C40: นาง เกษร โรยสกุล | D40: 3840700145751
A41: PO00002737 | B41: 63 | C41: นาง เกษี จิตวิเศษ | D41: 3130200262428
A42: PO00000902 | B42: 14 | C42: นาง ขจร ใหม่ซ้อน | D42: 0
A43: PO00003196 | B43: 191 | C43: นาง ขนิษฐา กาฬสมุทร | D43: 0
A44: PO00002027 | B44: 37 | C44: นาง ขวัญจิตร สงค์สิริจินดา | D44: 3840700120553
A45: PO00001002 | B45: 124 | C45: นาง ขวัญใจ นาครัตน์ | D45: 0
A46: PO00003240 | B46: 89 | C46: นาง ขาว กลิ่นรส | D46: 0
A47: PO00000496 | B47: 25 | C47: นาง เขือม หนูขาว | D47: 3840700057002
A48: PO00001386 | B48: 131 | C48: นาง คง จันดำ | D48: 0
A49: PO00002361 | B49: 100 | C49: นาง คนึง วิเศษมาก(ชลา) | D49: 3840700139858
A50: PO00003621 | B50: 42 | C50: นาง คำ ฤทธิกุล | D50: 3840700113093
A51: PO00002700 | B51: 168 | C51: นาง คำนึง แป้นทอง | D51: 3860500148853
A52: PO00002490 | B52: 152 | C52: นาง คุรุรัตน์ เดิมโรย | D52: 3840700134970
A53: PO00001815 | B53: 93 | C53: นาง เครือวัลย์ โพธิ์ภักดี | D53: 3840700127833
A54: PO00001490 | B54: 191 | C54: นาง เงื้อม เปียสวัสด์ | D54: 5840600016815
A55: PO00002174 | B55: 47 | C55: นาง จงกลณี น่วมภักดี | D55: 3840700098574
A56: PO00002920 | B56: 79 | C56: นาง จงจิตร เมืองนุ้ย | D56: 3860400004221
A57: PO00004040 | B57: 58 | C57: นาง จงดี สังวิเศษ | D57: 3840700140805
A58: PO00004447 | B58: 46 | C58: นาง จรรยา เกตุมา | D58: 0
A59: PO00002861 | B59: 60 | C59: นาง จรรยา คำชุมภู | D59: 3860400217985
A60: PO00003926 | B60: 147 | C60: นาง จรรยา แพคีรี | D60: 3860500018011
A61: PO00001491 | B61: 184 | C61: นาง จรรยา รัตนเกล้า | D61: 3840700120758
A62: PO00000547 | B62: 238 | C62: นาง จรวย บัวชู | D62: 3840700134911
A63: PO00001185 | B63: 141 | C63: นาง จรวย อาวุฒิ | D63: 3840700117722
A64: PO00004202 | B64: 5 | C64: นาง จรัสพร ปลอดขันเงิน | D64: 1840700001671
A65: PO00004119 | B65: 117 | C65: นาง จรัสศรี ดวงแป้น | D65: 3840700146960
A66: PO00001414 | B66: 93 | C66: นาง จริยา ชูชมชื่น | D66: 3800900261541
A67: PO00001269 | B67: 82 | C67: นาง จรีย์ ดวงแป้น | D67: 3840700146951
A68: PO00000004 | B68: 126 | C68: นาง จรูญ นุชนัย | D68: 3840700134902
A69: PO00002357 | B69: 67 | C69: นาง จวน เพ็ชร์รมย์ | D69: 3840700133442
A70: PO00000909 | B70: 124 | C70: นาง จวบ สุขโสดา | D70: 3840700120839
A71: PO00002806 | B71: 222 | C71: นาง จันทนา หนูคงคา | D71: 3840700006114
A72: PO00001326 | B72: 19 | C72: นาง จันทมาศ ปานเนียร | D72: 0
A73: PO00001798 | B73: 84 | C73: นาง จันทร์ จีบจอม | D73: 0
A74: PO00000750 | B74: 23 | C74: นาง จันทร์ อินแป้น | D74: 3840700122807
A75: PO00000682 | B75: 49 | C75: นาง จันทร์จิรา มาตรา | D75: 3840700088854
A76: PO00001288 | B76: 163 | C76: นาง จันทร์ธิมา จันทร์เพชร | D76: 3840700149675
A77: PO00000173 | B77: 51 | C77: นาง จันทร์นา วรพัฒนกุล | D77: 3860300153641
A78: PO00004315 | B78: 184 | C78: นาง จันทร์เพ็ญ กิจนิยม | D78: 3100600431944
A79: PO00002219 | B79: 250 | C79: นาง จันทร์เพ็ญ เตื้องวิวัฒน์ | D79: 4840700001871
A80: PO00000981 | B80: 280 | C80: นาง จันทร์อุทัย เวสารัตน์ | D80: 3840700155608
A81: PO00000877 | B81: 16 | C81: นาง จันทรา กวางษี | D81: 3869800036498
A82: PO00002549 | B82: 814 | C82: นาง จันทรา ชูจันทร์ | D82: 3840700088340
A83: PO00004576 | B83: 26 | C83: นาง จันทรา นุ่นบุญคง | D83: 3840700100412
A84: PO00004601 | B84: 74 | C84: นาง จันทรา บุญเมือง | D84: 5200700003401
A85: PO00003650 | B85: 91 | C85: นาง จันทรา พิชัยยุทธิ์ | D85: 3840700135631
... A100: PO00004752 | B100: 51 | C100: นาง จิตรา พลราม | D100: 3840700139157
A101: PO00003157 | B101: 51 | C101: นาง จิตรา ศักดิ์แก้ว | D101: 0
A102: PO00000441 | B102: 347 | C102: นาง จิน รักษ์ประสงค์ | D102: 3860500161051
A103: PO00000620 | B103: 173 | C103: นาง จิน ศรีสวัสดิ์ | D103: 3840700137146
A104: PO00001157 | B104: 235 | C104: นาง จินดา สมสอน | D104: 0
A105: PO00004038 | B105: 102 | C105: นาง จินตนา เกิดเนตร | D105: 3840700134180
A106: PO00001548 | B106: 79 | C106: นาง จินตนา โกเมนตระการ | D106: 0
A107: PO00004014 | B107: 138 | C107: นาง จินตนา ทองดี | D107: 3200400287539
A108: PO00002557 | B108: 140 | C108: นาง จินตนา มีนาคุ้ม | D108: 3860400366328
A109: PO00004175 | B109: 145 | C109: นาง จินตนา ยังจีน | D109: 3840700116149
A110: PO00001281 | B110: 72 | C110: นาง จินตนา ศรีนวล | D110: 3840700144924
A111: PO00002000 | B111: 21 | C111: นาง จิรภา พันธ์สวัสดิ์ | D111: 0
A112: PO00001235 | B112: 32 | C112: นาง จิรา ศิริพรหมมา | D112: 3102002405712
A113: PO00004214 | B113: 89 | C113: นาง จิราพร คุ้มเดช | D113: 0
A114: PO00004078 | B114: 86 | C114: นาง จิราพร แซ่ตั้น | D114: 3860500147229
...

Sheet รายละเอียดโรงเรือน
A1: ภ.ร.ด.2 | B1: หมู่ โรงเรือน | C1: รหัส โรงเรือน | D1: รหัส | E1: คำนำ | F1: ชื่อ | G1: สกุล | H1: ชื่อ - สกุล | I1: ใหม่ | J1: บ้าน เลขที่ | K1: หมู่ที่ | L1: ตำบล | M1: อำเภอ | N1: จังหวัด | O1: รหัสไปรษณีย์ | P1: ลักษณะ | Q1: การใช้ประโยชน์ | R1: ทำ เล | S1: ราคา | T1: กว้าง | U1: ยาว | V1: จำนวน เดือน | W1: ค่ารายปี | X1: ภาษี | Y1: หมายเหตุ | Z1: ภ.ร.ด.8 เลข / เบ่ม | AA1: ภ.ร.ด.12 เลข / เล่ม | AB1: วันที่ | AC1: ชำระเงิน
A2: 001 | B2: 1 | C2: 12E012 | D2: PO00000231 | E2: นาง | F2: วาจา | G2: จันทร์นวล | H2: =E2&" "&F2&" "&G2 -> นาง วาจา จันทร์นวล | I2: นาง วาจา จันทร์นวล | J2: 113 | K2: ม. 1 | L2: ต. คันธุลี | M2: อ. ท่าชนะ | N2: จ. สุราษฎร์ธานี | O2: 84170 | P2: บ้านพักอาศัยไม้ชั้นเดียว | Q2: -ร้านขายของชำ | R2: 3 | S2: 5 | T2: 5 | U2: 6 | V2: 12 | W2: =S2*T2*U2*V2 -> 1800 | X2: =W2*12.5% -> 225 | Z2: 012/1 | AA2: 010/1 | AB2: 42023 | AC2: ชำระแล้ว
A3: 002 | B3: 1 | C3: 12B041 | D3: PO00001061 | E3: นาย | F3: นพพร | G3: ถาวรเศรษฐ | H3: =E3&" "&F3&" "&G3 -> นาย นพพร ถาวรเศรษฐ | I3: นาย นพพร ถาวรเศรษฐ | J3: 158 | K3: ม. 1 | L3: ต. คันธุลี | M3: อ. ท่าชนะ | N3: จ. สุราษฎร์ธานี | O3: 84170 | P3: โรงเรือนประเภทพิเศษ | Q3: -คาร์แคร์บริการอัดฉีดรถยนต์,จักรยานยนต์ | R3: 2 | S3: 13 | T3: 6 | U3: 20 | V3: 12 | W3: =S3*T3*U3*V3 -> 18720 | X3: =W3*12.5% -> 2340 | Z3: 001/2 | AA3: 001/2 | AB3: 42026 | AC3: ชำระแล้ว
A4: 003 | B4: 1 | C4: 12B005 | D4: PO00001607 | E4: นาง | F4: อัจฉราภรณ์ | G4: วีระศิลป์ | H4: =E4&" "&F4&" "&G4 -> นาง อัจฉราภรณ์ วีระศิลป์ | I4: นาง อัจฉราภรณ์ วีระศิลป์ | J4: 136 | K4: ม. 1 | L4: ต. คันธุลี | M4: อ. ท่าชนะ | N4: จ. สุราษฎร์ธานี | O4: 84170 | P4: บ้านพักอาศัยตึกชั้นเดียว | Q4: -ร้านขายของชำ | R4: 2 | S4: 8 | T4: 8 | U4: 9 | V4: 12 | W4: =S4*T4*U4*V4 -> 6912 | X4: =W4*12.5% -> 864 | Z4: 009/1 | AA4: 007/1 | AB4: 42023 | AC4: ชำระแล้ว
A5: 004 | B5: 1 | C5: 12D002 | D5: PO00003088 | E5: นาง | F5: จินตนา | G5: แสงศรี | H5: =E5&" "&F5&" "&G5 -> นาง จินตนา แสงศรี | I5: นาง จินตนา แสงศรี | J5: 123 | K5: ม. 1 | L5: ต. คันธุลี | M5: อ. ท่าชนะ | N5: จ. สุราษฎร์ธานี | O5: 84170 | P5: บ้านพักอาศัยตึกชั้นเดียว | Q5: -ร้านอินเตอร์เน็ต | R5: 2 | S5: 8 | T5: 4 | U5: 6.7 | V5: 12 | W5: =S5*T5*U5*V5 -> 2572.8 | X5: =W5*12.5% -> 321.6 | Z5: 060/1 | AA5: 053/1 | AB5: 42032 | AC5: ชำระแล้ว
A6: 005 | B6: 1 | C6: 12F004 | D6: PO00003069 | E6: นาย | F6: สุทัย | G6: ภู่ศิลป์ | H6: =E6&" "&F6&" "&G6 -> นาย สุทัย ภู่ศิลป์ | I6: นาย สุทัย ภู่ศิลป์ | J6: 164 | K6: ม. 1 | L6: ต. คันธุลี | M6: อ. ท่าชนะ | N6: จ. สุราษฎร์ธานี | O6: 84170 | P6: โรงเรือนประเภทพิเศษ | Q6: -ร้านอาหาร | R6: 3 | S6: 8 | T6: 7.5 | U6: 11 | V6: 12 | W6: =S6*T6*U6*V6 -> 7920 | X6: =W6*12.5% -> 990 | Z6: 061/2 | AA6: 060/2 | AB6: 42146 | AC6: ชำระแล้ว
A7: 006 | B7: 1 | C7: 12B028 | D7: PO00003065 | E7: นาย | F7: เกรียงศักดิ์ | G7: ศิริรัตน์ | H7: =E7&" "&F7&" "&G7 -> นาย เกรียงศักดิ์ ศิริรัตน์ | I7: นาย เกรียงศักดิ์ ศิริรัตน์ | J7: 149 | K7: ม. 1 | L7: ต. คันธุลี | M7: อ. ท่าชนะ | N7: จ. สุราษฎร์ธานี | O7: 84170 | P7: บ้านพักอาศัยตึกชั้นเดียว | Q7: -ร้านขายของชำ | R7: 2 | S7: 8 | T7: 4 | U7: 8 | V7: 12 | W7: =S7*T7*U7*V7 -> 3072 | X7: =W7*12.5% -> 384 | Z7: 048/1 | AA7: 045/1 | AB7: 42030 | AC7: ชำระแล้ว
A8: 008 | B8: 1 | C8: 12B003 | D8: PO00001102 | E8: นางสาว | F8: ลัคนา | G8: แก้วลาย | H8: =E8&" "&F8&" "&G8 -> นางสาว ลัคนา แก้วลาย | I8: นางสาว ลัคนา แก้วลาย | J8: 119 | K8: ม. 2 | L8: ต. คันธุลี | M8: อ. ท่าชนะ | N8: จ. สุราษฎร์ธานี | O8: 84170 | P8: บ้านพักอาศัยตึกสองชั้น | Q8: -ร้านขายของชำ | R8: 2 | S8: 8 | T8: 4 | U8: 5 | V8: 12 | W8: =S8*T8*U8*V8 -> 1920 | X8: =W8*12.5% -> 240 | Z8: 008/1 | AA8: 006/1 | AB8: 42023 | AC8: ชำระแล้ว
A9: 009 | B9: 1 | C9: 12A003 | D9: PO00003042 | E9: นาย | F9: สายัณห์ | G9: ศรีรื่น | H9: =E9&" "&F9&" "&G9 -> นาย สายัณห์ ศรีรื่น | I9: นาย สายัณห์ ศรีรื่น | J9: 106/1 | K9: ม. 11 | L9: ต. คันธุลี | M9: อ. ท่าชนะ | N9: จ. สุราษฎร์ธานี | O9: 84170 | P9: โรงเรือนประเภทพิเศษ | Q9: -ซ่อมรถจักรยานยนต์ | R9: 2 | S9: 13 | T9: 2.3 | U9: 2.8 | V9: 12 | W9: =S9*T9*U9*V9 -> 1004.64 | X9: =W9*12.5% -> 125.58 | Z9: 055/1 | AA9: 050/1 | AB9: 42030 | AC9: ชำระแล้ว
A10: 010 | B10: 2 | C10: 13A010 | D10: PO00001599 | E10: นางสาว | F10: พรรณทิพา | G10: เพชรแท้ | H10: =E10&" "&F10&" "&G10 -> นางสาว พรรณทิพา เพชรแท้ | I10: นางสาว พรรณทิพา เพชรแท้ | J10: 113 | K10: ม. 2 | L10: ต. คันธุลี | M10: อ. ท่าชนะ | N10: จ. สุราษฎร์ธานี | O10: 84170 | P10: บ้านพักอาศัยตึกชั้นเดียว | Q10: -ร้านขายของชำ | R10: 2 | S10: 8 | T10: 8 | U10: 3 | V10: 12 | W10: =S10*T10*U10*V10 -> 2304 | X10: =W10*12.5% -> 288 | Z10: 007/1 | AA10: 005/1 | AB10: 42023 | AC10: ชำระแล้ว
A11: 011 | B11: 2 | C11: 13H010 | D11: PO00003535 | E11: นาง | F11: สำเนียง | G11: มั่นคง | H11: =E11&" "&F11&" "&G11 -> นาง สำเนียง มั่นคง | I11: นาง สำเนียง มั่นคง | J11: 131 | K11: ม. 2 | L11: ต. คันธุลี | M11: อ. ท่าชนะ | N11: จ. สุราษฎร์ธานี | O11: 84170 | P11: บ้านพักอาศัยตึกชั้นเดียว | Q11: -ร้านขายของชำ | R11: 3 | S11: 6 | T11: 3 | U11: 5 | V11: 12 | W11: =S11*T11*U11*V11 -> 1080 | X11: =W11*12.5% -> 135 | Z11: 053/1 | AA11: 048/1 | AB11: 42030 | AC11: ชำระแล้ว
A12: 012 | B12: 2 | C12: 13H020 | D12: PO00001831 | E12: นาง | F12: อุไรวรรณ | G12: จันทร์ต้อย | H12: =E12&" "&F12&" "&G12 -> นาง อุไรวรรณ จันทร์ต้อย | I12: นาง อุไรวรรณ จันทร์ต้อย | J12: 94 | K12: ม. 2 | L12: ต. คันธุลี | M12: อ. ท่าชนะ | N12: จ. สุราษฎร์ธานี | O12: 84170 | P12: บ้านพักอาศัยตึกชั้นเดียว | Q12: -ร้านขายของชำ | R12: 3 | S12: 6 | T12: 3.5 | U12: 4.5 | V12: 12 | W12: =S12*T12*U12*V12 -> 1134 | X12: =W12*12.5% -> 141.75 | Z12: 054/1 | AA12: 049/1 | AB12: 42030 | AC12: ชำระแล้ว
A13: 013 | B13: 2 | C13: 13E037 | D13: PO00001970 | E13: นาย | F13: นิพนธ์ | G13: อำภัย | H13: =E13&" "&F13&" "&G13 -> นาย นิพนธ์ อำภัย | I13: นาย นิพนธ์ อำภัย | J13: 65 | K13: ม. 2 | L13: ต. คันธุลี | M13: อ. ท่าชนะ | N13: จ. สุราษฎร์ธานี | O13: 84170 | P13: บ้านพักอาศัยตึกชั้นเดียว | Q13: -ร้านขายของชำ | R13: 3 | S13: 6 | T13: 3 | U13: 8 | V13: 12 | W13: =S13*T13*U13*V13 -> 1728 | X13: =W13*12.5% -> 216 | Z13: 047/1 | AA13: 044/1 | AB13: 42030 | AC13: ชำระแล้ว
A14: 014 | B14: 2 | C14: 13B002 | D14: PO00001081 | E14: นาง | F14: ราตรี | G14: ทิพย์สิน | H14: =E14&" "&F14&" "&G14 -> นาง ราตรี ทิพย์สิน | I14: นาง ราตรี ทิพย์สิน | J14: 123 | K14: ม. 2 | L14: ต. คันธุลี | M14: อ. ท่าชนะ | N14: จ. สุราษฎร์ธานี | O14: 84170 | P14: บ้านพักอาศัยตึกชั้นเดียว | Q14: -ขายอาหาร | R14: 2 | S14: 8 | T14: 3 | U14: 3 | V14: 12 | W14: =S14*T14*U14*V14 -> 864 | X14: =W14*12.5% -> 108 | Z14: 049/1 | AA14: 046/1 | AB14: 42030 | AC14: ชำระแล้ว
A15: 015 | B15: 2 | C15: 13E036 | D15: PO00002149 | E15: นางสาว | F15: สุภาวดี | G15: หมื่นสวัสดิ์ | H15: =E15&" "&F15&" "&G15 -> นางสาว สุภาวดี หมื่นสวัสดิ์ | I15: นางสาว สุภาวดี หมื่นสวัสดิ์ | J15: 129 | K15: ม. 2 | L15: ต. คันธุลี | M15: อ. ท่าชนะ | N15: จ. สุราษฎร์ธานี | O15: 84170 | P15: โรงเรือนประเภทพิเศษ | Q15: -ฟาร์มปศุสัตว์ | R15: 3 | S15: 7 | T15: 10 | U15: 20 | V15: 12 | W15: =S15*T15*U15*V15 -> 16800 | X15: =W15*12.5% -> 2100 | Z15: 046/1 | AA15: 059/2 | AB15: 42146 | AC15: ชำระแล้ว
A16: 017 | B16: 2 | C16: 13B004 | D16: PO00001271 | E16: นาง | F16: อุระ | G16: เกิดรอด | H16: =E16&" "&F16&" "&G16 -> นาง อุระ เกิดรอด | I16: นาง อุระ เกิดรอด | J16: 84/2 | K16: ม. 2 | L16: ต. คันธุลี | M16: อ. ท่าชนะ | N16: จ. สุราษฎร์ธานี | O16: 84170 | P16: โรงเรือนประเภทพิเศษ | Q16: -คันธุลีลานปาล์ม (สำนักงาน) | R16: 2 | S16: 8 | T16: 4 | U16: 4 | V16: 12 | W16: =S16*T16*U16*V16 -> 1536 | X16: =W16*12.5% -> 192 | Z16: 050/2 | AA16: 046/2 | AB16: 42079 | AC16: ชำระแล้ว
A17: 017 | B17: 2 | C17: 13B005 | D17: PO00001271 | E17: นาง | F17: อุระ | G17: เกิดรอด | H17: =E17&" "&F17&" "&G17 -> นาง อุระ เกิดรอด | I17: นาง อุระ เกิดรอด | J17: 84/2 | K17: ม. 2 | L17: ต. คันธุลี | M17: อ. ท่าชนะ | N17: จ. สุราษฎร์ธานี | O17: 84170 | P17: โรงเรือนประเภทพิเศษ | Q17: -ลานคอนกรีต | R17: 2 | S17: 3 | T17: 20 | U17: 26 | V17: 12 | W17: =S17*T17*U17*V17 -> 18720 | X17: =W17*12.5% -> 2340 | Z17: 050/2 | AA17: 046/2 | AB17: 42079 | AC17: ชำระแล้ว
A18: 017 | B18: 2 | C18: 13B006 | D18: PO00001271 | E18: นาง | F18: อุระ | G18: เกิดรอด | H18: =E18&" "&F18&" "&G18 -> นาง อุระ เกิดรอด | I18: นาง อุระ เกิดรอด | J18: 84/2 | K18: ม. 2 | L18: ต. คันธุลี | M18: อ. ท่าชนะ | N18: จ. สุราษฎร์ธานี | O18: 84170 | P18: โรงเรือนประเภทพิเศษ | Q18: -ลานดิน | R18: 2 | S18: 2 | T18: 20 | U18: 26 | V18: 12 | W18: =S18*T18*U18*V18 -> 12480 | X18: =W18*12.5% -> 1560 | Z18: 050/2 | AA18: 046/2 | AB18: 42079 | AC18: ชำระแล้ว
A19: 018 | B19: 3 | C19: 09H012 | D19: CO00000017 | E19: บจก. | F19: สมอทองน้ำมันปาล์ม | G19: - | H19: =E19&" "&F19&" "&G19 -> บจก. สมอทองน้ำมันปาล์ม - | I19: บจก. สมอทองน้ำมันปาล์ม - | J19: 119 | K19: ม. 10 | L19: ต. ประสงค์ | M19: อ. ท่าชนะ | N19: จ. สุราษฎร์ธานี | O19: 84170 | P19: โรงเรือนประเภทพิเศษ | Q19: สำนักงานรับ ซื้อปาล์ม | R19: 2 | S19: 8 | T19: 5 | U19: 6 | V19: 12 | W19: =S19*T19*U19*V19 -> 2880 | X19: =W19*12.5% -> 360 | Z19: 052/1 | AA19: 074/1 | AB19: 42034 | AC19: ชำระแล้ว
A20: 018 | B20: 3 | C20: 09H011 | D20: CO00000017 | E20: บจก. | F20: สมอทองน้ำมันปาล์ม | H20: =E20&" "&F20&" "&G20 -> บจก. สมอทองน้ำมันปาล์ม | I20: บจก. สมอทองน้ำมันปาล์ม - | J20: 119 | K20: ม. 10 | L20: ต. ประสงค์ | M20: อ. ท่าชนะ | N20: จ. สุราษฎร์ธานี | O20: 84170 | P20: โรงเรือนประเภทพิเศษ | Q20: -ลานคอนกรีต | R20: 2 | S20: 3 | T20: 15 | U20: 20 | V20: 12 | W20: =S20*T20*U20*V20 -> 10800 | X20: =W20*12.5% -> 1350 | Z20: 052/1 | AA20: 074/1 | AB20: 42034 | AC20: ชำระแล้ว
A21: 018 | B21: 3 | C21: 09H013 | D21: CO00000017 | E21: บจก. | F21: สมอทองน้ำมันปาล์ม | H21: =E21&" "&F21&" "&G21 -> บจก. สมอทองน้ำมันปาล์ม | I21: บจก. สมอทองน้ำมันปาล์ม - | J21: 119 | K21: ม. 10 | L21: ต. ประสงค์ | M21: อ. ท่าชนะ | N21: จ. สุราษฎร์ธานี | O21: 84170 | P21: โรงเรือนประเภทพิเศษ | Q21: -ลานดิน | R21: 2 | S21: 2 | T21: 15 | U21: 22 | V21: 12 | W21: =S21*T21*U21*V21 -> 7920 | X21: =W21*12.5% -> 990 | Z21: 052/1 | AA21: 074/1 | AB21: 42034 | AC21: ชำระแล้ว
A22: 019 | B22: 3 | C22: 09C022 | D22: PO00000759 | E22: นาย | F22: วีระศักดิ์ | G22: สองแก้ว | H22: =E22&" "&F22&" "&G22 -> นาย วีระศักดิ์ สองแก้ว | I22: นาย วีระศักดิ์ สองแก้ว | J22: 30 | K22: ม. 3 | L22: ต. คันธุลี | M22: อ. ท่าชนะ | N22: จ. สุราษฎร์ธานี | O22: 84170 | P22: โรงเรือนประเภทพิเศษ | Q22: -อู่ซ่อมรถยนต์ | R22: 2 | S22: 18 | T22: 9 | U22: 9 | V22: 12 | W22: =S22*T22*U22*V22 -> 17496 | X22: =W22*12.5% -> 2187 | Z22: 051/1 | AA22: 047/1 | AB22: 42030 | AC22: ชำระแล้ว
A23: 020 | B23: 3 | C23: 09A001 | D23: PO00000090 | E23: นางสาว | F23: พิไลพร | G23: พุ่มน้อย | H23: =E23&" "&F23&" "&G23 -> นางสาว พิไลพร พุ่มน้อย | I23: นางสาว พิไลพร พุ่มน้อย | J23: 122/1 | K23: ม. 8 | L23: ต. คันธุลี | M23: อ. ท่าชนะ | N23: จ. สุราษฎร์ธานี | O23: 84170 | P23: บ้านพักอาศัยตึกชั้นเดียว | Q23: -ขายอาหาร | R23: 1 | S23: 10 | T23: 4 | U23: 4 | V23: 12 | W23: =S23*T23*U23*V23 -> 1920 | X23: =W23*12.5% -> 240 | Z23: 071/1 | AA23: 064/1 | AB23: 42033 | AC23: ชำระแล้ว
A24: 021 | B24: 3 | C24: 09B012 | D24: PO00001217 | E24: นาง | F24: เชื้อ | G24: ทิมดี | H24: =E24&" "&F24&" "&G24 -> นาง เชื้อ ทิมดี | I24: นาง เชื้อ ทิมดี | J24: 191/1 | K24: ม. 3 | L24: ต. คันธุลี | M24: อ. ท่าชนะ | N24: จ. สุราษฎร์ธานี | O24: 84170 | P24: บ้านพักอาศัยตึกชั้นเดียว | Q24: -ร้านขายของชำ | R24: 3 | S24: 6 | T24: 3 | U24: 3 | V24: 12 | W24: =S24*T24*U24*V24 -> 648 | X24: =W24*12.5% -> 81 | Z24: 072/1 | AA24: 065/1 | AB24: 42033 | AC24: ชำระแล้ว
A25: 022 | B25: 3 | C25: 09G006 | D25: PO00004149 | E25: นาย | F25: ผัส | G25: บุญประสงค์ | H25: =E25&" "&F25&" "&G25 -> นาย ผัส บุญประสงค์ | I25: นาย ผัส บุญประสงค์ | J25: 139 | K25: ม. 3 | L25: ต. คันธุลี | M25: อ. ท่าชนะ | N25: จ. สุราษฎร์ธานี | O25: 84170 | P25: บ้านพักอาศัยตึกชั้นเดียว | Q25: -ร้านขายของชำ | R25: 3 | S25: 6 | T25: 3 | U25: 3.5 | V25: 12 | W25: =S25*T25*U25*V25 -> 756 | X25: =W25*12.5% -> 94.5 | Z25: 073/1 | AA25: 066/1 | AB25: 42033 | AC25: ชำระแล้ว
A26: 161 | B26: 3 | C26: 09L019 | D26: PO00004763 | E26: นาง | F26: สุนี | G26: ทองอยู่ | H26: =E26&" "&F26&" "&G26 -> นาง สุนี ทองอยู่ | I26: นาง สุนี ทองอยู่ | J26: 83/2 | K26: ม. 3 | L26: ต. คันธุลี | M26: อ. ท่าชนะ | N26: จ. สุราษฎร์ธานี | O26: 84170 | P26: บ้านพักอาศัยตึกชั้นเดียว | Q26: -ร้านขายของชำ | R26: 3 | S26: 6 | T26: 4 | U26: 5 | V26: 12 | W26: =S26*T26*U26*V26 -> 1440 | X26: =W26*12.5% -> 180 | Z26: 076/1 | AA26: 069/1 | AB26: 42033 | AC26: ชำระแล้ว
A27: 023 | B27: 3 | C27: 09L004 | D27: PO00000646 | E27: นางสาว | F27: โสภะณา | G27: กองคลัง | H27: =E27&" "&F27&" "&G27 -> นางสาว โสภะณา กองคลัง | I27: นางสาว โสภะณา กองคลัง | J27: 172 | K27: ม. 4 | L27: ต. คันธุลี | M27: อ. ท่าชนะ | N27: จ. สุราษฎร์ธานี | O27: 84170 | P27: บ้านพักอาศัยตึกชั้นเดียว | Q27: -ร้านขายของชำ | R27: 3 | S27: 6 | T27: 4 | U27: 4 | V27: 12 | W27: =S27*T27*U27*V27 -> 1152 | X27: =W27*12.5% -> 144 | Z27: 075/1 | AA27: 068/1 | AB27: 42033 | AC27: ชำระแล้ว
A28: 024 | B28: 3 | C28: 09J025 | D28: PO00000893 | E28: นาง | F28: อุ่นใจ | G28: ฮงหลี | H28: =E28&" "&F28&" "&G28 -> นาง อุ่นใจ ฮงหลี | I28: นาง อุ่นใจ ฮงหลี | J28: 99-100 | K28: ม. 3 | L28: ต. คันธุลี | M28: อ. ท่าชนะ | N28: จ. สุราษฎร์ธานี | O28: 84170 | P28: บ้านพักอาศัยตึกชั้นเดียว | Q28: -ร้านขายของชำ | R28: 3 | S28: 6 | T28: 3 | U28: 8 | V28: 12 | W28: =S28*T28*U28*V28 -> 1728 | X28: =W28*12.5% -> 216 | Z28: 074/1 | AA28: 067/1 | AB28: 42033 | AC28: ชำระแล้ว
A29: 024 | B29: 3 | C29: 09J026 | D29: PO00000893 | E29: นาง | F29: อุ่นใจ | G29: ฮงหลี | H29: =E29&" "&F29&" "&G29 -> นาง อุ่นใจ ฮงหลี | I29: นาง อุ่นใจ ฮงหลี | J29: 99-100 | K29: ม. 3 | L29: ต. คันธุลี | M29: อ. ท่าชนะ | N29: จ. สุราษฎร์ธานี | O29: 84170 | P29: โรงเรือนประเภทพิเศษ | Q29: -ปั๊มหลอด | R29: 3 | S29: 5 | T29: 2 | U29: 2 | V29: 12 | W29: =S29*T29*U29*V29 -> 240 | X29: =W29*12.5% -> 30 | Z29: 074/1 | AA29: 067/1 | AB29: 42033 | AC29: ชำระแล้ว
A30: 025 | B30: 3 | C30: 09F004 | D30: PO00004689 | E30: นาย | F30: สฤษฏ์ | G30: ชัยดิษฐอดุลย์ | H30: =E30&" "&F30&" "&G30 -> นาย สฤษฏ์ ชัยดิษฐอดุลย์ | I30: นาย สฤษฏ์ ชัยดิษฐอดุลย์ | J30: 39 | K30: ม. 3 | L30: ต. คันธุลี | M30: อ. ท่าชนะ | N30: จ. สุราษฎร์ธานี | O30: 84170 | P30: บ้านพักอาศัยตึกชั้นเดียว | Q30: -ซ่อมรถจักรยานยนต์ | R30: 3 | S30: 10 | T30: 2.4 | U30: 6 | V30: 12 | W30: =S30*T30*U30*V30 -> 1728 | X30: =W30*12.5% -> 216 | Z30: 079/1 | AA30: 076/1 | AB30: 42037 | AC30: ชำระแล้ว
A31: 025 | B31: 3 | C31: 09F010 | D31: PO00004689 | E31: นาย | F31: สฤษฏ์ | G31: ชัยดิษฐอดุลย์ | H31: =E31&" "&F31&" "&G31 -> นาย สฤษฏ์ ชัยดิษฐอดุลย์ | I31: นาย สฤษฏ์ ชัยดิษฐอดุลย์ | J31: 39 | K31: ม. 3 | L31: ต. คันธุลี | M31: อ. ท่าชนะ | N31: จ. สุราษฎร์ธานี | O31: 84170 | P31: โรงเรือนประเภทพิเศษ | Q31: -ปั๊มหยอดเหรียญ | R31: 3 | S31: 5 | T31: 2 | U31: 2 | V31: 12 | W31: =S31*T31*U31*V31 -> 240 | X31: =W31*12.5% -> 30 | Z31: 079/1 | AA31: 076/1 | AB31: 42037 | AC31: ชำระแล้ว
A32: 026 | B32: 3 | C32: 09H037 | D32: PO00004148 | E32: นาง | F32: สุกัลยา | G32: ปานกลาง | H32: =E32&" "&F32&" "&G32 -> นาง สุกัลยา ปานกลาง | I32: นาง สุกัลยา ปานกลาง | J32: 273 | K32: ม. 3 | L32: ต. คันธุลี | M32: อ. ท่าชนะ | N32: จ. สุราษฎร์ธานี | O32: 84170 | P32: บ้านพักอาศัยตึกชั้นเดียว | Q32: -ร้านขายของชำ | R32: 2 | S32: 10 | T32: 4 | U32: 4 | V32: 12 | W32: =S32*T32*U32*V32 -> 1920 | X32: =W32*12.5% -> 240 | Z32: 062/1 | AA32: 055/1 | AB32: 42032 | AC32: ชำระแล้ว
A33: 027 | B33: 4 | C33: 10A005 | D33: PO00001584 | E33: นาย | F33: วัฒนา | G33: สำลี | H33: =E33&" "&F33&" "&G33 -> นาย วัฒนา สำลี | I33: นาย วัฒนา สำลี | J33: 34 | K33: ม. 4 | L33: ต. คันธุลี | M33: อ. ท่าชนะ | N33: จ. สุราษฎร์ธานี | O33: 84170 | P33: โรงเรือนประเภทพิเศษ | Q33: -ก่อสร้าง-รับเหมาทั่วไป (เครื่องจักรผสม คอนกรีต) | R33: 1 | S33: 20 | T33: 20 | U33: 20 | V33: 12 | W33: =S33*T33*U33*V33 -> 96000 | X33: =W33*12.5% -> 12000 | Z33: 065/2 | AA33: 062/2 | AB33: 42198 | AC33: ชำระแล้ว
A34: 027 | B34: 4 | C34: 10A003 | D34: PO00001584 | E34: นาย | F34: วัฒนา | G34: สำลี | H34: =E34&" "&F34&" "&G34 -> นาย วัฒนา สำลี | I34: นาย วัฒนา สำลี | J34: 34 | K34: ม. 4 | L34: ต. คันธุลี | M34: อ. ท่าชนะ | N34: จ. สุราษฎร์ธานี | O34: 84170 | P34: โรงเรือนประเภทพิเศษ | Q34: -อาคารโรงจอดรถ เก็บอุปกรณ์ | R34: 1 | S34: 15 | T34: 30 | U34: 30 | V34: 12 | W34: =S34*T34*U34*V34/3 -> 54000 | X34: =W34*12.5% -> 6750 | Z34: 065/2 | AA34: 062/2 | AB34: 42198 | AC34: ชำระแล้ว
A35: 027 | B35: 4 | C35: 10A004 | D35: PO00001584 | E35: นาย | F35: วัฒนา | G35: สำลี | H35: =E35&" "&F35&" "&G35 -> นาย วัฒนา สำลี | I35: นาย วัฒนา สำลี | J35: 34 | K35: ม. 4 | L35: ต. คันธุลี | M35: อ. ท่าชนะ | N35: จ. สุราษฎร์ธานี | O35: 84170 | P35: โรงเรือนประเภทพิเศษ | Q35: -เครื่องจักรทำยางแอสฟันส์ | R35: 1 | S35: 20 | T35: 20 | U35: 30 | V35: 12 | W35: =S35*T35*U35*V35/3 -> 48000 | X35: =W35*12.5% -> 6000 | Z35: 065/2 | AA35: 062/2 | AB35: 42198 | AC35: ชำระแล้ว
A36: 027 | B36: 4 | C36: 10A008 | D36: PO00001584 | E36: นาย | F36: วัฒนา | G36: สำลี | H36: =E36&" "&F36&" "&G36 -> นาย วัฒนา สำลี | I36: นาย วัฒนา สำลี | J36: 34 | K36: ม. 4 | L36: ต. คันธุลี | M36: อ. ท่าชนะ | N36: จ. สุราษฎร์ธานี | O36: 84170 | P36: โรงเรือนประเภทพิเศษ | Q36: -ลานดิน | R36: 1 | S36: 3 | T36: 30 | U36: 33 | V36: 12 | W36: =S36*T36*U36*V36 -> 35640 | X36: =W36*12.5% -> 4455 | Z36: 065/2 | AA36: 062/2 | AB36: 42198 | AC36: ชำระแล้ว
A37: 027 | B37: 4 | C37: 10A007 | D37: PO00001584 | E37: นาย | F37: วัฒนา | G37: สำลี | H37: =E37&" "&F37&" "&G37 -> นาย วัฒนา สำลี | I37: นาย วัฒนา สำลี | J37: 34 | K37: ม. 4 | L37: ต. คันธุลี | M37: อ. ท่าชนะ | N37: จ. สุราษฎร์ธานี | O37: 84170 | P37: โรงเรือนประเภทพิเศษ | Q37: -ลานชั่งน้ำหนัก | R37: 1 | S37: 10 | T37: 3 | U37: 18 | V37: 12 | W37: =S37*T37*U37*V37 -> 6480 | X37: =W37*12.5% -> 810 | Z37: 065/2 | AA37: 062/2 | AB37: 42198 | AC37: ชำระแล้ว
A38: 029 | B38: 4 | C38: 10B024 | D38: PO00003467 | E38: นาง | F38: จริยา | G38: สงคงคา | H38: =E38&" "&F38&" "&G38 -> นาง จริยา สงคงคา | I38: นาง จริยา สงคงคา | J38: 351 | K38: ม. 4 | L38: ต. คันธุลี | M38: อ. ท่าชนะ | N38: จ. สุราษฎร์ธานี | O38: 84170 | P38: โรงเรือนประเภทพิเศษ | Q38: -บ้านเช่า 1 | R38: 1 | S38: 1500 | T38: 1 | U38: 1 | V38: 12 | W38: =S38*T38*U38*V38 -> 18000 | X38: =W38*12.5% -> 2250 | Z38: 045/2 | AA38: 040/2 | AB38: 42074 | AC38: ชำระแล้ว
A39: 029 | B39: 4 | C39: 10B026 | D39: PO00003467 | E39: นาง | F39: จริยา | G39: สงคงคา | H39: =E39&" "&F39&" "&G39 -> นาง จริยา สงคงคา | I39: นาง จริยา สงคงคา | J39: 351 | K39: ม. 4 | L39: ต. คันธุลี | M39: อ. ท่าชนะ | N39: จ. สุราษฎร์ธานี | O39: 84170 | P39: โรงเรือนประเภทพิเศษ | Q39: -บ้านเช่า 2 | R39: 1 | S39: 1500 | T39: 1 | U39: 1 | V39: 12 | W39: =S39*T39*U39*V39 -> 18000 | X39: =W39*12.5% -> 2250 | Z39: 045/2 | AA39: 040/2 | AB39: 42074 | AC39: ชำระแล้ว
A40: 030 | B40: 4 | C40: 08H034 | D40: PO00004593 | E40: นางสาว | F40: อัจฉรา | G40: พรหมศร | H40: =E40&" "&F40&" "&G40 -> นางสาว อัจฉรา พรหมศร | I40: นางสาว อัจฉรา พรหมศร | J40: 255 | K40: ม. 4 | L40: ต. คันธุลี | M40: อ. ท่าชนะ | N40: จ. สุราษฎร์ธานี | O40: 84170 | P40: บ้านพักอาศัยตึกชั้นเดียว | Q40: -ร้านขายของชำ | R40: 3 | S40: 6 | T40: 6 | U40: 7 | V40: 12 | W40: =S40*T40*U40*V40 -> 3024 | X40: =W40*12.5% -> 378 | Z40: 083/1 | AA40: 080/1 | AB40: 42037 | AC40: ชำระแล้ว
A41: 032 | B41: 5 | C41: 03I012 | D41: PO00004144 | E41: นาย | F41: อนุมาศ | G41: บัวเอี่ยม | H41: =E41&" "&F41&" "&G41 -> นาย อนุมาศ บัวเอี่ยม | I41: นาย อนุมาศ บัวเอี่ยม | J41: 266 | K41: ม. 5 | L41: ต. คันธุลี | M41: อ. ท่าชนะ | N41: จ. สุราษฎร์ธานี | O41: 84170 | P41: โรงเรือนประเภทพิเศษ | Q41: -ขายอาหาร | R41: 1 | S41: 8 | T41: 4 | U41: 5 | V41: 12 | W41: =S41*T41*U41*V41 -> 1920 | X41: =W41*12.5% -> 240 | Z41: 003/2 | AA41: 003/2 | AB41: 42052 | AC41: ชำระแล้ว
A42: 037 | B42: 5 | C42: 03G003 | D42: PO00000187 | E42: นางสาว | F42: จงกล | G42: ชุมพรัตน์ | H42: =E42&" "&F42&" "&G42 -> นางสาว จงกล ชุมพรัตน์ | I42: นางสาว จงกล ชุมพรัตน์ | J42: 115 | K42: ม. 5 | L42: ต. คันธุลี | M42: อ. ท่าชนะ | N42: จ. สุราษฎร์ธานี | O42: 84170 | P42: บ้านพักอาศัยตึกสองชั้น | Q42: -ร้านขายของชำ | R42: 1 | S42: 15 | T42: 10 | U42: 4 | V42: 12 | W42: =S42*T42*U42*V42 -> 7200 | X42: =W42*12.5% -> 900 | Z42: 094/1 | AA42: 091/1 | AB42: 42038 | AC42: ชำระแล้ว
A43: 037 | B43: 5 | C43: 03G002 | D43: PO00000187 | E43: นางสาว | F43: จงกล | G43: ชุมพรัตน์ | H43: =E43&" "&F43&" "&G43 -> นางสาว จงกล ชุมพรัตน์ | I43: นางสาว จงกล ชุมพรัตน์ | J43: 115 | K43: ม. 5 | L43: ต. คันธุลี | M43: อ. ท่าชนะ | N43: จ. สุราษฎร์ธานี | O43: 84170 | P43: โรงเรือนประเภทพิเศษ | Q43: -ปั๊มหลอด | R43: 1 | S43: 10 | T43: 2 | U43: 2 | V43: 12 | W43: =S43*T43*U43*V43 -> 480 | X43: =W43*12.5% -> 60 | Z43: 094/1 | AA43: 091/1 | AB43: 42038 | AC43: ชำระแล้ว
A44: 033 | B44: 5 | C44: 03I013 | D44: PO00001344 | E44: นาง | F44: บุญชู | G44: หงษ์ทอง | H44: =E44&" "&F44&" "&G44 -> นาง บุญชู หงษ์ทอง | I44: นาง บุญชู หงษ์ทอง | J44: 143 | K44: ม. 5 | L44: ต. คันธุลี | M44: อ. ท่าชนะ | N44: จ. สุราษฎร์ธานี | O44: 84170 | P44: โรงเรือนประเภทพิเศษ | Q44: -ขายอาหาร | R44: 1 | S44: 8 | T44: 4 | U44: 5 | V44: 12 | W44: =S44*T44*U44*V44 -> 1920 | X44: =W44*12.5% -> 240 | Z44: 004/2 | AA44: 004/2 | AB44: 42052 | AC44: ชำระแล้ว
A45: 038 | B45: 5 | C45: 03D036 | D45: PO00001315 | E45: นาง | F45: อุบล | G45: ศรีระบาย | H45: =E45&" "&F45&" "&G45 -> นาง อุบล ศรีระบาย | I45: นาง อุบล ศรีระบาย | J45: 96 | K45: ม. 5 | L45: ต. คันธุลี | M45: อ. ท่าชนะ | N45: จ. สุราษฎร์ธานี | O45: 84170 | P45: โรงเรือนประเภทพิเศษ | Q45: -ร้านขายของชำ | R45: 1 | S45: 12 | T45: 4 | U45: 3 | V45: 12 | W45: =S45*T45*U45*V45 -> 1728 | X45: =W45*12.5% -> 216 | Z45: 089/1 | AA45: 086/1 | AB45: 42038 | AC45: ชำระแล้ว
A46: 038 | B46: 5 | C46: 03D038 | D46: PO00001315 | E46: นาง | F46: อุบล | G46: ศรีระบาย | H46: =E46&" "&F46&" "&G46 -> นาง อุบล ศรีระบาย | I46: นาง อุบล ศรีระบาย | J46: 96 | K46: ม. 5 | L46: ต. คันธุลี | M46: อ. ท่าชนะ | N46: จ. สุราษฎร์ธานี | O46: 84170 | P46: โรงเรือนประเภทพิเศษ | Q46: -ปั๊มหลอด | R46: 1 | S46: 10 | T46: 2 | U46: 2 | V46: 12 | W46: =S46*T46*U46*V46 -> 480 | X46: =W46*12.5% -> 60 | Z46: 089/1 | AA46: 086/1 | AB46: 42038 | AC46: ชำระแล้ว
A47: 034 | B47: 5 | C47: 03D029 | D47: PO00001673 | E47: นาย | F47: สมศักดิ์ | G47: บัวเอี่ยม | H47: =E47&" "&F47&" "&G47 -> นาย สมศักดิ์ บัวเอี่ยม | I47: นาย สมศักดิ์ บัวเอี่ยม | J47: 117 | K47: ม. 5 | L47: ต. คันธุลี | M47: อ. ท่าชนะ | N47: จ. สุราษฎร์ธานี | O47: 84170 | P47: โรงเรือนประเภทพิเศษ | Q47: -ขายอาหาร | R47: 1 | S47: 8 | T47: 4 | U47: 5 | V47: 12 | W47: =S47*T47*U47*V47 -> 1920 | X47: =W47*12.5% -> 240 | Y47: ร้านลาบวัว สาวร้อยเอ็ด | Z47: 099/1 | AA47: 098/1 | AB47: 42052 | AC47: ชำระแล้ว
A48: 007 | B48: 5 | C48: 03D057 | D48: PO00004780 | E48: นาย | F48: สุเทพ | G48: สดชื่น | H48: =E48&" "&F48&" "&G48 -> นาย สุเทพ สดชื่น | I48: นาย สุเทพ สดชื่น | J48: 120 | K48: ม. 3 | L48: ต. ละแม | M48: อ. ละแม | N48: จ. ชุมพร | O48: 86170 | P48: โรงเรือนประเภทพิเศษ | Q48: -ขายอาหาร | R48: 1 | S48: 8 | T48: 4 | U48: 5 | V48: 12 | W48: =S48*T48*U48*V48 -> 1920 | X48: =W48*12.5% -> 240 | Y48: ร้านเทพประทานซีฟู๊ด | Z48: 100/1 | AA48: 099/1 | AB48: 42052 | AC48: ชำระแล้ว
A49: 035 | B49: 5 | C49: 03D055 | D49: PO00004597 | E49: นาย | F49: พิณ | G49: ภมร | H49: =E49&" "&F49&" "&G49 -> นาย พิณ ภมร | I49: นาย พิณ ภมร | J49: 189 | K49: ม. 12 | L49: ต. ผางาม | M49: อ. เวียงชัย | N49: จ. เชียงราย | O49: 57210 | P49: โรงเรือนประเภทพิเศษ | Q49: -ขายอาหาร | R49: 1 | S49: 8 | T49: 4 | U49: 5 | V49: 12 | W49: =S49*T49*U49*V49 -> 1920 | X49: =W49*12.5% -> 240 | Z49: 088/1 | AA49: 085/1 | AB49: 42038 | AC49: ชำระแล้ว
A50: 016 | B50: 5 | C50: 03D059 | D50: PO00004761 | E50: นาย | F50: สุวินัย | G50: บัวเอี่ยม | H50: =E50&" "&F50&" "&G50 -> นาย สุวินัย บัวเอี่ยม | I50: นาย สุวินัย บัวเอี่ยม | J50: 117 | K50: ม. 5 | L50: ต. คันธุลี | M50: อ. ท่าชนะ | N50: จ. สุราษฎร์ธานี | O50: 84170 | P50: โรงเรือนประเภทพิเศษ | Q50: -ขายอาหาร | R50: 1 | S50: 8 | T50: 4 | U50: 5 | V50: 12 | W50: =S50*T50*U50*V50 -> 1920 | X50: =W50*12.5% -> 240 | Z50: 002/2 | AA50: 100/1 | AB50: 42052 | AC50: ชำระแล้ว
A51: 036 | B51: 5 | C51: 03D030 | D51: PO00004690 | E51: นางสาว | F51: สุจินต์ | G51: จันกลาง | H51: =E51&" "&F51&" "&G51 -> นางสาว สุจินต์ จันกลาง | I51: นางสาว สุจินต์ จันกลาง | J51: 62 | K51: ม. 8 | L51: ต. หนองหว้า | M51: อ. เขาฉกรรจ์ | N51: จ. สระแก้ว | P51: โรงเรือนประเภทพิเศษ | Q51: -ขายอาหาร | R51: 1 | S51: 8 | T51: 4 | U51: 5 | V51: 12 | W51: =S51*T51*U51*V51 -> 1920 | X51: =W51*12.5% -> 240 | Y51: ร้านลาบเหนือ อิสาน อาหารตามสั่ง | Z51: 090/1 | AA51: 087/1 | AB51: 42038 | AC51: ชำระแล้ว
A52: 039 | B52: 5 | C52: 03I011 | D52: PO00004756 | E52: นางสาว | F52: ขนิษฐา | G52: ศิลป์สอน | H52: =E52&" "&F52&" "&G52 -> นางสาว ขนิษฐา ศิลป์สอน | I52: นางสาว ขนิษฐา ศิลป์สอน | J52: 27 | K52: ม. 8 | L52: ต. ละแม | M52: อ. ละแม | N52: จ. ชุมพร | O52: 86170 | P52: บ้านพักอาศัยตึกชั้นเดียว | Q52: -ขายอาหาร | R52: 1 | S52: 8 | T52: 8 | U52: 8 | V52: 12 | W52: =S52*T52*U52*V52 -> 6144 | X52: =W52*12.5% -> 768 | Z52: 095/1 | AA52: 092/1 | AB52: 42038 | AC52: ชำระแล้ว
A53: 042 | B53: 5 | C53: 03G029 | D53: CO00000010 | E53: บมจ. | F53: ไทยฮั้วยางพารา | G53: - | H53: =E53&" "&F53&" "&G53 -> บมจ. ไทยฮั้วยางพารา - | I53: บมจ. ไทยฮั้วยางพารา - | J53: 130 ถ.เพชรเกษม | K53: ม. 1 | L53: ต. ฉลุง | M53: อ. หาดใหญ่ | N53: จ. สงขลา | O53: 90110 | P53: โรงเรือนประเภทพิเศษ | Q53: -รับซื้อยางแผ่น,เศษยาง (อาคารสำนักงาน) | R53: 1 | S53: 10 | T53: 9 | U53: 6 | V53: 12 | W53: =S53*T53*U53*V53 -> 6480 | X53: =W53*12.5% -> 810 | Z53: 029/1 | AA53: 018/1 | AB53: 42025 | AC53: ชำระแล้ว
A54: 042 | B54: 5 | C54: 03G027 | D54: CO00000010 | E54: บมจ. | F54: ไทยฮั้วยางพารา | G54: - | H54: =E54&" "&F54&" "&G54 -> บมจ. ไทยฮั้วยางพารา - | I54: บมจ. ไทยฮั้วยางพารา - | J54: 130 ถ.เพชรเกษม | K54: ม. 1 | L54: ต. ฉลุง | M54: อ. หาดใหญ่ | N54: จ. สงขลา | O54: 90110 | P54: โรงเรือนประเภทพิเศษ | Q54: -ลานคอนกรีต | R54: 1 | S54: 5 | T54: 30 | U54: 30 | V54: 12 | W54: =S54*T54*U54*V54 -> 54000 | X54: =W54*12.5% -> 6750 | Z54: 029/1 | AA54: 018/1 | AB54: 42025 | AC54: ชำระแล้ว
A55: 043 | B55: 5 | C55: 03B001 | D55: PO00004758 | E55: นาย | F55: ประเสริฐ | G55: ปานเนียร | H55: =E55&" "&F55&" "&G55 -> นาย ประเสริฐ ปานเนียร | I55: นาย ประเสริฐ ปานเนียร | J55: 163 | K55: ม. 5 | L55: ต. คันธุลี | M55: อ. ท่าชนะ | N55: จ. สุราษฎร์ธานี | O55: 84170 | P55: โรงเรือนประเภทพิเศษ | Q55: -เสาส่งสัญญาณ โทรคมนาคม True Move (ชำระโดยผู้ให้เช่า) | R55: 1 | S55: 6078 | T55: 1 | U55: 1 | V55: 12 | W55: =S55*T55*U55*V55 -> 72936 | X55: =W55*12.5% -> 9117 | Z55: 044/2 | AA55: 039/2 | AB55: 42072 | AC55: ชำระแล้ว
A56: 044 | B56: 5 | C56: 03D023 | D56: PO00004482 | E56: นาง | F56: บุญฤทธิ์ | G56: ธรรมนารักษ์ | H56: =E56&" "&F56&" "&G56 -> นาง บุญฤทธิ์ ธรรมนารักษ์ | I56: นาง บุญฤทธิ์ ธรรมนารักษ์ | J56: 198 | K56: ม. 5 | L56: ต. คันธุลี | M56: อ. ท่าชนะ | N56: จ. สุราษฎร์ธานี | O56: 84170 | P56: บ้านพักอาศัยตึกชั้นเดียว | Q56: -ร้านขายของชำ | R56: 1 | S56: 10 | T56: 4 | U56: 5 | V56: 12 | W56: =S56*T56*U56*V56 -> 2400 | X56: =W56*12.5% -> 300 | Z56: 091/1 | AA56: 088/1 | AB56: 42038 | AC56: ชำระแล้ว
A57: 045 | B57: 5 | C57: 03D020 | D57: PO00001272 | E57: นาง | F57: ดวงเดือน | G57: ทองรักขาว | H57: =E57&" "&F57&" "&G57 -> นาง ดวงเดือน ทองรักขาว | I57: นาง ดวงเดือน ทองรักขาว | J57: 139 | K57: ม. 5 | L57: ต. คันธุลี | M57: อ. ท่าชนะ | N57: จ. สุราษฎร์ธานี | O57: 84170 | P57: บ้านพักอาศัยตึกชั้นเดียว | Q57: -ร้านขายของชำ | R57: 1 | S57: 10 | T57: 6 | U57: 7 | V57: 12 | W57: =S57*T57*U57*V57 -> 5040 | X57: =W57*12.5% -> 630 | Z57: 092/1 | AA57: 089/1 | AB57: 42038 | AC57: ชำระแล้ว
A58: 046 | B58: 5 | C58: 03D019 | D58: PO00004283 | E58: นาย | F58: วรวุธ | G58: ชินวงค์ | H58: =E58&" "&F58&" "&G58 -> นาย วรวุธ ชินวงค์ | I58: นาย วรวุธ ชินวงค์ | J58: 15 | K58: ม. 5 | L58: ต. คันธุลี | M58: อ. ท่าชนะ | N58: จ. สุราษฎร์ธานี | O58: 84170 | P58: บ้านพักอาศัยตึกชั้นเดียว | Q58: -ซ่อมรถจักรยานยนต์ | R58: 1 | S58: 10 | T58: 4 | U58: 4.5 | V58: 12 | W58: =S58*T58*U58*V58 -> 2160 | X58: =W58*12.5% -> 270 | Z58: 055/2 | AA58: 054/2 | AB58: 42093 | AC58: ชำระแล้ว
A59: 047 | B59: 5 | C59: 03D015 | D59: PO00004073 | E59: นางสาว | F59: วนิดา | G59: ศรีระบาย | H59: =E59&" "&F59&" "&G59 -> นางสาว วนิดา ศรีระบาย | I59: นางสาว ปราณี ศรีระบาย | J59: 271 | K59: ม. 5 | L59: ต. คันธุลี | M59: อ. ท่าชนะ | N59: จ. สุราษฎร์ธานี | O59: 84170 | P59: บ้านพักอาศัยตึกชั้นเดียว | Q59: -ร้านขายของชำ | R59: 1 | S59: 10 | T59: 6 | U59: 6 | V59: 12 | W59: =S59*T59*U59*V59 -> 4320 | X59: =W59*12.5% -> 540 | Z59: 093/1 | AA59: 090/1 | AB59: 42038 | AC59: ชำระแล้ว
A60: 048 | B60: 5 | C60: 03D003 | D60: PO00000927 | E60: นาย | F60: คำแหง | G60: แดงกนิษฐ์ | H60: =E60&" "&F60&" "&G60 -> นาย คำแหง แดงกนิษฐ์ | I60: นาย คำแหง แดงกนิษฐ์ | J60: 129/4 | K60: ม. 5 | L60: ต. คันธุลี | M60: อ. ท่าชนะ | N60: จ. สุราษฎร์ธานี | O60: 84170 | P60: โรงเรือนประเภทพิเศษ | Q60: -สนามชนไก่ | R60: 3 | S60: 18 | T60: 16 | U60: 20 | V60: 7 | W60: =S60*T60*U60*V60 -> 40320 | X60: =W60*12.5% -> 5040 | Z60: 011/2 | AA60: 009/2 | AB60: 42058 | AC60: ชำระแล้ว
A61: 048 | B61: 5 | C61: 03D052 | D61: PO00000927 | E61: นาย | F61: คำแหง | G61: แดงกนิษฐ์ | H61: =E61&" "&F61&" "&G61 -> นาย คำแหง แดงกนิษฐ์ | I61: นาย คำแหง แดงกนิษฐ์ | J61: 129/4 | K61: ม. 5 | L61: ต. คันธุลี | M61: อ. ท่าชนะ | N61: จ. สุราษฎร์ธานี | O61: 84170 | P61: โรงเรือนประเภทพิเศษ | Q61: -ขายอาหาร | R61: 3 | S61: 8 | T61: 10 | U61: 18 | V61: 7 | W61: =S61*T61*U61*V61 -> 10080 | X61: =W61*12.5% -> 1260 | Z61: 011/2 | AA61: 009/2 | AB61: 42058 | AC61: ชำระแล้ว
A62: 049 | B62: 6 | C62: 14I017 | D62: PO00002009 | E62: นาย | F62: วิโรจน์ | G62: มีสวัสดิ์ | H62: =E62&" "&F62&" "&G62 -> นาย วิโรจน์ มีสวัสดิ์ | I62: นาย วิโรจน์ มีสวัสดิ์ | J62: 64 | K62: ม. 6 | L62: ต. คันธุลี | M62: อ. ท่าชนะ | N62: จ. สุราษฎร์ธานี | O62: 84170 | P62: โรงเรือนประเภทพิเศษ | Q62: -ร้านขายของชำ | R62: 3 | S62: 8 | T62: 2 | U62: 3 | V62: 12 | W62: =S62*T62*U62*V62 -> 576 | X62: =W62*12.5% -> 72 | Z62: 067/1 | AA62: 060/1 | AB62: 42032 | AC62: ชำระแล้ว
A63: 050 | B63: 6 | C63: 14G007 | D63: PO00001399 | E63: นาง | F63: สมบุญ | G63: เตกฉัตร | H63: =E63&" "&F63&" "&G63 -> นาง สมบุญ เตกฉัตร | I63: นาง สมบุญ เตกฉัตร | J63: 217 | K63: ม. 6 | L63: ต. คันธุลี | M63: อ. ท่าชนะ | N63: จ. สุราษฎร์ธานี | O63: 84170 | P63: บ้านพักอาศัยตึกชั้นเดียว | Q63: -ร้านขายของชำ | R63: 3 | S63: 6 | T63: 4 | U63: 3 | V63: 12 | W63: =S63*T63*U63*V63 -> 864 | X63: =W63*12.5% -> 108 | Z63: 068/1 | AA63: 061/1 | AB63: 42032 | AC63: ชำระแล้ว
A64: 050 | B64: 6 | C64: 14G006 | D64: PO00001399 | E64: นาง | F64: สมบุญ | G64: เตกฉัตร | H64: =E64&" "&F64&" "&G64 -> นาง สมบุญ เตกฉัตร | I64: นาง สมบุญ เตกฉัตร | J64: 217 | K64: ม. 6 | L64: ต. คันธุลี | M64: อ. ท่าชนะ | N64: จ. สุราษฎร์ธานี | O64: 84170 | P64: โรงเรือนประเภทพิเศษ | Q64: -ปั๊มหลอด | R64: 3 | S64: 5 | T64: 2 | U64: 2 | V64: 12 | W64: =S64*T64*U64*V64 -> 240 | X64: =W64*12.5% -> 30 | Z64: 068/1 | AA64: 061/1 | AB64: 42032 | AC64: ชำระแล้ว
A65: 051 | B65: 6 | C65: 14H021 | D65: PO00003201 | E65: นาง | F65: นาตยา | G65: ใหม่ซ้อน | H65: =E65&" "&F65&" "&G65 -> นาง นาตยา ใหม่ซ้อน | I65: นาง นาตยา ใหม่ซ้อน | J65: 48/3 | K65: ม. 6 | L65: ต. คันธุลี | M65: อ. ท่าชนะ | N65: จ. สุราษฎร์ธานี | O65: 84170 | P65: บ้านพักอาศัยตึกชั้นเดียว | Q65: -ร้านขายของชำ | R65: 3 | S65: 6 | T65: 2 | U65: 3 | V65: 12 | W65: =S65*T65*U65*V65 -> 432 | X65: =W65*12.5% -> 54 | Z65: 069/1 | AA65: 062/1 | AB65: 42032 | AC65: ชำระแล้ว
A66: 051 | B66: 6 | C66: 14H022 | D66: PO00003201 | E66: นาง | F66: นาตยา | G66: ใหม่ซ้อน | H66: =E66&" "&F66&" "&G66 -> นาง นาตยา ใหม่ซ้อน | I66: นาง นาตยา ใหม่ซ้อน | J66: 48/3 | K66: ม. 6 | L66: ต. คันธุลี | M66: อ. ท่าชนะ | N66: จ. สุราษฎร์ธานี | O66: 84170 | P66: โรงเรือนประเภทพิเศษ | Q66: -ปั๊มหลอด | R66: 3 | S66: 5 | T66: 2 | U66: 2 | V66: 12 | W66: =S66*T66*U66*V66 -> 240 | X66: =W66*12.5% -> 30 | Z66: 069/1 | AA66: 062/1 | AB66: 42032 | AC66: ชำระแล้ว
A67: 052 | B67: 6 | C67: 14I003 | D67: PO00004152 | E67: นาย | F67: พงศกร | G67: ใจเย็น | H67: =E67&" "&F67&" "&G67 -> นาย พงศกร ใจเย็น | I67: นาย พงศกร ใจเย็น | J67: 240 | K67: ม. 6 | L67: ต. คันธุลี | M67: อ. ท่าชนะ | N67: จ. สุราษฎร์ธานี | O67: 84170 | P67: บ้านพักอาศัยตึกชั้นเดียว | Q67: -ร้านขายของชำ,อุปกรณ์การเกษตร | R67: 2 | S67: 8 | T67: 10 | U67: 10 | V67: 12 | W67: =S67*T67*U67*V67 -> 9600 | X67: =W67*12.5% -> 1200 | Z67: 063/1 | AA67: 056/1 | AB67: 42032 | AC67: ชำระแล้ว
A68: 053 | B68: 6 | C68: 14I004 | D68: PO00000319 | E68: นาง | F68: สมโพชย์ | G68: หนูเหมือน | H68: =E68&" "&F68&" "&G68 -> นาง สมโพชย์ หนูเหมือน | I68: นาง สมโพชย์ หนูเหมือน | J68: 220 | K68: ม. 6 | L68: ต. คันธุลี | M68: อ. ท่าชนะ | N68: จ. สุราษฎร์ธานี | O68: 84170 | P68: บ้านพักอาศัยตึกชั้นเดียว | Q68: -ร้านขายของชำ | R68: 2 | S68: 8 | T68: 3 | U68: 3 | V68: 12 | W68: =S68*T68*U68*V68 -> 864 | X68: =W68*12.5% -> 108 | Z68: 064/1 | AA68: 057/1 | AB68: 42032 | AC68: ชำระแล้ว
A69: 054 | B69: 6 | C69: 14I006 | D69: PO00001427 | E69: นางสาว | F69: อุไร | G69: เพ็งสระเกษ | H69: =E69&" "&F69&" "&G69 -> นางสาว อุไร เพ็งสระเกษ | I69: นางสาว อุไร เพ็งสระเกษ | J69: 8 | K69: ม. 6 | L69: ต. คันธุลี | M69: อ. ท่าชนะ | N69: จ. สุราษฎร์ธานี | O69: 84170 | P69: โรงเรือนประเภทพิเศษ | Q69: -ผลิต,จำหน่าย ตู้อลูมิเนียม | R69: 2 | S69: 18 | T69: 5 | U69: 18 | V69: 12 | W69: =S69*T69*U69*V69 -> 19440 | X69: =W69*12.5% -> 2430 | Z69: 065/1 | AA69: 058/1 | AB69: 42032 | AC69: ชำระแล้ว
A70: 055 | B70: 6 | C70: 14C003 | D70: PO00004226 | E70: นาย | F70: กิตติเชษฐ | G70: นิตมี | H70: =E70&" "&F70&" "&G70 -> นาย กิตติเชษฐ นิตมี | I70: นาย กิตติเชษฐ นิตมี | J70: 135 | K70: ม. 6 | L70: ต. คันธุลี | M70: อ. ท่าชนะ | N70: จ. สุราษฎร์ธานี | O70: 84170 | P70: บ้านพักอาศัยตึกชั้นเดียว | Q70: -ร้านขายของชำ | R70: 2 | S70: 8 | T70: 4 | U70: 8 | V70: 12 | W70: =S70*T70*U70*V70 -> 3072 | X70: =W70*12.5% -> 384 | Z70: 061/1 | AA70: 054/1 | AB70: 42032 | AC70: ชำระแล้ว
A71: 056 | B71: 6 | C71: 14C011 | D71: PO00000156 | E71: นาย | F71: เกษม | G71: พลายจันทร์ | H71: =E71&" "&F71&" "&G71 -> นาย เกษม พลายจันทร์ | I71: นาย เกษม พลายจันทร์ | J71: 118 | K71: ม. 1 | L71: ต. คันธุลี | M71: อ. ท่าชนะ | N71: จ. สุราษฎร์ธานี | O71: 84170 | P71: บ้านพักอาศัยตึกชั้นเดียว | Q71: -ร้านขายของชำ,อุปกรณ์การเกษตร | R71: 2 | S71: 8 | T71: 10 | U71: 12 | V71: 12 | W71: =S71*T71*U71*V71 -> 11520 | X71: =W71*12.5% -> 1440 | Z71: 070/1 | AA71: 063/1 | AB71: 42032 | AC71: ชำระแล้ว
A72: 057 | B72: 6 | C72: 14I025 | D72: PO00003217 | E72: นางสาว | F72: พวงทิพย์ | G72: พุ่มขจร | H72: =E72&" "&F72&" "&G72 -> นางสาว พวงทิพย์ พุ่มขจร | I72: นางสาว พวงทิพย์ พุ่มขจร | J72: 62 | K72: ม. 6 | L72: ต. คันธุลี | M72: อ. ท่าชนะ | N72: จ. สุราษฎร์ธานี | O72: 84170 | P72: บ้านพักอาศัยตึกชั้นเดียว | Q72: -ร้านขายของชำ | R72: 3 | S72: 6 | T72: 4 | U72: 5 | V72: 12 | W72: =S72*T72*U72*V72 -> 1440 | X72: =W72*12.5% -> 180 | Z72: 066/1 | AA72: 059/1 | AB72: 42032 | AC72: ชำระแล้ว
A73: 058 | B73: 7 | C73: 04B029 | D73: PO00002043 | E73: นางสาว | F73: จินตนา | G73: พรหมศักดิ์ | H73: =E73&" "&F73&" "&G73 -> นางสาว จินตนา พรหมศักดิ์ | I73: นางสาว จินตนา พรหมศักดิ์ | J73: 25 | K73: ม. 7 | L73: ต. คันธุลี | M73: อ. ท่าชนะ | N73: จ. สุราษฎร์ธานี | O73: 84170 | P73: บ้านพักอาศัยตึกชั้นเดียว | Q73: -ร้านขายของชำ | R73: 3 | S73: 6 | T73: 3 | U73: 3 | V73: 12 | W73: =S73*T73*U73*V73 -> 648 | X73: =W73*12.5% -> 81 | Z73: 015/1 | AA73: 013/1 | AB73: 42023 | AC73: ชำระแล้ว
A74: 059 | B74: 7 | C74: 04C059 | D74: PO00003613 | E74: นาง | F74: เตียด | G74: เดชแดง | H74: =E74&" "&F74&" "&G74 -> นาง เตียด เดชแดง | I74: นาง เตียด เดชแดง | J74: 145 | K74: ม. 7 | L74: ต. คันธุลี | M74: อ. ท่าชนะ | N74: จ. สุราษฎร์ธานี | O74: 84170 | P74: บ้านพักอาศัยตึกชั้นเดียว | Q74: -ร้านขายของชำ | R74: 3 | S74: 6 | T74: 3 | U74: 3 | V74: 12 | W74: =S74*T74*U74*V74 -> 648 | X74: =W74*12.5% -> 81 | Z74: 016/1 | AA74: 014/1 | AB74: 42023 | AC74: ชำระแล้ว
A75: 060 | B75: 7 | C75: 04C038 | D75: PO00001872 | E75: นางสาว | F75: วิภารัตน์ | G75: ผึ้งดอกไม้ | H75: =E75&" "&F75&" "&G75 -> นางสาว วิภารัตน์ ผึ้งดอกไม้ | I75: นางสาว วิภารัตน์ ผึ้งดอกไม้ | J75: 56 | K75: ม. 7 | L75: ต. คันธุลี | M75: อ. ท่าชนะ | N75: จ. สุราษฎร์ธานี | O75: 84170 | P75: บ้านพักอาศัยตึกชั้นเดียว | Q75: -ร้านขายของชำ | R75: 3 | S75: 6 | T75: 4 | U75: 4 | V75: 12 | W75: =S75*T75*U75*V75 -> 1152 | X75: =W75*12.5% -> 144 | Z75: 018/1 | AA75: 016/1 | AB75: 42023 | AC75: ชำระแล้ว
A76: 061 | B76: 7 | C76: 04A022 | D76: PO00004683 | E76: นาง | F76: จินตนา | G76: ฉิมวารี | H76: =E76&" "&F76&" "&G76 -> นาง จินตนา ฉิมวารี | I76: นาง จินตนา ฉิมวารี | J76: 67 | K76: ม. 7 | L76: ต. คันธุลี | M76: อ. ท่าชนะ | N76: จ. สุราษฎร์ธานี | O76: 84170 | P76: บ้านพักอาศัยตึกชั้นเดียว | Q76: -ร้านขายของชำ | R76: 3 | S76: 6 | T76: 3 | U76: 3 | V76: 11 | W76: =S76*T76*U76*V76 -> 594 | X76: =W76*12.5% -> 74.25 | Z76: 017/1 | AA76: 015/1 | AB76: 42023 | AC76: ชำระแล้ว
A77: 062 | B77: 7 | C77: 04E017 | D77: PO00004284 | E77: นาย | F77: สุพจน์ | G77: กาญเพ็ช | H77: =E77&" "&F77&" "&G77 -> นาย สุพจน์ กาญเพ็ช | I77: นาย สุพจน์ กาญเพ็ช | J77: 16 | K77: ม. 7 | L77: ต. คันธุลี | M77: อ. ท่าชนะ | N77: จ. สุราษฎร์ธานี | O77: 84170 | P77: บ้านพักอาศัยตึกชั้นเดียว | Q77: -ซ่อมรถจักรยานยนต์ | R77: 2 | S77: 13 | T77: 3 | U77: 4 | V77: 12 | W77: =S77*T77*U77*V77 -> 1872 | X77: =W77*12.5% -> 234 | Z77: 006/1 | AA77: 004/1 | AB77: 42023 | AC77: ชำระแล้ว
A78: 063 | B78: 8 | C78: 08I003 | D78: PO00000061 | E78: นาย | F78: สมบูรณ์ | G78: จันทโสม | H78: =E78&" "&F78&" "&G78 -> นาย สมบูรณ์ จันทโสม | I78: นาย สมบูรณ์ จันทโสม | J78: 23 | K78: ม. 8 | L78: ต. คันธุลี | M78: อ. ท่าชนะ | N78: จ. สุราษฎร์ธานี | O78: 84170 | P78: บ้านพักอาศัยตึกชั้นเดียว | Q78: -ผลิต,จำหน่าย เฟอร์นิเจอร์ | R78: 3 | S78: 15 | T78: 6 | U78: 6 | V78: 10 | W78: =S78*T78*U78*V78 -> 5400 | X78: =W78*12.5% -> 675 | Z78: 052/2 | AA78: 064/2 | AB78: 42230 | AC78: ชำระแล้ว
A79: 064 | B79: 8 | C79: 08H027 | D79: PO00001633 | E79: นาง | F79: ไลย์ | G79: ชิตวาห์ | H79: =E79&" "&F79&" "&G79 -> นาง ไลย์ ชิตวาห์ | I79: นาง ไลย์ ชิตวาห์ | J79: 177 | K79: ม. 8 | L79: ต. คันธุลี | M79: อ. ท่าชนะ | N79: จ. สุราษฎร์ธานี | O79: 84170 | P79: บ้านพักอาศัยตึกชั้นเดียว | Q79: -ร้านขายของชำ | R79: 1 | S79: 10 | T79: 3 | U79: 6 | V79: 12 | W79: =S79*T79*U79*V79 -> 2160 | X79: =W79*12.5% -> 270 | Z79: 080/1 | AA79: 077/1 | AB79: 42037 | AC79: ชำระแล้ว
A80: 167 | B80: 8 | C80: 08H035 | D80: PO00000630 | E80: นาย | F80: วิศิษฎ์ | G80: เมืองแมน | H80: =E80&" "&F80&" "&G80 -> นาย วิศิษฎ์ เมืองแมน | I80: นาย วิศิษฎ์ เมืองแมน | J80: 164/1 | K80: ม. 8 | L80: ต. คันธุลี | M80: อ. ท่าชนะ | N80: จ. สุราษฎร์ธานี | O80: 84170 | P80: โรงเรือนประเภทพิเศษ | Q80: -ฟาร์มปศุสัตว์ | R80: 3 | S80: 7 | T80: 10 | U80: 10 | V80: 12 | W80: =S80*T80*U80*V80 -> 8400 | X80: =W80*12.5% -> 1050 | Z80: 067/1 | AA80: 066/2 | AB80: 42237 | AC80: ชำระแล้ว
A81: 065 | B81: 8 | C81: 08K001 | D81: PO00002552 | E81: นางสาว | F81: ณัฐกุล | G81: แพชนะ | H81: =E81&" "&F81&" "&G81 -> นางสาว ณัฐกุล แพชนะ | I81: นางสาว ณัฐกุล แพชนะ | J81: 64/1 | K81: ม. 4 | L81: ต. คันธุลี | M81: อ. ท่าชนะ | N81: จ. สุราษฎร์ธานี | O81: 84170 | P81: บ้านพักอาศัยครี่งตึกครึ่งไม้สองชั้น | Q81: -ร้านขายของชำ | R81: 1 | S81: 10 | T81: 5 | U81: 7 | V81: 12 | W81: =S81*T81*U81*V81 -> 4200 | X81: =W81*12.5% -> 525 | Z81: 081/1 | AA81: 078/1 | AB81: 42037 | AC81: ชำระแล้ว
A82: 066 | B82: 8 | C82: 08B013 | D82: PO00004155 | E82: นาง | F82: นงเยาว์ | G82: นาคเปลี่ยว | H82: =E82&" "&F82&" "&G82 -> นาง นงเยาว์ นาคเปลี่ยว | I82: นาง นงเยาว์ นาคเปลี่ยว | J82: 38 | K82: ม. 8 | L82: ต. คันธุลี | M82: อ. ท่าชนะ | N82: จ. สุราษฎร์ธานี | O82: 84170 | P82: บ้านพักอาศัยตึกชั้นเดียว | Q82: -ร้านขายของชำ | R82: 1 | S82: 10 | T82: 2.5 | U82: 3.5 | V82: 12 | W82: =S82*T82*U82*V82 -> 1050 | X82: =W82*12.5% -> 131.25 | Z82: 097/1 | AA82: 094/1 | AB82: 42045 | AC82: ชำระแล้ว
A83: 067 | B83: 8 | C83: 08G054 | D83: PO00003361 | E83: นาง | F83: สมร | G83: เหยียบสูญ | H83: =E83&" "&F83&" "&G83 -> นาง สมร เหยียบสูญ | I83: นาง สมร เหยียบสูญ | J83: 138 | K83: ม. 3 | L83: ต. คันธุลี | M83: อ. ท่าชนะ | N83: จ. สุราษฎร์ธานี | O83: 84170 | P83: โรงเรือนประเภทพิเศษ | Q83: -ห้องพักด้านหลัง | R83: 1 | S83: 22 | T83: 5 | U83: 7 | V83: 12 | W83: =S83*T83*U83*V83 -> 9240 | X83: =W83*12.5% -> 1155 | Z83: 041/2 | AA83: 036/2 | AB83: 42065 | AC83: ชำระแล้ว
A84: 067 | B84: 8 | C84: 08G055 | D84: PO00003361 | E84: นาง | F84: สมร | G84: เหยียบสูญ | H84: =E84&" "&F84&" "&G84 -> นาง สมร เหยียบสูญ | I84: นาง สมร เหยียบสูญ | J84: 138 | K84: ม. 3 | L84: ต. คันธุลี | M84: อ. ท่าชนะ | N84: จ. สุราษฎร์ธานี | O84: 84170 | P84: โรงเรือนประเภทพิเศษ | Q84: -ห้องพัก 2 (ด้านหน้า) | R84: 1 | S84: 22 | T84: 3 | U84: 4 | V84: 12 | W84: =S84*T84*U84*V84 -> 3168 | X84: =W84*12.5% -> 396 | Z84: 041/2 | AA84: 036/2 | AB84: 42065 | AC84: ชำระแล้ว
A85: 067 | B85: 8 | C85: 08G056 | D85: PO00003361 | E85: นาง | F85: สมร | G85: เหยียบสูญ | H85: =E85&" "&F85&" "&G85 -> นาง สมร เหยียบสูญ | I85: นาง สมร เหยียบสูญ | J85: 138 | K85: ม. 3 | L85: ต. คันธุลี | M85: อ. ท่าชนะ | N85: จ. สุราษฎร์ธานี | O85: 84170 | P85: โรงเรือนประเภทพิเศษ | Q85: -ห้องพัก 1 (ด้านหน้า) | R85: 1 | S85: 22 | T85: 3 | U85: 4 | V85: 12 | W85: =S85*T85*U85*V85 -> 3168 | X85: =W85*12.5% -> 396 | Z85: 041/2 | AA85: 036/2 | AB85: 42065 | AC85: ชำระแล้ว
A86: 068 | B86: 8 | C86: 08B041 | D86: PO00003157 | E86: นาง | F86: จิตรา | G86: ศักดิ์แก้ว | H86: =E86&" "&F86&" "&G86 -> นาง จิตรา ศักดิ์แก้ว | I86: นาง จิตรา ศักดิ์แก้ว | J86: 237/1 | K86: ม. 8 | L86: ต. คันธุลี | M86: อ. ท่าชนะ | N86: จ. สุราษฎร์ธานี | O86: 84170 | P86: บ้านพักอาศัยตึกชั้นเดียว | Q86: -ร้านขายของชำ | R86: 1 | S86: 10 | T86: 4 | U86: 5 | V86: 12 | W86: =S86*T86*U86*V86 -> 2400 | X86: =W86*12.5% -> 300 | Z86: 034/2 | AA86: 032/2 | AB86: 42061 | AC86: ชำระแล้ว
A87: 068 | B87: 8 | C87: 08B042 | D87: PO00003157 | E87: นาง | F87: จิตรา | G87: ศักดิ์แก้ว | H87: =E87&" "&F87&" "&G87 -> นาง จิตรา ศักดิ์แก้ว | I87: นาง จิตรา ศักดิ์แก้ว | J87: 237/1 | K87: ม. 8 | L87: ต. คันธุลี | M87: อ. ท่าชนะ | N87: จ. สุราษฎร์ธานี | O87: 84170 | P87: โรงเรือนประเภทพิเศษ | Q87: -บ้านเช่า 1 | R87: 1 | S87: 2000 | T87: 1 | U87: 1 | V87: 12 | W87: =S87*T87*U87*V87 -> 24000 | X87: =W87*12.5% -> 3000 | Z87: 034/2 | AA87: 032/2 | AB87: 42061 | AC87: ชำระแล้ว
A88: 068 | B88: 8 | C88: 08B043 | D88: PO00003157 | E88: นาง | F88: จิตรา | G88: ศักดิ์แก้ว | H88: =E88&" "&F88&" "&G88 -> นาง จิตรา ศักดิ์แก้ว | I88: นาง จิตรา ศักดิ์แก้ว | J88: 237/1 | K88: ม. 8 | L88: ต. คันธุลี | M88: อ. ท่าชนะ | N88: จ. สุราษฎร์ธานี | O88: 84170 | P88: โรงเรือนประเภทพิเศษ | Q88: -บ้านเช่า 2 | R88: 1 | S88: 2000 | T88: 1 | U88: 1 | V88: 0 | W88: =S88*T88*U88*V88 -> 0 | X88: =W88*12.5% -> 0 | Z88: 034/2 | AA88: 032/2 | AB88: 42061 | AC88: ชำระแล้ว
A89: 068 | B89: 8 | C89: 08B044 | D89: PO00003157 | E89: นาง | F89: จิตรา | G89: ศักดิ์แก้ว | H89: =E89&" "&F89&" "&G89 -> นาง จิตรา ศักดิ์แก้ว | I89: นาง จิตรา ศักดิ์แก้ว | J89: 237/1 | K89: ม. 8 | L89: ต. คันธุลี | M89: อ. ท่าชนะ | N89: จ. สุราษฎร์ธานี | O89: 84170 | P89: โรงเรือนประเภทพิเศษ | Q89: -บ้านเช่า 3 | R89: 1 | S89: 2000 | T89: 1 | U89: 1 | V89: 0 | W89: =S89*T89*U89*V89 -> 0 | X89: =W89*12.5% -> 0 | Z89: 034/2 | AA89: 032/2 | AB89: 42061 | AC89: ชำระแล้ว
A90: 068 | B90: 8 | C90: 08B045 | D90: PO00003157 | E90: นาง | F90: จิตรา | G90: ศักดิ์แก้ว | H90: =E90&" "&F90&" "&G90 -> นาง จิตรา ศักดิ์แก้ว | I90: นาง จิตรา ศักดิ์แก้ว | J90: 237/1 | K90: ม. 8 | L90: ต. คันธุลี | M90: อ. ท่าชนะ | N90: จ. สุราษฎร์ธานี | O90: 84170 | P90: โรงเรือนประเภทพิเศษ | Q90: -บ้านเช่า 4 | R90: 1 | S90: 1800 | T90: 1 | U90: 1 | V90: 0 | W90: =S90*T90*U90*V90 -> 0 | X90: =W90*12.5% -> 0 | Z90: 034/2 | AA90: 032/2 | AB90: 42061 | AC90: ชำระแล้ว
A91: 068 | B91: 8 | C91: 08B046 | D91: PO00003157 | E91: นาง | F91: จิตรา | G91: ศักดิ์แก้ว | H91: =E91&" "&F91&" "&G91 -> นาง จิตรา ศักดิ์แก้ว | I91: นาง จิตรา ศักดิ์แก้ว | J91: 237/1 | K91: ม. 8 | L91: ต. คันธุลี | M91: อ. ท่าชนะ | N91: จ. สุราษฎร์ธานี | O91: 84170 | P91: โรงเรือนประเภทพิเศษ | Q91: -บ้านเช่า 5 | R91: 1 | S91: 1800 | T91: 1 | U91: 1 | V91: 0 | W91: =S91*T91*U91*V91 -> 0 | X91: =W91*12.5% -> 0 | Z91: 034/2 | AA91: 032/2 | AB91: 42061 | AC91: ชำระแล้ว
A92: 068 | B92: 8 | C92: 08B047 | D92: PO00003157 | E92: นาง | F92: จิตรา | G92: ศักดิ์แก้ว | H92: =E92&" "&F92&" "&G92 -> นาง จิตรา ศักดิ์แก้ว | I92: นาง จิตรา ศักดิ์แก้ว | J92: 237/1 | K92: ม. 8 | L92: ต. คันธุลี | M92: อ. ท่าชนะ | N92: จ. สุราษฎร์ธานี | O92: 84170 | P92: โรงเรือนประเภทพิเศษ | Q92: -บ้านเช่า 6 | R92: 1 | S92: 1800 | T92: 1 | U92: 1 | V92: 0 | W92: =S92*T92*U92*V92 -> 0 | X92: =W92*12.5% -> 0 | Z92: 034/2 | AA92: 032/2 | AB92: 42061 | AC92: ชำระแล้ว
A93: 068 | B93: 8 | C93: 08B048 | D93: PO00003157 | E93: นาง | F93: จิตรา | G93: ศักดิ์แก้ว | H93: =E93&" "&F93&" "&G93 -> นาง จิตรา ศักดิ์แก้ว | I93: นาง จิตรา ศักดิ์แก้ว | J93: 237/1 | K93: ม. 8 | L93: ต. คันธุลี | M93: อ. ท่าชนะ | N93: จ. สุราษฎร์ธานี | O93: 84170 | P93: โรงเรือนประเภทพิเศษ | Q93: -บ้านเช่า 7 | R93: 1 | S93: 1800 | T93: 1 | U93: 1 | V93: 0 | W93: =S93*T93*U93*V93 -> 0 | X93: =W93*12.5% -> 0 | Z93: 034/2 | AA93: 032/2 | AB93: 42061 | AC93: ชำระแล้ว
A94: 068 | B94: 8 | C94: 08B049 | D94: PO00003157 | E94: นาง | F94: จิตรา | G94: ศักดิ์แก้ว | H94: =E94&" "&F94&" "&G94 -> นาง จิตรา ศักดิ์แก้ว | I94: นาง จิตรา ศักดิ์แก้ว | J94: 237/1 | K94: ม. 8 | L94: ต. คันธุลี | M94: อ. ท่าชนะ | N94: จ. สุราษฎร์ธานี | O94: 84170 | P94: โรงเรือนประเภทพิเศษ | Q94: -บ้านเช่า 8 | R94: 1 | S94: 1800 | T94: 1 | U94: 1 | V94: 0 | W94: =S94*T94*U94*V94 -> 0 | X94: =W94*12.5% -> 0 | Z94: 034/2 | AA94: 032/2 | AB94: 42061 | AC94: ชำระแล้ว
A95: 068 | B95: 9 | C95: 05Q055 | D95: PO00003157 | E95: นาง | F95: จิตรา | G95: ศักดิ์แก้ว | H95: =E95&" "&F95&" "&G95 -> นาง จิตรา ศักดิ์แก้ว | I95: นาง จิตรา ศักดิ์แก้ว | J95: 237/1 | K95: ม. 8 | L95: ต. คันธุลี | M95: อ. ท่าชนะ | N95: จ. สุราษฎร์ธานี | O95: 84170 | P95: บ้านพักอาศัยตึกชั้นเดียว | Q95: -บ้านเช่า 1 | R95: 1 | S95: 1500 | T95: 1 | U95: 1 | V95: 12 | W95: =S95*T95*U95*V95 -> 18000 | X95: =W95*12.5% -> 2250 | Z95: 034/2 | AA95: 032/2 | AB95: 42061 | AC95: ชำระแล้ว
A96: 068 | B96: 9 | C96: 05Q092 | D96: PO00003157 | E96: นาง | F96: จิตรา | G96: ศักดิ์แก้ว | H96: =E96&" "&F96&" "&G96 -> นาง จิตรา ศักดิ์แก้ว | I96: นาง จิตรา ศักดิ์แก้ว | J96: 237/1 | K96: ม. 8 | L96: ต. คันธุลี | M96: อ. ท่าชนะ | N96: จ. สุราษฎร์ธานี | O96: 84170 | P96: บ้านพักอาศัยตึกชั้นเดียว | Q96: -บ้านเช่า 2 | R96: 1 | S96: 1500 | T96: 1 | U96: 1 | V96: 12 | W96: =S96*T96*U96*V96 -> 18000 | X96: =W96*12.5% -> 2250 | Z96: 034/2 | AA96: 032/2 | AB96: 42061 | AC96: ชำระแล้ว
A97: 069 | B97: 8 | C97: 08B056 | D97: PO00000585 | E97: นาย | F97: ประเสริฐ | G97: แสงสุวรรณ | H97: =E97&" "&F97&" "&G97 -> นาย ประเสริฐ แสงสุวรรณ | I97: นาย ประเสริฐ แสงสุวรรณ | J97: 237 | K97: ม. 8 | L97: ต. คันธุลี | M97: อ. ท่าชนะ | N97: จ. สุราษฎร์ธานี | O97: 84170 | P97: โรงเรือนประเภทพิเศษ | Q97: -ปั๊มน้ำมัน | R97: 1 | S97: 20 | T97: 5 | U97: 5.5 | V97: 12 | W97: =S97*T97*U97*V97 -> 6600 | X97: =W97*12.5% -> 825 | AC97: ค้างชำระ
A98: 069 | B98: 8 | C98: 08B054 | D98: PO00000585 | E98: นาย | F98: ประเสริฐ | G98: แสงสุวรรณ | H98: =E98&" "&F98&" "&G98 -> นาย ประเสริฐ แสงสุวรรณ | I98: นาย ประเสริฐ แสงสุวรรณ | J98: 237 | K98: ม. 8 | L98: ต. คันธุลี | M98: อ. ท่าชนะ | N98: จ. สุราษฎร์ธานี | O98: 84170 | P98: บ้านพักอาศัยตึกชั้นเดียว | Q98: -ร้านขายของชำ | R98: 1 | S98: 10 | T98: 2 | U98: 2 | V98: 12 | W98: =S98*T98*U98*V98 -> 480 | X98: =W98*12.5% -> 60 | AC98: ค้างชำระ
A99: 070 | B99: 8 | C99: 08B065 | D99: PO00004647 | E99: นาย | F99: สุขสันต์ | G99: เมืองแก้ว | H99: =E99&" "&F99&" "&G99 -> นาย สุขสันต์ เมืองแก้ว | I99: นาย สุขสันต์ เมืองแก้ว | J99: 240/1 | K99: ม. 8 | L99: ต. คันธุลี | M99: อ. ท่าชนะ | N99: จ. สุราษฎร์ธานี | O99: 84170 | P99: บ้านพักอาศัยตึกชั้นเดียว | Q99: -ผลิต,จำหน่าย วัตถุมงคล | R99: 1 | S99: 10 | T99: 3 | U99: 3 | V99: 12 | W99: =S99*T99*U99*V99 -> 1080 | X99: =W99*12.5% -> 135 | Z99: 006/2 | AA99: 005/2 | AB99: 42054 | AC99: ชำระแล้ว
A100: 071 | B100: 8 | C100: 08H023 | D100: PO00000055 | E100: นาง | F100: เพ็ญศรี | G100: เพชรวงศ์ | H100: =E100&" "&F100&" "&G100 -> นาง เพ็ญศรี เพชรวงศ์ | I100: นาง เพ็ญศรี เพชรวงศ์ | J100: 235 | K100: ม. 8 | L100: ต. คันธุลี | M100: อ. ท่าชนะ | N100: จ. สุราษฎร์ธานี | O100: 84170 | P100: สิ่งปลูกสร้างอื่น ๆ | Q100: -ลานคอนกรีต รับซื้อไม้ยางพารา | R100: 1 | S100: 5 | T100: 9 | U100: 7 | V100: 12 | W100: =S100*T100*U100*V100 -> 3780 | X100: =W100*12.5% -> 472.5 | Z100: 096/1 | AA100: 093/1 | AB100: 42045 | AC100: ชำระแล้ว
...

Sheet สรุปโรงเรือน
A1: รหัส | B1: ผลรวม | C1: ชื่อ | D1: บัตร | E1: ไม่มีใน กค1
A2: CO00000001 | B2: 137725.99 | C2: บจก. ท่าชนะน้ำมันปาล์ม - | D2: 0 | E2: #N/A
A3: CO00000006 | B3: 8662.5 | C3: บจก. ทรูมูฟ - | D3: 0 | E3: #N/A
A4: CO00000007 | B4: 300 | C4: บมจ. ทีโอที สาขาไชยา - | D4: 0 | E4: #N/A
A5: CO00000008 | B5: 8812.4963 | C5: บมจ. แอดวานซ์ อินโฟร์ เซอร์วิส - | D5: 0 | E5: #N/A
A6: CO00000010 | B6: 7560 | C6: บมจ. ไทยฮั้วยางพารา - | D6: 0 | E6: #N/A
A7: CO00000011 | B7: 6806.25 | C7: บมจ. โทเทิ่ล แอ็คเซ็ส คอมมูนิเคชั่น - | D7: 0 | E7: #N/A
A8: CO00000012 | B8: 15104.17 | C8: บจก. แฟกซ์ไลท์ - | D8: 0 | E8: #N/A
A9: CO00000013 | B9: 14749.995 | C9: บจก. บีเอฟเคที(ประเทศไทย) - | D9: 0 | E9: #N/A
A10: CO00000015 | B10: 183632.5 | C10: บจก. จิยางกูรปิโตรเลียม - | D10: 0 | E10: #N/A
A11: CO00000017 | B11: 2700 | C11: บจก. สมอทองน้ำมันปาล์ม - | D11: 0 | E11: #N/A
A12: PO00000055 | B12: 472.5 | C12: นาง เพ็ญศรี เพชรวงศ์ | D12: 3840700135496 | E12: 472.5
A13: PO00000061 | B13: 675 | C13: นาย สมบูรณ์ จันทโสม | D13: 3341600875302 | E13: #N/A
A14: PO00000090 | B14: 240 | C14: นางสาว พิไลพร พุ่มน้อย | D14: 3840700141224 | E14: 240
A15: PO00000105 | B15: 2160 | C15: นาย สุรัฐ คุ้มบุญ | D15: 3840500034262 | E15: 2160
A16: PO00000124 | B16: 2610 | C16: นาย ปิยะ ก้อนคำ | D16: 3840700132586 | E16: #N/A
A17: PO00000156 | B17: 1440 | C17: นาย เกษม พลายจันทร์ | D17: 3840700094498 | E17: 1440
A18: PO00000187 | B18: 960 | C18: นางสาว จงกล ชุมพรัตน์ | D18: 3860500131659 | E18: 960
A19: PO00000231 | B19: 225 | C19: นาง วาจา จันทร์นวล | D19: 3840700097411 | E19: #N/A
A20: PO00000319 | B20: 108 | C20: นาง สมโพชย์ หนูเหมือน | D20: 3840700113492 | E20: 108
A21: PO00000362 | B21: 606 | C21: นาง วรรณภา คงนาหมู่ | D21: 3840700131440 | E21: 606
A22: PO00000385 | B22: 562.5 | C22: นาง บุญรับ แซ่คู่ | D22: 0 | E22: #N/A
A23: PO00000573 | B23: 5512.5 | C23: นาง รุ่งนภา ทองยวน | D23: 3840700133671 | E23: #N/A
A24: PO00000585 | B24: 885 | C24: นาย ประเสริฐ แสงสุวรรณ | D24: 3840700134040 | E24: #N/A
A25: PO00000630 | B25: 1050 | C25: นาย วิศิษฎ์ เมืองแมน | D25: 0 | E25: 1050
A26: PO00000646 | B26: 144 | C26: นางสาว โสภะณา กองคลัง | D26: 3840700139556 | E26: #N/A
A27: PO00000759 | B27: 2187 | C27: นาย วีระศักดิ์ สองแก้ว | D27: 0 | E27: #N/A
A28: PO00000893 | B28: 246 | C28: นาง อุ่นใจ ฮงหลี | D28: 3401900006468 | E28: #N/A
A29: PO00000903 | B29: 408 | C29: นาง รัชนี กัณหวงศ์ | D29: 3840700126764 | E29: 408
A30: PO00000927 | B30: 6300 | C30: นาย คำแหง แดงกนิษฐ์ | D30: 3840700147834 | E30: 6300
A31: PO00000930 | B31: 288 | C31: นาง ประนอม มณีบางกา | D31: 3840700182010 | E31: 288
A32: PO00001039 | B32: 2700 | C32: นาย จรวย ขุนณรงค์ | D32: 3840700150100 | E32: 2700
A33: PO00001061 | B33: 2340 | C33: นาย นพพร ถาวรเศรษฐ | D33: 3100601504511 | E33: 2340
A34: PO00001081 | B34: 108 | C34: นาง ราตรี ทิพย์สิน | D34: 3840700104787 | E34: 108
A35: PO00001102 | B35: 240 | C35: นางสาว ลัคนา แก้วลาย | D35: 3840700103250 | E35: 240
A36: PO00001124 | B36: 300 | C36: นาง จรูญ ขำสวัสดิ์ | D36: 5840790004058 | E36: #N/A
A37: PO00001163 | B37: 121.5 | C37: นาย พเยาว์ จันทร์ประดิษฐ | D37: 3840700127337 | E37: 121.5
A38: PO00001217 | B38: 81 | C38: นาง เชื้อ ทิมดี | D38: 3840700127272 | E38: 81
A39: PO00001271 | B39: 4092 | C39: นาง อุระ เกิดรอด | D39: 3800400111991 | E39: 4092
A40: PO00001272 | B40: 630 | C40: นาง ดวงเดือน ทองรักขาว | D40: 3860400026799 | E40: #N/A
A41: PO00001300 | B41: 1125 | C41: นาง เกษร โรยสกุล | D41: 3840700145751 | E41: 1125
A42: PO00001315 | B42: 276 | C42: นาง อุบล ศรีระบาย | D42: 3840700144738 | E42: 276
A43: PO00001333 | B43: 5875 | C43: นาย สมเจตน์ เจริญประกอบ | D43: 3860500159278 | E43: 5875
A44: PO00001344 | B44: 240 | C44: นาง บุญชู หงษ์ทอง | D44: 3840700148598 | E44: 240
A45: PO00001399 | B45: 138 | C45: นาง สมบุญ เตกฉัตร | D45: 3840700119024 | E45: 138
A46: PO00001427 | B46: 2430 | C46: นางสาว อุไร เพ็งสระเกษ | D46: 5301300019768 | E46: #N/A
A47: PO00001451 | B47: 3750 | C47: นาง ยุพิน จิตนรงค์ | D47: 3840700124010 | E47: 3750
A48: PO00001471 | B48: 1500 | C48: นาง ละม่อม ติ้นระนอง | D48: 3840500148462 | E48: 1500
A49: PO00001520 | B49: 1950 | C49: นาง สุจินดา ซ่อนกลิ่น | D49: 3840700141852 | E49: 1950
A50: PO00001528 | B50: 21300 | C50: นาง อ่อนศรี ดวงสุวรรณ | D50: 5860400005941 | E50: 21300
A51: PO00001584 | B51: 30015 | C51: นาย วัฒนา สำลี | D51: 0 | E51: #N/A
A52: PO00001599 | B52: 288 | C52: นางสาว พรรณทิพา เพชรแท้ | D52: 3841200005527 | E52: #N/A
A53: PO00001607 | B53: 864 | C53: นาง อัจฉราภรณ์ วีระศิลป์ | D53: 0 | E53: #N/A
A54: PO00001615 | B54: 1985 | C54: นาย อนันต์ คงกลิ่น | D54: 0 | E54: #N/A
A55: PO00001633 | B55: 270 | C55: นาง ไลย์ ชิตวาห์ | D55: 0 | E55: #N/A
A56: PO00001636 | B56: 1920 | C56: นาย อัสนัย หวังเกษม | D56: 0 | E56: #N/A
A57: PO00001643 | B57: 5040 | C57: นางสาว อรพรรณ จันทร์วิไล | D57: 3840700120961 | E57: 5040
A58: PO00001647 | B58: 135 | C58: นาง ยุพเยาว์ เหยียบสูญ | D58: 0 | E58: #N/A
A59: PO00001649 | B59: 360 | C59: นางสาว วรภรณ์ แสงศรี | D59: 0 | E59: #N/A
A60: PO00001650 | B60: 525 | C60: นาย สุเทพ ไกรราญ | D60: 0 | E60: #N/A
A61: PO00001656 | B61: 1260 | C61: นางสาว สุภานัน พิเศษศุภอรรถ | D61: 0 | E61: 1260
A62: PO00001657 | B62: 720 | C62: นาง อุทัยวรรณ ช่วยตน | D62: 0 | E62: #N/A
A63: PO00001659 | B63: 180 | C63: นาง เสาวรีย์ พิเศษศุภอรรถ | D63: 0 | E63: #N/A
A64: PO00001661 | B64: 600 | C64: นาง ศักรินทร์ สุขเจริญ | D64: 0 | E64: #N/A
A65: PO00001664 | B65: 1350 | C65: นาย มานพ ตั้งรุ่งเจริญ | D65: 0 | E65: 1350
A66: PO00001666 | B66: 840 | C66: นาง ผกามาศ รักษ์ประสงค์ | D66: 0 | E66: #N/A
A67: PO00001671 | B67: 375 | C67: นาย พันธุ์วริช มั่นกิจ | D67: 0 | E67: #N/A
A68: PO00001673 | B68: 240 | C68: นาย สมศักดิ์ บัวเอี่ยม | D68: 0 | E68: #N/A
A69: PO00001681 | B69: 4500 | C69: นาง อารมย์ จันทร์วิไล | D69: 0 | E69: #N/A
A70: PO00001700 | B70: 135 | C70: นาย มานพ หนูทอง | D70: 0 | E70: #N/A
A71: PO00001831 | B71: 141.75 | C71: นาง อุไรวรรณ จันทร์ต้อย | D71: 0 | E71: #N/A
A72: PO00001872 | B72: 144 | C72: นางสาว วิภารัตน์ ผึ้งดอกไม้ | D72: 3840700110931 | E72: #N/A
A73: PO00001947 | B73: 8287.5 | C73: นาย สุกมล พิเศษศุภอรรถ | D73: 0 | E73: #N/A
A74: PO00001952 | B74: 240 | C74: นาย ประเสริฐ หนูบุญ | D74: 3840700113476 | E74: 240
A75: PO00001970 | B75: 216 | C75: นาย นิพนธ์ อำภัย | D75: 3840700107727 | E75: #N/A
A76: PO00001981 | B76: 2250 | C76: นาง ปราณี บุญมรกต | D76: 0 | E76: 2250
A77: PO00002009 | B77: 72 | C77: นาย วิโรจน์ มีสวัสดิ์ | D77: 3840700115304 | E77: #N/A
A78: PO00002043 | B78: 81 | C78: นางสาว จินตนา พรหมศักดิ์ | D78: 3840700108596 | E78: 81
A79: PO00002149 | B79: 2100 | C79: นางสาว สุภาวดี หมื่นสวัสดิ์ | D79: 3840700111139 | E79: #N/A
A80: PO00002177 | B80: 144 | C80: นาง สัจจะ สองเมืองสุข | D80: 0 | E80: 144
A81: PO00002288 | B81: 81 | C81: นาย พัน สองเมืองสุข | D81: 0 | E81: #N/A
A82: PO00002457 | B82: 120 | C82: นาย วิโรจน์ ชูโชติ | D82: 3840700001171 | E82: 120
A83: PO00002552 | B83: 525 | C83: นางสาว ณัฐกุล แพชนะ | D83: 3840100112479 | E83: 525
A84: PO00002560 | B84: 189 | C84: นาย สมชาย ทองดี | D84: 3860200313433 | E84: 189
A85: PO00002578 | B85: 2625 | C85: นาง พร แพชนะ | D85: 3840700123994 | E85: 2625
A86: PO00002698 | B86: 288 | C86: นาง ติ๋ว วัตติสุ | D86: 3860500147512 | E86: 288
A87: PO00002798 | B87: 252 | C87: นาง สุดใจ เจนอักขรกุล | D87: 3801000152101 | E87: 252
A88: PO00002866 | B88: 156 | C88: นาย สมพร บุญทอง | D88: 3869900127541 | E88: 156
A89: PO00002875 | B89: 120 | C89: นาย ณรงค์ศักดิ์ ปานฤกษ์ | D89: 3860400074891 | E89: 120
A90: PO00002902 | B90: 175.5 | C90: นาย สมพงค์ ชมชาตรี | D90: 5840790005721 | E90: 175.5
A91: PO00003042 | B91: 125.58 | C91: นาย สายัณห์ ศรีรื่น | D91: 0 | E91: #N/A
A92: PO00003065 | B92: 384 | C92: นาย เกรียงศักดิ์ ศิริรัตน์ | D92: 0 | E92: 384
A93: PO00003069 | B93: 990 | C93: นาย สุทัย ภู่ศิลป์ | D93: 0 | E93: #N/A
A94: PO00003088 | B94: 321.6 | C94: นาง จินตนา แสงศรี | D94: 0 | E94: #N/A
A95: PO00003100 | B95: 720 | C95: นาย กฤษณะ ปลอดขันเงิน | D95: 0 | E95: #N/A
A96: PO00003157 | B96: 7800 | C96: นาง จิตรา ศักดิ์แก้ว | D96: 0 | E96: 7800
A97: PO00003201 | B97: 84 | C97: นาง นาตยา ใหม่ซ้อน | D97: 3840700070718 | E97: #N/A
A98: PO00003217 | B98: 180 | C98: นางสาว พวงทิพย์ พุ่มขจร | D98: 3840700116084 | E98: #N/A
A99: PO00003361 | B99: 1947 | C99: นาง สมร เหยียบสูญ | D99: 3840700123170 | E99: 1947
A100: PO00003408 | B100: 888 | C100: นาย อโนภาศ พรหมมณี | D100: 3860500155027 | E100: 888
...

Sheet รายละเอียดป้าย
A1: ภ.ป.1 เลข/เล่ม | B1: หมู่ ป้าย | C1: รหัส ป้าย | D1: รหัสชื่อ | E1: คำนำ | F1: ชื่อ | G1: สกุล | H1: ชื่อ - สกุล | I1: บ้าน เลขที่ | J1: หมู่ที่ | K1: ตำบล | L1: อำเภอ | M1: จังหวัด | N1: รหัสไปรษณีย์ | O1: ประ เภท | P1: รา คา | Q1: กว้าง | R1: ยาว | S1: เนื้อที่ | T1: คำนวน ภาษี | U1: จำนวน ป้าย | V1: ประ เมินภาษี | W1: ภ.ป.2 เลข/เล่ม | X1: ภ.ป.3 สฎ76502/ | Y1: ภ.ป.7 | Z1: วันที่ | AA1: หมายเหตุ | AB1: ชำระเงิน
A2: 001 | B2: 2 | C2: 06A003 | D2: PO00003069 | E2: นาย | F2: สุทัย | G2: ภู่ศิลป์ | H2: =E2&" "&F2&" "&G2 -> นาย สุทัย ภู่ศิลป์ | I2: 164 | J2: ม. 1 | K2: ต. คันธุลี | L2: อ. ท่าชนะ | M2: จ. สุราษฎร์ธานี | N2: 84170 | O2: 2 | P2: 20 | Q2: 150 | R2: 150 | S2: =Q2*R2 -> 22500 | T2: =S2/500*P2 -> 900 | U2: 1 | V2: 900 | X2: /ว 067 | Y2: 048/1 | Z2: 42146 | AB2: ชำระแล้ว
A3: 002 | B3: 2 | C3: 13B001 | D3: PO00001271 | E3: นาง | F3: อุระ | G3: เกิดรอด | H3: =E3&" "&F3&" "&G3 -> นาง อุระ เกิดรอด | I3: 84/2 | J3: ม. 2 | K3: ต. คันธุลี | L3: อ. ท่าชนะ | M3: จ. สุราษฎร์ธานี | N3: 84170 | O3: 1 | P3: 3 | Q3: 100 | R3: 200 | S3: =Q3*R3 -> 20000 | T3: =S3/500*P3 -> 120 | U3: 1 | V3: 200 | X3: /ว 067 | Y3: 034/1 | Z3: 42079 | AB3: ชำระแล้ว
A4: 003 | B4: 3 | C4: 09H001 | D4: CO00000017 | E4: บจก. | F4: สมอทองน้ำมันปาล์ม | G4: - | H4: บจก. สมอทองน้ำมันปาล์ม | I4: 119 | J4: ม. 10 | K4: ต. ประสงค์ | L4: อ. ท่าชนะ | M4: จ. สุราษฎร์ธานี | N4: 84170 | O4: 1 | P4: 3 | Q4: 120 | R4: 240 | S4: =Q4*R4 -> 28800 | T4: =S4/500*P4 -> 172.8 | U4: 1 | V4: 200 | X4: /ว 067 | Y4: 006/1 | Z4: 42046 | AB4: ชำระแล้ว
A5: 004 | B5: 4 | C5: 10A001 | D5: PO00001584 | E5: นาย | F5: วัฒนา | G5: สำลี | H5: =E5&" "&F5&" "&G5 -> นาย วัฒนา สำลี | I5: 34 | J5: ม. 4 | K5: ต. คันธุลี | L5: อ. ท่าชนะ | M5: จ. สุราษฎร์ธานี | N5: 84170 | O5: 3 | P5: 3 | Q5: 180 | R5: 357 | S5: =Q5*R5 -> 64260 | T5: =S5/500*P5 -> 385.56 | U5: 1 | V5: 386 | W5: 004/1 | X5: /ว 067 | Z5: 42198 | AB5: ชำระแล้ว
A6: 005 | B6: 5 | C6: 03G002 | D6: CO00000010 | E6: บมจ. | F6: ไทยฮั้วยางพารา | G6: - | H6: =E6&" "&F6&" "&G6 -> บมจ. ไทยฮั้วยางพารา - | I6: 130 ถ.เพชรเกษม | J6: ม. 1 | K6: ต. ฉลุง | L6: อ. หาดใหญ่ | M6: จ. สงขลา | N6: 90110 | O6: 3 | P6: 40 | Q6: 100 | R6: 240 | S6: =Q6*R6 -> 24000 | T6: =S6/500*P6 -> 1920 | U6: 1 | V6: 1920 | X6: /ว 067 | Y6: 001/1 | Z6: 42025 | AB6: ชำระแล้ว
A7: 006 | B7: 5 | C7: 03D002 | D7: PO00004690 | E7: นางสาว | F7: สุจินต์ | G7: จันกลาง | H7: =E7&" "&F7&" "&G7 -> นางสาว สุจินต์ จันกลาง | I7: 62 | J7: ม. 8 | K7: ต. หนองหว้า | L7: อ. เขาฉกรรจ์ | M7: จ. สระแก้ว | O7: 1 | P7: 3 | Q7: 120 | R7: 240 | S7: =Q7*R7 -> 28800 | T7: =S7/500*P7 -> 172.8 | U7: 1 | V7: 200 | X7: /ว 067 | Y7: 037/1 | Z7: 42082 | AB7: ชำระแล้ว
A8: 007 | B8: 5 | C8: 03I001 | D8: PO00004144 | E8: นาย | F8: อนุมาศ | G8: บัวเอี่ยม | H8: =E8&" "&F8&" "&G8 -> นาย อนุมาศ บัวเอี่ยม | I8: 266 | J8: ม. 5 | K8: ต. คันธุลี | L8: อ. ท่าชนะ | M8: จ. สุราษฎร์ธานี | N8: 84170 | O8: 1 | P8: 3 | Q8: 120 | R8: 240 | S8: =Q8*R8 -> 28800 | T8: =S8/500*P8 -> 172.8 | U8: 1 | V8: 200 | W8: 007/1 | X8: /ว 067 | Y8: 008/1 | Z8: 42052 | AB8: ชำระแล้ว
A9: 008 | B9: 5 | C9: 03I002 | D9: PO00004756 | E9: นางสาว | F9: ขนิษฐา | G9: ศิลป์สอน | H9: =E9&" "&F9&" "&G9 -> นางสาว ขนิษฐา ศิลป์สอน | I9: 27 | J9: ม. 8 | K9: ต. ละแม | L9: อ. ละแม | M9: จ. ชุมพร | N9: 86170 | O9: 1 | P9: 3 | Q9: 120 | R9: 280 | S9: =Q9*R9 -> 33600 | T9: 202 | U9: 3 | V9: =T9*3 -> 606 | W9: 008/1 | X9: /ว 067 | Y9: 005/1 | Z9: 42038 | AB9: ชำระแล้ว
A10: 009 | B10: 5 | C10: 03J001 | D10: CO00000015 | E10: บจก. | F10: จิยางกูรปิโตรเลียม | G10: - | H10: =E10&" "&F10&" "&G10 -> บจก. จิยางกูรปิโตรเลียม - | I10: 18 | J10: ม. 5 | K10: ต. คันธุลี | L10: อ. ท่าชนะ | M10: จ. สุราษฎร์ธานี | N10: 84170 | O10: 2 | P10: 20 | Q10: 60 | R10: 300 | S10: =Q10*R10 -> 18000 | T10: =S10/500*P10 -> 720 | U10: 1 | V10: 720 | W10: 009/1 | X10: /ว 067 | Y10: 032/1 | Z10: 42076 | AB10: ชำระแล้ว
A11: 009 | B11: 5 | C11: 03J003 | D11: CO00000015 | E11: บจก. | F11: จิยางกูรปิโตรเลียม | G11: - | H11: =E11&" "&F11&" "&G11 -> บจก. จิยางกูรปิโตรเลียม - | I11: 18 | J11: ม. 5 | K11: ต. คันธุลี | L11: อ. ท่าชนะ | M11: จ. สุราษฎร์ธานี | N11: 84170 | O11: 2 | P11: 20 | Q11: 150 | R11: 250 | S11: =Q11*R11 -> 37500 | T11: =S11/500*P11 -> 1500 | U11: 1 | V11: =T11*U11 -> 1500 | W11: 009/1 | X11: /ว 067 | Y11: 032/1 | Z11: 42076 | AB11: ชำระแล้ว
A12: 009 | B12: 5 | C12: 03J004 | D12: CO00000015 | E12: บจก. | F12: จิยางกูรปิโตรเลียม | G12: - | H12: =E12&" "&F12&" "&G12 -> บจก. จิยางกูรปิโตรเลียม - | I12: 18 | J12: ม. 5 | K12: ต. คันธุลี | L12: อ. ท่าชนะ | M12: จ. สุราษฎร์ธานี | N12: 84170 | O12: 3 | P12: 40 | Q12: 50 | R12: 100 | S12: =Q12*R12 -> 5000 | T12: =S12/500*P12 -> 400 | U12: 6 | V12: =T12*U12 -> 2400 | W12: 009/1 | X12: /ว 067 | Y12: 032/1 | Z12: 42076 | AB12: ชำระแล้ว
A13: 010 | B13: 5 | C13: 03J007 | D13: PO00004757 | E13: นาย | F13: กิจจา | G13: ธราพร | H13: =E13&" "&F13&" "&G13 -> นาย กิจจา ธราพร | I13: 18 | J13: ม.5 | K13: ต. คันธุลี | L13: อ. ท่าชนะ | M13: จ. สุราษฎร์ธานี | N13: 84170 | O13: 2 | P13: 20 | Q13: 153 | R13: 235 | S13: =Q13*R13 -> 35955 | T13: =S13/500*P13 -> 1438.2 | U13: 1 | V13: =T13*U13 -> 1438.2 | W13: 010/1 | X13: /ว 067 | Y13: 047/1 | Z13: 42143 | AB13: ชำระแล้ว
A14: 010 | B14: 5 | C14: 03J008 | D14: PO00004757 | E14: นาย | F14: กิจจา | G14: ธราพร | H14: =E14&" "&F14&" "&G14 -> นาย กิจจา ธราพร | I14: 18 | J14: ม.5 | K14: ต. คันธุลี | L14: อ. ท่าชนะ | M14: จ. สุราษฎร์ธานี | N14: 84170 | O14: 2 | P14: 20 | Q14: 65 | R14: 100 | S14: =Q14*R14 -> 6500 | T14: =S14/500*P14 -> 260 | U14: 2 | V14: =T14*U14 -> 520 | W14: 010/1 | X14: /ว 067 | Y14: 047/1 | Z14: 42143 | AB14: ชำระแล้ว
A15: 011 | B15: 5 | C15: 03J009 | D15: CO00000016 | E15: บจก. | F15: สยามแฮนด์ส | G15: - | H15: =E15&" "&F15&" "&G15 -> บจก. สยามแฮนด์ส - | I15: 3,34/4 | J15: ม. 2 | K15: ต. หอมเกร็ด | L15: อ. สามพราน | M15: จ. นครปฐม | N15: 73110 | O15: 2 | P15: 20 | Q15: 80 | R15: 80 | S15: =Q15*R15 -> 6400 | T15: =S15/500*P15 -> 256 | U15: 1 | V15: =T15*U15 -> 256 | X15: /ว 067 | Y15: 032/2 | Z15: 42079 | AB15: ชำระแล้ว
A16: 011 | B16: 5 | C16: 03J010 | D16: CO00000016 | E16: บจก. | F16: สยามแฮนด์ส | G16: - | H16: =E16&" "&F16&" "&G16 -> บจก. สยามแฮนด์ส - | I16: 3,34/4 | J16: ม. 2 | K16: ต. หอมเกร็ด | L16: อ. สามพราน | M16: จ. นครปฐม | N16: 73110 | O16: 3 | P16: 40 | Q16: 50 | R16: 80 | S16: =Q16*R16 -> 4000 | T16: =S16/500*P16 -> 320 | U16: 2 | V16: =T16*U16 -> 640 | X16: /ว 067 | Y16: 032/2 | Z16: 42079 | AB16: ชำระแล้ว
A17: 012 | B17: 5 | C17: 03J005 | D17: PO00004133 | E17: นาง | F17: นิภาวรรณ | G17: เครือหงษ์ | H17: =E17&" "&F17&" "&G17 -> นาง นิภาวรรณ เครือหงษ์ | I17: 78/1 | J17: ม. 3 | K17: ต. คันธุลี | L17: อ. ท่าชนะ | M17: จ. สุราษฎร์ธานี | N17: 84170 | O17: 2 | P17: 20 | Q17: 80 | R17: 140 | S17: =Q17*R17 -> 11200 | T17: =S17/500*P17 -> 448 | U17: 1 | V17: =T17*U17 -> 448 | X17: /ว 067 | Y17: 029/1 | Z17: 42075 | AB17: ชำระแล้ว
A18: 051 | B18: 5 | C18: 03D007 | D18: PO00004761 | E18: นาย | F18: สุวินัย | G18: บัวเอี่ยม | H18: นาย สุวินัย บัวเอี่ยม | I18: 117/2 | J18: ม. 5 | K18: ต. คันธุลี | L18: อ. ท่าชนะ | M18: จ. สุราษฎร์ธานี | N18: 84170 | O18: 1 | P18: 3 | Q18: 120 | R18: 110 | S18: =Q18*R18 -> 13200 | T18: =S18/500*P18 -> 79.2 | U18: 1 | V18: 200 | X18: /ว 067 | Y18: 038/1 | Z18: 42082 | AB18: ชำระแล้ว
A19: 013 | B19: 5 | C19: 03D007 | D19: PO00001673 | E19: นาย | F19: สมศักดิ์ | G19: บัวเอี่ยม | H19: =E19&" "&F19&" "&G19 -> นาย สมศักดิ์ บัวเอี่ยม | I19: 117 | J19: ม. 5 | K19: ต. คันธุลี | L19: อ. ท่าชนะ | M19: จ. สุราษฎร์ธานี | N19: 84170 | O19: 2 | P19: 20 | Q19: 70 | R19: 120 | S19: =Q19*R19 -> 8400 | T19: =S19/500*P19 -> 336 | U19: 1 | V19: 336 | W19: 013/1 | X19: /ว 067 | Y19: 007/1 | Z19: 42052 | AB19: ชำระแล้ว
A20: 015 | B20: 5 | C20: 03F002 | D20: PO00000246 | E20: นาย | F20: วินิจ | G20: กล่อมตุ้น | H20: =E20&" "&F20&" "&G20 -> นาย วินิจ กล่อมตุ้น | I20: 3/2 | J20: ม. 5 | K20: ต. คันธุลี | L20: อ. ท่าชนะ | M20: จ. สุราษฎร์ธานี | N20: 84170 | O20: 1 | P20: 3 | Q20: 150 | R20: 200 | S20: =Q20*R20 -> 30000 | T20: =S20/500*P20 -> 180 | U20: 1 | V20: 200 | X20: /ว 067 | Y20: 028/1 | Z20: 42075 | AB20: ชำระแล้ว
A21: 016 | B21: 5 | C21: 03F001 | D21: PO00001684 | E21: นาย | F21: สมเดช | G21: วรลักษณ์ภักดี | H21: =E21&" "&F21&" "&G21 -> นาย สมเดช วรลักษณ์ภักดี | I21: 7 | J21: ม. 5 | K21: ต. คันธุลี | L21: อ. ท่าชนะ | M21: จ. สุราษฎร์ธานี | N21: 84170 | O21: 1 | P21: 3 | Q21: 100 | R21: 100 | S21: =Q21*R21 -> 10000 | T21: =S21/500*P21 -> 60 | U21: 1 | V21: 200 | X21: /ว 067 | Y21: 041/1 | Z21: 42089 | AB21: ชำระแล้ว
A22: 018 | B22: 6 | C22: 14C001 | D22: PO00000156 | E22: นาย | F22: เกษม | G22: พลายจันทร์ | H22: =E22&" "&F22&" "&G22 -> นาย เกษม พลายจันทร์ | I22: 118 | J22: ม. 1 | K22: ต. คันธุลี | L22: อ. ท่าชนะ | M22: จ. สุราษฎร์ธานี | N22: 84170 | O22: 1 | P22: 3 | Q22: 40 | R22: 380 | S22: =Q22*R22 -> 15200 | T22: =S22/500*P22 -> 91.2 | U22: 1 | V22: 200 | W22: 018/1 | X22: /ว 067 | Y22: 003/1 | Z22: 42032 | AB22: ชำระแล้ว
A23: 019 | B23: 8 | C23: 08B005 | D23: PO00000585 | E23: นาย | F23: ประเสริฐ | G23: แสงสุวรรณ | H23: =E23&" "&F23&" "&G23 -> นาย ประเสริฐ แสงสุวรรณ | I23: 237 | J23: ม. 8 | K23: ต. คันธุลี | L23: อ. ท่าชนะ | M23: จ. สุราษฎร์ธานี | N23: 84170 | O23: 1 | P23: 3 | Q23: 80 | R23: 100 | S23: =Q23*R23 -> 8000 | T23: =S23/500*P23 -> 48 | U23: 1 | V23: 200 | X23: /ว 067 | AB23: ค้างชำระ
A24: 020 | B24: 8 | C24: 08G005 | D24: PO00003361 | E24: นาง | F24: สมร | G24: เหยียบสูญ | H24: =E24&" "&F24&" "&G24 -> นาง สมร เหยียบสูญ | I24: 138 | J24: ม. 3 | K24: ต. คันธุลี | L24: อ. ท่าชนะ | M24: จ. สุราษฎร์ธานี | N24: 84170 | O24: 2 | P24: 20 | Q24: 120 | R24: 250 | S24: =Q24*R24 -> 30000 | T24: =S24/500*P24 -> 1200 | U24: 1 | V24: =T24*U24 -> 1200 | W24: 020/1 | X24: /ว 067 | Y24: 022/1 | Z24: 42065 | AB24: ชำระแล้ว
A25: 020 | B25: 8 | C25: 08G006 | D25: PO00003361 | E25: นาง | F25: สมร | G25: เหยียบสูญ | H25: =E25&" "&F25&" "&G25 -> นาง สมร เหยียบสูญ | I25: 138 | J25: ม. 3 | K25: ต. คันธุลี | L25: อ. ท่าชนะ | M25: จ. สุราษฎร์ธานี | N25: 84170 | O25: 2 | P25: 20 | Q25: 70 | R25: 100 | S25: =Q25*R25 -> 7000 | T25: =S25/500*P25 -> 280 | U25: 1 | V25: 280 | W25: 020/1 | X25: /ว 067 | Y25: 022/1 | Z25: 42065 | AB25: ชำระแล้ว
A26: 021 | B26: 9 | C26: 05Q020 | D26: PO00001650 | E26: นาย | F26: สุเทพ | G26: ไกรราญ | H26: =E26&" "&F26&" "&G26 -> นาย สุเทพ ไกรราญ | I26: 226 | J26: ม. 9 | K26: ต. คันธุลี | L26: อ. ท่าชนะ | M26: จ. สุราษฎร์ธานี | N26: 84170 | O26: 1 | P26: 3 | Q26: 120 | R26: 120 | S26: =Q26*R26 -> 14400 | T26: =S26/500*P26 -> 86.4 | U26: 1 | V26: 200 | X26: /ว 067 | Y26: 012/1 | Z26: 42059 | AB26: ชำระแล้ว
A27: 022 | B27: 9 | C27: 05Q027 | D27: PO00004454 | E27: นาย | F27: อรุณรัตน์ | G27: รุ่งโรจน์ | H27: =E27&" "&F27&" "&G27 -> นาย อรุณรัตน์ รุ่งโรจน์ | I27: 7/1 | J27: ม. 9 | K27: ต. คันธุลี | L27: อ. ท่าชนะ | M27: จ. สุราษฎร์ธานี | N27: 84170 | O27: 2 | P27: 20 | Q27: 100 | R27: 50 | S27: =Q27*R27 -> 5000 | T27: =S27/500*P27 -> 200 | U27: 2 | V27: 400 | X27: /ว 067 | Y27: 014/1 | Z27: 42059 | AB27: ชำระแล้ว
A28: 023 | B28: 9 | C28: 05Q024 | D28: PO00001656 | E28: นาง | F28: สุภานัน | G28: พิเศษศุภอรรถ | H28: =E28&" "&F28&" "&G28 -> นาง สุภานัน พิเศษศุภอรรถ | I28: 249 | J28: ม. 9 | K28: ต. คันธุลี | L28: อ. ท่าชนะ | M28: จ. สุราษฎร์ธานี | N28: 84170 | O28: 1 | P28: 3 | Q28: 30 | R28: 100 | S28: =Q28*R28 -> 3000 | T28: =S28/500*P28 -> 18 | U28: 1 | V28: 200 | X28: /ว 067 | Y28: 013/1 | Z28: 42059 | AB28: ชำระแล้ว
A29: 024 | B29: 9 | C29: 05Q016 | D29: PO00001947 | E29: นาย | F29: สุกมล | G29: พิเศษศุภอรรถ | H29: =E29&" "&F29&" "&G29 -> นาย สุกมล พิเศษศุภอรรถ | I29: 73 | J29: ม. 9 | K29: ต. คันธุลี | L29: อ. ท่าชนะ | M29: จ. สุราษฎร์ธานี | N29: 84170 | O29: 1 | P29: 3 | Q29: 40 | R29: 170 | S29: =Q29*R29 -> 6800 | T29: =S29/500*P29 -> 40.8 | U29: 1 | V29: 200 | X29: /ว 067 | Y29: 044/1 | Z29: 42090 | AB29: ชำระแล้ว
A30: 025 | B30: 9 | C30: 05Q014 | D30: PO00001661 | E30: นาย | F30: ศักรินทร์ | G30: สุขเจริญ | H30: =E30&" "&F30&" "&G30 -> นาย ศักรินทร์ สุขเจริญ | I30: 195 | J30: ม. 9 | K30: ต. คันธุลี | L30: อ. ท่าชนะ | M30: จ. สุราษฎร์ธานี | N30: 84170 | O30: 1 | P30: 3 | Q30: 30 | R30: 120 | S30: =Q30*R30 -> 3600 | T30: =S30/500*P30 -> 21.6 | U30: 1 | V30: 200 | X30: /ว 067 | Y30: 052/1 | Z30: 42237 | AB30: ชำระแล้ว
A31: 026 | B31: 9 | C31: 05Q037 | D31: PO00001657 | E31: นาง | F31: อุทัยวรรณ | G31: ช่วยตน | H31: =E31&" "&F31&" "&G31 -> นาง อุทัยวรรณ ช่วยตน | I31: 8 | J31: ม. 9 | K31: ต. คันธุลี | L31: อ. ท่าชนะ | M31: จ. สุราษฎร์ธานี | N31: 84170 | O31: 1 | P31: 3 | Q31: 60 | R31: 100 | S31: =Q31*R31 -> 6000 | T31: =S31/500*P31 -> 36 | U31: 1 | V31: 200 | X31: /ว 067 | Y31: 016/1 | Z31: 42059 | AB31: ชำระแล้ว
A32: 027 | B32: 9 | C32: 05Q029 | D32: PO00001952 | E32: นาย | F32: ประเสริฐ | G32: หนูบุญ | H32: =E32&" "&F32&" "&G32 -> นาย ประเสริฐ หนูบุญ | I32: 249/1 | J32: ม. 9 | K32: ต. คันธุลี | L32: อ. ท่าชนะ | M32: จ. สุราษฎร์ธานี | N32: 84170 | O32: 1 | P32: 3 | Q32: 57 | R32: 80 | S32: =Q32*R32 -> 4560 | T32: =S32/500*P32 -> 27.36 | U32: 1 | V32: 200 | X32: /ว 067 | Y32: 015/1 | Z32: 42059 | AB32: ชำระแล้ว
A33: 053 | B33: 9 | C33: 05Q019 | D33: PO00004462 | E33: นาย | F33: ณฐวัฒน์ | G33: ณ ถลาง | H33: นาย ณฐวัฒน์ ณ ถลาง | I33: 225/1 | J33: ม. 9 | K33: ต. คันธุลี | L33: อ. ท่าชนะ | M33: จ. สุราษฎร์ธานี | N33: 84170 | O33: 1 | P33: 3 | Q33: 100 | R33: 400 | S33: =Q33*R33 -> 40000 | T33: =S33/500*P33 -> 240 | U33: 1 | V33: 240 | X33: /ว 067 | Y33: 042/1 | Z33: 42089 | AB33: ชำระแล้ว
A34: 028 | B34: 9 | C34: 05Q030 | D34: PO00001664 | E34: นาย | F34: มานพ | G34: ตั้งรุ่งเจริญ | H34: =E34&" "&F34&" "&G34 -> นาย มานพ ตั้งรุ่งเจริญ | I34: 16 | J34: ม. 9 | K34: ต. คันธุลี | L34: อ. ท่าชนะ | M34: จ. สุราษฎร์ธานี | N34: 84170 | O34: 2 | P34: 20 | Q34: 100 | R34: 120 | S34: =Q34*R34 -> 12000 | T34: =S34/500*P34 -> 480 | U34: 1 | V34: 480 | X34: /ว 067 | Y34: 018/1 | Z34: 42059 | AB34: ชำระแล้ว
A35: 028 | B35: 9 | C35: 05Q039 | D35: PO00001664 | E35: นาย | F35: มานพ | G35: ตั้งรุ่งเจริญ | H35: =E35&" "&F35&" "&G35 -> นาย มานพ ตั้งรุ่งเจริญ | I35: 16 | J35: ม. 9 | K35: ต. คันธุลี | L35: อ. ท่าชนะ | M35: จ. สุราษฎร์ธานี | N35: 84170 | O35: 2 | P35: 20 | Q35: 90 | R35: 120 | S35: =Q35*R35 -> 10800 | T35: =S35/500*P35 -> 432 | U35: 1 | V35: =T35*U35 -> 432 | X35: /ว 067 | Y35: 018/1 | Z35: 42059 | AB35: ชำระแล้ว
A36: 029 | B36: 9 | C36: 05Q031 | D36: PO00004452 | E36: นาย | F36: ประสาน | G36: ทิตย์ศักดิ์ | H36: =E36&" "&F36&" "&G36 -> นาย ประสาน ทิตย์ศักดิ์ | I36: 208 | J36: ม. 5 | K36: ต. สมอทอง | L36: อ. ท่าชนะ | M36: จ. สุราษฎร์ธานี | N36: 84170 | O36: 1 | P36: 3 | Q36: 120 | R36: 230 | S36: =Q36*R36 -> 27600 | T36: =S36/500*P36 -> 165.6 | U36: 2 | V36: 400 | X36: /ว 067 | Y36: 017/1 | Z36: 42059 | AB36: ชำระแล้ว
A37: 030 | B37: 9 | C37: 05Q005 | D37: PO00004461 | E37: นางสาว | F37: ชุติกาญจน์ | G37: ศิริวัฒนวิจิตร | H37: =E37&" "&F37&" "&G37 -> นางสาว ชุติกาญจน์ ศิริวัฒนวิจิตร | I37: 199 | J37: ม. 9 | K37: ต. คันธุลี | L37: อ. ท่าชนะ | M37: จ. สุราษฎร์ธานี | N37: 84170 | O37: 1 | P37: 3 | Q37: 90 | R37: 170 | S37: =Q37*R37 -> 15300 | T37: =S37/500*P37 -> 91.8 | U37: 1 | V37: 200 | X37: /ว 067 | Y37: 025/1 | Z37: 42074 | AB37: ชำระแล้ว
A38: 031 | B38: 9 | C38: 05Q003 | D38: PO00001643 | E38: นางสาว | F38: อรพรรณ | G38: จันทร์วิไล | H38: =E38&" "&F38&" "&G38 -> นางสาว อรพรรณ จันทร์วิไล | I38: 172 | J38: ม. 9 | K38: ต. คันธุลี | L38: อ. ท่าชนะ | M38: จ. สุราษฎร์ธานี | N38: 84170 | O38: 1 | P38: 3 | Q38: 30 | R38: 200 | S38: =Q38*R38 -> 6000 | T38: =S38/500*P38 -> 36 | U38: 1 | V38: 200 | X38: /ว 067 | Y38: 011/1 | Z38: 42059 | AB38: ชำระแล้ว
A39: 033 | B39: 9 | C39: 05Q034 | D39: PO00004678 | E39: นาง | F39: นิศารัตน์ | G39: พิชิตชลพันธุ์ | H39: =E39&" "&F39&" "&G39 -> นาง นิศารัตน์ พิชิตชลพันธุ์ | I39: 109/5 | J39: ม. 9 | K39: ต. คันธุลี | L39: อ. ท่าชนะ | M39: จ. สุราษฎร์ธานี | N39: 84170 | O39: 1 | P39: 3 | Q39: 100 | R39: 800 | S39: =Q39*R39 -> 80000 | T39: =S39/500*P39 -> 480 | U39: 1 | V39: 480 | W39: 033/1 | X39: /ว 067 | Y39: 050/1 | Z39: 42149 | AB39: ชำระแล้ว
A40: 049 | B40: 9 | C40: 05Q032 | D40: PO00002744 | E40: นางสาว | F40: ขวัญตา | G40: ติ้นระนอง | H40: =E40&" "&F40&" "&G40 -> นางสาว ขวัญตา ติ้นระนอง | I40: 223/2 | J40: ม. 9 | K40: ต. คันธุลี | L40: อ. ท่าชนะ | M40: จ. สุราษฎร์ธานี | N40: 84170 | O40: 1 | P40: 3 | Q40: 100 | R40: 220 | S40: =Q40*R40 -> 22000 | T40: =S40/500*P40 -> 132 | U40: 1 | V40: 200 | W40: 049/1 | X40: /ว 067 | Y40: 026/1 | Z40: 42074 | AB40: ชำระแล้ว
A41: 034 | B41: 9 | C41: 05Q033 | D41: PO00004460 | E41: นาย | F41: บุญช่วย | G41: บุญโพธิ์แก้ว | H41: =E41&" "&F41&" "&G41 -> นาย บุญช่วย บุญโพธิ์แก้ว | I41: 109 | J41: ม. 9 | K41: ต. คันธุลี | L41: อ. ท่าชนะ | M41: จ. สุราษฎร์ธานี | N41: 84170 | O41: 1 | P41: 3 | Q41: 95 | R41: 140 | S41: =Q41*R41 -> 13300 | T41: =S41/500*P41 -> 79.8 | U41: 1 | V41: 200 | X41: /ว 067 | Y41: 027/1 | Z41: 42075 | AB41: ชำระแล้ว
A42: 014 | B42: 9 | C42: 05Q038 | D42: PO00000748 | E42: นาย | F42: ธิรักษ์ | G42: ลิ้มพินิจกุล | H42: =E42&" "&F42&" "&G42 -> นาย ธิรักษ์ ลิ้มพินิจกุล | I42: 81 | J42: ม. 2 | K42: ต. คันธุลี | L42: อ. ท่าชนะ | M42: จ. สุราษฎร์ธานี | N42: 84170 | O42: 2 | P42: 20 | Q42: 60 | R42: 120 | S42: =Q42*R42 -> 7200 | T42: =S42/500*P42 -> 288 | U42: 2 | V42: =T42*U42 -> 576 | X42: /ว 067 | Y42: 043/1 | Z42: 42090 | AB42: ชำระแล้ว
A43: 035 | B43: 9 | C43: 05Q022 | D43: PO00004243 | E43: นาย | F43: ภูษิต | G43: คงมี | H43: =E43&" "&F43&" "&G43 -> นาย ภูษิต คงมี | I43: 204 | J43: ม. 9 | K43: ต. คันธุลี | L43: อ. ท่าชนะ | M43: จ. สุราษฎร์ธานี | N43: 84170 | O43: 1 | P43: 3 | Q43: 130 | R43: 150 | S43: =Q43*R43 -> 19500 | T43: =S43/500*P43 -> 117 | U43: 1 | V43: 200 | X43: /ว 067 | Y43: 020/1 | Z43: 42062 | AB43: ชำระแล้ว
A44: 036 | B44: 9 | C44: 05Q026 | D44: PO00004458 | E44: นาย | F44: สุเมธ | G44: ปานวัน | H44: =E44&" "&F44&" "&G44 -> นาย สุเมธ ปานวัน | I44: 283 | J44: ม. 3 | K44: ต. คันธุลี | L44: อ. ท่าชนะ | M44: จ. สุราษฎร์ธานี | N44: 84170 | O44: 1 | P44: 3 | Q44: 35 | R44: 135 | S44: =Q44*R44 -> 4725 | T44: =S44/500*P44 -> 28.35 | U44: 1 | V44: 200 | W44: 036/1 | X44: /ว 067 | Y44: 024/1 | Z44: 42074 | AB44: ชำระแล้ว
A45: 038 | B45: 12 | C45: 10B002 | D45: PO00003463 | E45: นาง | F45: ทัศณีย์ | G45: คชเวช | H45: =E45&" "&F45&" "&G45 -> นาง ทัศณีย์ คชเวช | I45: 34/6 | J45: ม. 4 | K45: ต. คันธุลี | L45: อ. ท่าชนะ | M45: จ. สุราษฎร์ธานี | N45: 84170 | O45: 1 | P45: 3 | Q45: 100 | R45: 50 | S45: =Q45*R45 -> 5000 | T45: =S45/500*P45 -> 30 | U45: 1 | V45: 200 | W45: 038/1 | X45: /ว 067 | Y45: 036/1 | Z45: 42082 | AB45: ชำระแล้ว
A46: 040 | B46: 12 | C46: 07R004 | D46: CO00000001 | E46: บจก. | F46: ท่าชนะน้ำมันปาล์ม | G46: - | H46: =E46&" "&F46&" "&G46 -> บจก. ท่าชนะน้ำมันปาล์ม - | I46: 182 | J46: ม. 12 | K46: ต. คันธุลี | L46: อ. ท่าชนะ | M46: จ. สุราษฎร์ธานี | N46: 84170 | O46: 1 | P46: 3 | Q46: 120 | R46: 240 | S46: =Q46*R46 -> 28800 | T46: =S46/500*P46 -> 172.8 | U46: 1 | V46: 200 | X46: /ว 067 | Y46: 023/1 | Z46: 42069 | AB46: ชำระแล้ว
A47: 041 | B47: 12 | C47: 07R006 | D47: PO00004581 | E47: นาง | F47: จารีย์ | G47: ชูสกุล | H47: =E47&" "&F47&" "&G47 -> นาง จารีย์ ชูสกุล | I47: 38 | J47: ม. 12 | K47: ต. คันธุลี | L47: อ. ท่าชนะ | M47: จ. สุราษฎร์ธานี | N47: 84170 | O47: 1 | P47: 3 | Q47: 50 | R47: 110 | S47: =Q47*R47 -> 5500 | T47: =S47/500*P47 -> 33 | U47: 1 | V47: 200 | W47: 041/1 | X47: /ว 067 | Y47: 004/1 | Z47: 42037 | AB47: ชำระแล้ว
A48: 042 | B48: 14 | C48: 06B013 | D48: PO00003100 | E48: นาย | F48: กฤษณะ | G48: ปลอดขันเงิน | H48: =E48&" "&F48&" "&G48 -> นาย กฤษณะ ปลอดขันเงิน | I48: 214 | J48: ม. 14 | K48: ต. คันธุลี | L48: อ. ท่าชนะ | M48: จ. สุราษฎร์ธานี | N48: 84170 | O48: 1 | P48: 3 | Q48: 100 | R48: 600 | S48: =Q48*R48 -> 60000 | T48: =S48/500*P48 -> 360 | U48: 1 | V48: 360 | W48: 042/1 | X48: /ว 067 | Y48: 019/1 | Z48: 42060 | AB48: ชำระแล้ว
A49: 042 | B49: 14 | C49: 06B014 | D49: PO00003100 | E49: นาย | F49: กฤษณะ | G49: ปลอดขันเงิน | H49: =E49&" "&F49&" "&G49 -> นาย กฤษณะ ปลอดขันเงิน | I49: 214 | J49: ม. 14 | K49: ต. คันธุลี | L49: อ. ท่าชนะ | M49: จ. สุราษฎร์ธานี | N49: 84170 | O49: 1 | P49: 3 | Q49: 120 | R49: 220 | S49: =Q49*R49 -> 26400 | T49: =S49/500*P49 -> 158.4 | U49: 1 | V49: 200 | W49: 042/1 | X49: /ว 067 | Y49: 019/1 | Z49: 42060 | AB49: ชำระแล้ว
A50: 043 | B50: 14 | C50: 06B006 | D50: PO00001981 | E50: นาง | F50: ปราณี | G50: บุญมรกต | H50: =E50&" "&F50&" "&G50 -> นาง ปราณี บุญมรกต | I50: 32 | J50: ม. 14 | K50: ต. คันธุลี | L50: อ. ท่าชนะ | M50: จ. สุราษฎร์ธานี | N50: 84170 | O50: 1 | P50: 3 | Q50: 90 | R50: 250 | S50: =Q50*R50 -> 22500 | T50: =S50/500*P50 -> 135 | U50: 1 | V50: 200 | W50: 043/1 | X50: /ว 067 | Y50: 021/1 | Z50: 42062 | AB50: ชำระแล้ว
A51: 044 | B51: 9 | C51: 06B004 | D51: CO00000009 | E51: บมจ. | F51: หาดทิพย์ | G51: - | H51: =E51&" "&F51&" "&G51 -> บมจ. หาดทิพย์ - | I51: 87/1 ถ.กาญจนวนิช | J51: ม. - | K51: ต. บ้านพรุ | L51: อ. หาดใหญ่ | M51: จ. สงขลา | N51: 90250 | O51: 3 | P51: 40 | Q51: 120 | R51: 120 | S51: =Q51*R51 -> 14400 | T51: =S51/500*P51 -> 1152 | U51: 1 | V51: 1152 | X51: /ว 067 | Y51: 046/1 | Z51: 42093 | AB51: ชำระแล้ว
A52: 044 | B52: 5 | C52: 03D005 | D52: CO00000009 | E52: บมจ. | F52: หาดทิพย์ | G52: - | H52: =E52&" "&F52&" "&G52 -> บมจ. หาดทิพย์ - | I52: 87/1 ถ.กาญจนวนิช | J52: ม. - | K52: ต. บ้านพรุ | L52: อ. หาดใหญ่ | M52: จ. สงขลา | N52: 90250 | O52: 3 | P52: 40 | Q52: 123 | R52: 245 | S52: =Q52*R52 -> 30135 | T52: =S52/500*P52 -> 2410.8 | U52: 1 | V52: 2411 | X52: /ว 067 | Y52: 046/1 | Z52: 42093 | AB52: ชำระแล้ว
A53: 044 | B53: 5 | C53: 03D004 | D53: CO00000009 | E53: บมจ. | F53: หาดทิพย์ | G53: - | H53: =E53&" "&F53&" "&G53 -> บมจ. หาดทิพย์ - | I53: 87/1 ถ.กาญจนวนิช | J53: ม. - | K53: ต. บ้านพรุ | L53: อ. หาดใหญ่ | M53: จ. สงขลา | N53: 90250 | O53: 3 | P53: 40 | Q53: 123 | R53: 245 | S53: =Q53*R53 -> 30135 | T53: =S53/500*P53 -> 2410.8 | U53: 1 | V53: 2411 | X53: /ว 067 | Y53: 046/1 | Z53: 42093 | AB53: ชำระแล้ว
A54: 044 | B54: 5 | C54: 03D003 | D54: CO00000009 | E54: บมจ. | F54: หาดทิพย์ | G54: - | H54: =E54&" "&F54&" "&G54 -> บมจ. หาดทิพย์ - | I54: 87/1 ถ.กาญจนวนิช | J54: ม. - | K54: ต. บ้านพรุ | L54: อ. หาดใหญ่ | M54: จ. สงขลา | N54: 90250 | O54: 3 | P54: 40 | Q54: 123 | R54: 245 | S54: =Q54*R54 -> 30135 | T54: =S54/500*P54 -> 2410.8 | U54: 1 | V54: 2411 | X54: /ว 067 | Y54: 046/1 | Z54: 42093 | AB54: ชำระแล้ว
A55: 044 | B55: 5 | C55: 03I003 | D55: CO00000009 | E55: บมจ. | F55: หาดทิพย์ | G55: - | H55: =E55&" "&F55&" "&G55 -> บมจ. หาดทิพย์ - | I55: 87/1 ถ.กาญจนวนิช | J55: ม. - | K55: ต. บ้านพรุ | L55: อ. หาดใหญ่ | M55: จ. สงขลา | N55: 90250 | O55: 3 | P55: 40 | Q55: 123 | R55: 245 | S55: =Q55*R55 -> 30135 | T55: =S55/500*P55 -> 2410.8 | U55: 1 | V55: 2411 | X55: /ว 067 | Y55: 046/1 | Z55: 42093 | AB55: ชำระแล้ว
A56: 044 | B56: 5 | C56: 03I005 | D56: CO00000009 | E56: บมจ. | F56: หาดทิพย์ | G56: - | H56: =E56&" "&F56&" "&G56 -> บมจ. หาดทิพย์ - | I56: 87/1 ถ.กาญจนวนิช | J56: ม. - | K56: ต. บ้านพรุ | L56: อ. หาดใหญ่ | M56: จ. สงขลา | N56: 90250 | O56: 3 | P56: 40 | Q56: 120 | R56: 120 | S56: =Q56*R56 -> 14400 | T56: =S56/500*P56 -> 1152 | U56: 1 | V56: 1152 | X56: /ว 067 | Y56: 046/1 | Z56: 42093 | AB56: ชำระแล้ว
A57: 044 | B57: 5 | C57: 03I004 | D57: CO00000009 | E57: บมจ. | F57: หาดทิพย์ | G57: - | H57: =E57&" "&F57&" "&G57 -> บมจ. หาดทิพย์ - | I57: 87/1 ถ.กาญจนวนิช | J57: ม. - | K57: ต. บ้านพรุ | L57: อ. หาดใหญ่ | M57: จ. สงขลา | N57: 90250 | O57: 3 | P57: 40 | Q57: 123 | R57: 245 | S57: =Q57*R57 -> 30135 | T57: =S57/500*P57 -> 2410.8 | U57: 1 | V57: 2411 | X57: /ว 067 | Y57: 046/1 | Z57: 42093 | AB57: ชำระแล้ว
A58: 044 | B58: 12 | C58: 07R002 | D58: CO00000009 | E58: บมจ. | F58: หาดทิพย์ | G58: - | H58: =E58&" "&F58&" "&G58 -> บมจ. หาดทิพย์ - | I58: 87/1 ถ.กาญจนวนิช | J58: ม. - | K58: ต. บ้านพรุ | L58: อ. หาดใหญ่ | M58: จ. สงขลา | N58: 90250 | O58: 3 | P58: 40 | Q58: 123 | R58: 245 | S58: =Q58*R58 -> 30135 | T58: =S58/500*P58 -> 2410.8 | U58: 1 | V58: 2411 | X58: /ว 067 | Y58: 046/1 | Z58: 42093 | AB58: ชำระแล้ว
A59: 045 | B59: 14 | C59: 06B001 | D59: PO00002200 | E59: นาย | F59: กิตติพงศ์ | G59: เจริญวงศ์ | H59: =E59&" "&F59&" "&G59 -> นาย กิตติพงศ์ เจริญวงศ์ | I59: 30 | J59: ม. 7 | K59: ต. คันธุลี | L59: อ. ท่าชนะ | M59: จ. สุราษฎร์ธานี | N59: 84170 | O59: 1 | P59: 3 | Q59: 100 | R59: 180 | S59: =Q59*R59 -> 18000 | T59: =S59/500*P59 -> 108 | U59: 1 | V59: 200 | X59: /ว 067 | Y59: 031/1 | Z59: 42075 | AB59: ชำระแล้ว
A60: 046 | B60: 14 | C60: 06B008 | D60: PO00004695 | E60: นาย | F60: ธงชัย | G60: โทอุบล | H60: =E60&" "&F60&" "&G60 -> นาย ธงชัย โทอุบล | I60: 191/5 | J60: ม. 14 | K60: ต. คันธุลี | L60: อ. ท่าชนะ | M60: จ. สุราษฎร์ธานี | N60: 84170 | O60: 1 | P60: 3 | Q60: 100 | R60: 200 | S60: =Q60*R60 -> 20000 | T60: =S60/500*P60 -> 120 | U60: 1 | V60: 200 | X60: /ว 067 | Y60: 030/1 | Z60: 42075 | AB60: ชำระแล้ว
A61: 047 | B61: 5 | C61: 03J011 | D61: CO00000014 | E61: บมจ. | F61: ซีพีออลล์ | G61: - | H61: =E61&" "&F61&" "&G61 -> บมจ. ซีพีออลล์ - | I61: 159/31 ถ.ดอนนก | J61: ม. 4 | K61: ต. มะขามเตี้ย | L61: อ. เมืองสุราษฎร์ธานี | M61: จ. สุราษฎร์ธานี | N61: 84000 | O61: 3 | P61: 40 | Q61: 100 | R61: 900 | S61: =Q61*R61 -> 90000 | T61: =S61/500*P61 -> 7200 | U61: 1 | V61: 7200 | X61: /ว 067 | Y61: 009/1 | Z61: 42052 | AB61: ชำระแล้ว
A62: 047 | B62: 5 | C62: 03J012 | D62: CO00000014 | E62: บมจ. | F62: ซีพีออลล์ | G62: - | H62: =E62&" "&F62&" "&G62 -> บมจ. ซีพีออลล์ - | I62: 159/31 ถ.ดอนนก | J62: ม. 4 | K62: ต. มะขามเตี้ย | L62: อ. เมืองสุราษฎร์ธานี | M62: จ. สุราษฎร์ธานี | N62: 84000 | O62: 3 | P62: 40 | Q62: 100 | R62: 100 | S62: =Q62*R62 -> 10000 | T62: =S62/500*P62 -> 800 | U62: 2 | V62: 1600 | X62: /ว 067 | Y62: 009/1 | Z62: 42052 | AB62: ชำระแล้ว
A63: 047 | B63: 5 | C63: 03J013 | D63: CO00000014 | E63: บมจ. | F63: ซีพีออลล์ | G63: - | H63: =E63&" "&F63&" "&G63 -> บมจ. ซีพีออลล์ - | I63: 159/31 ถ.ดอนนก | J63: ม. 4 | K63: ต. มะขามเตี้ย | L63: อ. เมืองสุราษฎร์ธานี | M63: จ. สุราษฎร์ธานี | N63: 84000 | O63: 3 | P63: 40 | Q63: 100 | R63: 100 | S63: =Q63*R63 -> 10000 | T63: =S63/500*P63 -> 800 | U63: 1 | V63: 800 | X63: /ว 067 | Y63: 009/1 | Z63: 42052 | AB63: ชำระแล้ว
A64: 054 | B64: 5 | C64: 03J011 | D64: CO00000018 | E64: บจก. | F64: ธนาคารไทยพาณิชย์ จำกัด มหาชน | G64: - | H64: ธนาคารไทยพาณิชย์ จำกัด มหาชน | I64: 466 ถ.ริมทางรถไฟ | J64: ม. 4 | K64: ต. ท่าชนะ | L64: อ. ท่าชนะ | M64: จ. สุราษฎร์ธานี | N64: 84170 | O64: 2 | P64: 20 | Q64: 50 | R64: 120 | S64: =Q64*R64 -> 6000 | T64: =S64/500*P64 -> 240 | U64: 1 | V64: 240 | X64: /ว 067 | Y64: 010/1 | Z64: 42058 | AB64: ชำระแล้ว
A65: 054 | B65: 5 | C65: 03J012 | D65: CO00000018 | E65: บจก. | F65: ธนาคารไทยพาณิชย์ จำกัด มหาชน | G65: - | H65: ธนาคารไทยพาณิชย์ จำกัด มหาชน | I65: 466 ถ.ริมทางรถไฟ | J65: ม. 4 | K65: ต. ท่าชนะ | L65: อ. ท่าชนะ | M65: จ. สุราษฎร์ธานี | N65: 84170 | O65: 3 | P65: 40 | Q65: 90 | R65: 185 | S65: =Q65*R65 -> 16650 | T65: =S65/500*P65 -> 1332 | U65: 1 | V65: 1332 | X65: /ว 067 | Y65: 010/1 | Z65: 42058 | AB65: ชำระแล้ว
A66: 032 | B66: 5 | C66: 03J014 | D66: CO00000002 | E66: บจก. | F66: ธนาคาร กสิกรไทย | G66: - | H66: ธนาคารกสิกรไทย | I66: 298 | J66: ม. 4 | K66: ต. ท่าชนะ | L66: อ. ท่าชนะ | M66: จ. สุราษฎร์ธานี | N66: 84170 | O66: 2 | P66: 20 | Q66: 80 | R66: 80 | S66: =Q66*R66 -> 6400 | T66: =S66/500*P66 -> 256 | U66: 2 | V66: =T66*2 -> 512 | X66: /ว 067 | Y66: 045/1 | Z66: 42093 | AB66: ชำระแล้ว
A67: 032 | B67: 5 | C67: 03J015 | D67: CO00000002 | E67: บจก. | F67: ธนาคาร กสิกรไทย | G67: - | H67: ธนาคารกสิกรไทย | I67: 298 | J67: ม. 4 | K67: ต. ท่าชนะ | L67: อ. ท่าชนะ | M67: จ. สุราษฎร์ธานี | N67: 84170 | O67: 3 | P67: 40 | Q67: 75 | R67: 120 | S67: =Q67*R67 -> 9000 | T67: =S67/500*P67 -> 720 | U67: 3 | V67: =T67*3 -> 2160 | X67: /ว 067 | Y67: 045/1 | Z67: 42093 | AB67: ชำระแล้ว
A68: 032 | B68: 5 | C68: 03J016 | D68: CO00000002 | E68: บจก. | F68: ธนาคาร กสิกรไทย | G68: - | H68: ธนาคารกสิกรไทย | I68: 298 | J68: ม. 4 | K68: ต. ท่าชนะ | L68: อ. ท่าชนะ | M68: จ. สุราษฎร์ธานี | N68: 84170 | O68: 3 | P68: 40 | Q68: 90 | R68: 185 | S68: =Q68*R68 -> 16650 | T68: =S68/500*P68 -> 1332 | U68: 1 | V68: 1332 | X68: /ว 067 | Y68: 045/1 | Z68: 42093 | AB68: ชำระแล้ว
A69: 048 | B69: 8 | C69: 08G007 | D69: CO00000006 | E69: บจก. | F69: ทรูมูฟ | G69: - | H69: =E69&" "&F69&" "&G69 -> บจก. ทรูมูฟ - | I69: 18 อ.ทรูทาวเวอร์ ชั้น 24 | J69: ม. - | K69: แขวง ห้วยขวาง | L69: เขต ห้วยขวาง | M69: จ.กรุงเทพมหานคร | N69: 10310 | O69: 2 | P69: 20 | Q69: 40 | R69: 60 | S69: =Q69*R69 -> 2400 | T69: =S69/500*P69 -> 96 | U69: 1 | V69: 200 | X69: /ว 067 | Y69: 039/1 | Z69: 42082 | AB69: ชำระแล้ว
A70: 048 | B70: 5 | C70: 03B001 | D70: CO00000006 | E70: บจก. | F70: ทรูมูฟ | G70: - | H70: =E70&" "&F70&" "&G70 -> บจก. ทรูมูฟ - | I70: 18 อ.ทรูทาวเวอร์ ถ.รัชดาภิเษก | J70: ม. - | K70: แขวง ห้วยขวาง | L70: เขต ห้วยขวาง | M70: จ. กรุงเทพมหานคร | N70: 84170 | O70: 2 | P70: 20 | Q70: 40 | R70: 60 | S70: =Q70*R70 -> 2400 | T70: =S70/500*P70 -> 96 | U70: 1 | V70: 200 | X70: /ว 067 | Y70: 039/1 | Z70: 42082 | AB70: ชำระแล้ว
V71: =SUM(V2:V70) -> 54864.2

Sheet สรุปป้าย
A1: ป้ายชื่อแถว | B1: ผลรวม ของ ประ เมินภาษี | C1: ชื่อ | D1: บัตร | E1: ไม่มีใน กค1
A2: CO00000001 | B2: 200 | C2: บจก. ท่าชนะน้ำมันปาล์ม - | D2: 0 | E2: =VLOOKUP(A2,รายงาน!$B$6:$I$2496,8,0) -> 200
A3: CO00000002 | B3: 4004 | C3: บจก. ธนาคาร กสิกรไทย - | D3: 0 | E3: =VLOOKUP(A3,รายงาน!$B$6:$I$2496,8,0) -> 4004
A4: CO00000006 | B4: 400 | C4: บจก. ทรูมูฟ - | D4: 0 | E4: =VLOOKUP(A4,รายงาน!$B$6:$I$2496,8,0) -> 400
A5: CO00000009 | B5: 16770 | C5: บมจ. หาดทิพย์ - | D5: 0 | E5: =VLOOKUP(A5,รายงาน!$B$6:$I$2496,8,0) -> #N/A
A6: CO00000010 | B6: 1920 | C6: บมจ. ไทยฮั้วยางพารา - | D6: 0 | E6: =VLOOKUP(A6,รายงาน!$B$6:$I$2496,8,0) -> #N/A
A7: CO00000014 | B7: 9600 | C7: บมจ. ซีพีออลล์ - | D7: 0 | E7: =VLOOKUP(A7,รายงาน!$B$6:$I$2496,8,0) -> #N/A
A8: CO00000015 | B8: 4620 | C8: บจก. จิยางกูรปิโตรเลียม - | D8: 0 | E8: =VLOOKUP(A8,รายงาน!$B$6:$I$2496,8,0) -> 4620
A9: CO00000016 | B9: 896 | C9: บจก. สยามแฮนด์ส - | D9: 0 | E9: =VLOOKUP(A9,รายงาน!$B$6:$I$2496,8,0) -> #N/A
A10: CO00000017 | B10: 200 | C10: บจก. สมอทองน้ำมันปาล์ม - | D10: 0 | E10: =VLOOKUP(A10,รายงาน!$B$6:$I$2496,8,0) -> 200
A11: CO00000018 | B11: 1572 | C11: บจก. ธนาคารไทยพาณิชย์ จำกัด มหาชน - | D11: 0 | E11: =VLOOKUP(A11,รายงาน!$B$6:$I$2496,8,0) -> 1572
A12: PO00000156 | B12: 200 | C12: นาย เกษม พลายจันทร์ | D12: 3840700094498 | E12: =VLOOKUP(A12,รายงาน!$B$6:$I$2496,8,0) -> 200
A13: PO00000246 | B13: 200 | C13: นาย วินิจ กล่อมตุ้น | D13: 3840700142310 | E13: =VLOOKUP(A13,รายงาน!$B$6:$I$2496,8,0) -> 200
A14: PO00000585 | B14: 200 | C14: นาย ประเสริฐ แสงสุวรรณ | D14: 3840700134040 | E14: =VLOOKUP(A14,รายงาน!$B$6:$I$2496,8,0) -> 200
A15: PO00000748 | B15: 576 | C15: นาย ธิรักษ์ ลิ้มพินิจกุล | D15: 3840700170585 | E15: =VLOOKUP(A15,รายงาน!$B$6:$I$2496,8,0) -> 576
A16: PO00001271 | B16: 200 | C16: นาง อุระ เกิดรอด | D16: 3800400111991 | E16: =VLOOKUP(A16,รายงาน!$B$6:$I$2496,8,0) -> 200
A17: PO00001584 | B17: 386 | C17: นาย วัฒนา สำลี | D17: 0 | E17: =VLOOKUP(A17,รายงาน!$B$6:$I$2496,8,0) -> 386
A18: PO00001643 | B18: 200 | C18: นางสาว อรพรรณ จันทร์วิไล | D18: 3840700120961 | E18: =VLOOKUP(A18,รายงาน!$B$6:$I$2496,8,0) -> 200
A19: PO00001650 | B19: 200 | C19: นาย สุเทพ ไกรราญ | D19: 0 | E19: =VLOOKUP(A19,รายงาน!$B$6:$I$2496,8,0) -> 200
A20: PO00001656 | B20: 200 | C20: นางสาว สุภานัน พิเศษศุภอรรถ | D20: 0 | E20: =VLOOKUP(A20,รายงาน!$B$6:$I$2496,8,0) -> 200
A21: PO00001657 | B21: 200 | C21: นาง อุทัยวรรณ ช่วยตน | D21: 0 | E21: =VLOOKUP(A21,รายงาน!$B$6:$I$2496,8,0) -> 200
A22: PO00001661 | B22: 200 | C22: นาง ศักรินทร์ สุขเจริญ | D22: 0 | E22: =VLOOKUP(A22,รายงาน!$B$6:$I$2496,8,0) -> 200
A23: PO00001664 | B23: 912 | C23: นาย มานพ ตั้งรุ่งเจริญ | D23: 0 | E23: =VLOOKUP(A23,รายงาน!$B$6:$I$2496,8,0) -> 912
A24: PO00001673 | B24: 336 | C24: นาย สมศักดิ์ บัวเอี่ยม | D24: 0 | E24: =VLOOKUP(A24,รายงาน!$B$6:$I$2496,8,0) -> 336
A25: PO00001684 | B25: 200 | C25: นาย สมเดช วรลักษณ์ภักดี | D25: 3860100883831 | E25: =VLOOKUP(A25,รายงาน!$B$6:$I$2496,8,0) -> 200
A26: PO00001947 | B26: 200 | C26: นาย สุกมล พิเศษศุภอรรถ | D26: 0 | E26: =VLOOKUP(A26,รายงาน!$B$6:$I$2496,8,0) -> 200
A27: PO00001952 | B27: 200 | C27: นาย ประเสริฐ หนูบุญ | D27: 3840700113476 | E27: =VLOOKUP(A27,รายงาน!$B$6:$I$2496,8,0) -> 200
A28: PO00001981 | B28: 200 | C28: นาง ปราณี บุญมรกต | D28: 0 | E28: =VLOOKUP(A28,รายงาน!$B$6:$I$2496,8,0) -> 200
A29: PO00002200 | B29: 200 | C29: นาย กิตติพงศ์ เจริญวงศ์ | D29: 0 | E29: =VLOOKUP(A29,รายงาน!$B$6:$I$2496,8,0) -> 200
A30: PO00002744 | B30: 200 | C30: นางสาว ขวัญตา ติ้นระนอง | D30: 3860500148535 | E30: =VLOOKUP(A30,รายงาน!$B$6:$I$2496,8,0) -> 200
A31: PO00003069 | B31: 900 | C31: นาย สุทัย ภู่ศิลป์ | D31: 0 | E31: =VLOOKUP(A31,รายงาน!$B$6:$I$2496,8,0) -> 900
A32: PO00003100 | B32: 560 | C32: นาย กฤษณะ ปลอดขันเงิน | D32: 0 | E32: =VLOOKUP(A32,รายงาน!$B$6:$I$2496,8,0) -> 560
A33: PO00003361 | B33: 1480 | C33: นาง สมร เหยียบสูญ | D33: 3840700123170 | E33: =VLOOKUP(A33,รายงาน!$B$6:$I$2496,8,0) -> 1480
A34: PO00003463 | B34: 200 | C34: นาง ทัศณีย์ คชเวช | D34: 0 | E34: =VLOOKUP(A34,รายงาน!$B$6:$I$2496,8,0) -> 200
A35: PO00004133 | B35: 448 | C35: นาง นิภาวรรณ เครือหงษ์ | D35: 1840700005031 | E35: =VLOOKUP(A35,รายงาน!$B$6:$I$2496,8,0) -> 448
A36: PO00004144 | B36: 200 | C36: นาย อนุมาศ บัวเอี่ยม | D36: 0 | E36: =VLOOKUP(A36,รายงาน!$B$6:$I$2496,8,0) -> 200
A37: PO00004243 | B37: 200 | C37: นาย ภูษิต คงมี | D37: 1800400049504 | E37: =VLOOKUP(A37,รายงาน!$B$6:$I$2496,8,0) -> 200
A38: PO00004452 | B38: 400 | C38: นาย ประสาน ทิตย์ศักดิ์ | D38: 0 | E38: =VLOOKUP(A38,รายงาน!$B$6:$I$2496,8,0) -> 400
A39: PO00004454 | B39: 400 | C39: นาย อรุณรัตน์ รุ่งโรจน์ | D39: 0 | E39: =VLOOKUP(A39,รายงาน!$B$6:$I$2496,8,0) -> 400
A40: PO00004458 | B40: 200 | C40: นาย สุเมธ ปานวัน | D40: 0 | E40: =VLOOKUP(A40,รายงาน!$B$6:$I$2496,8,0) -> 200
A41: PO00004460 | B41: 200 | C41: นาย บุญช่วย บุญโพธิ์แก้ว | D41: 3840700148946 | E41: =VLOOKUP(A41,รายงาน!$B$6:$I$2496,8,0) -> 200
A42: PO00004461 | B42: 200 | C42: นางสาว ชุติกาญจน์ ศิริวัฒนวิจิตร | D42: 3839900368468 | E42: =VLOOKUP(A42,รายงาน!$B$6:$I$2496,8,0) -> 200
A43: PO00004462 | B43: 240 | C43: นาย ณฐวัฒน์ ณ ถลาง | D43: 3110400730611 | E43: =VLOOKUP(A43,รายงาน!$B$6:$I$2496,8,0) -> 240
A44: PO00004581 | B44: 200 | C44: นาง จารีย์ ชูสกุล | D44: 0 | E44: =VLOOKUP(A44,รายงาน!$B$6:$I$2496,8,0) -> 200
A45: PO00004678 | B45: 480 | C45: นาง นิศารัตน์ นุ้ยปลี | D45: 3840700111252 | E45: =VLOOKUP(A45,รายงาน!$B$6:$I$2496,8,0) -> 480
A46: PO00004690 | B46: 200 | C46: นางสาว สุจินต์ จันกลาง | D46: 0 | E46: =VLOOKUP(A46,รายงาน!$B$6:$I$2496,8,0) -> 200
A47: PO00004695 | B47: 200 | C47: นาย ธงชัย โทอุบล | D47: 0 | E47: =VLOOKUP(A47,รายงาน!$B$6:$I$2496,8,0) -> 200
A48: PO00004756 | B48: 606 | C48: นางสาว ขนิษฐา ศิลป์สอน | D48: 0 | E48: =VLOOKUP(A48,รายงาน!$B$6:$I$2496,8,0) -> 606
A49: PO00004757 | B49: 1958.2 | C49: นาย กิจจา ธราพร | D49: 0 | E49: =VLOOKUP(A49,รายงาน!$B$6:$I$2496,8,0) -> 1958.2
A50: PO00004761 | B50: 200 | C50: นาย สุวินัย บัวเอี่ยม | D50: 0 | E50: =VLOOKUP(A50,รายงาน!$B$6:$I$2496,8,0) -> 200
A51: ผลรวมทั้งหมด | B51: 54864.2
